Workbook

Sheet PLANILHA ORÇ.
A1: PREFEITURA MUNICIPAL DE VILA PAVÃO
A2: OBRA: AMPLIAÇÃO DA ESCOLA LUIZA DE SOUZA BARROS DE TODOS OS SANTOS, VILA PAVÃO, ES
A3: PLANILHA ORÇAMENTÁRIA
A5: LOCAL: | B5: RUA: ARMANDO LOBATO, TODOS OS SANTOS, VILA PAVÃO/ES | F5: BDI: | G5: =BDI!C37 -> 0.31822272
F6: BDI Diferenciado: | G6: 0.1557
A7: TABELA: | B7: SINAPI | F7: DATA BASE: | G7: 45047
B8: DER-ES | F8: DATA BASE: | G8: 45047
B9: SEINFRA | F9: DATA BASE: | G9: 44256
A11: ITEM | B11: CODIGO | C11: TABELA | D11: ESPECIFICAÇÕES DOS SERVIÇOS | E11: UND | F11: QUANT. | G11: UNIT. | H11: TOTAL | I11: VALORES SEM BDI
A12: 1.0 | D12: SERVIÇOES PRELIMINARES
A13: 1.1 | B13: 10501 | C13: DER-ES | D13: Locação de obra com gabarito de madeira | E13: m² | F13: ='MEMÓRIA DE CALC.'!F7 -> 123.23 | G13: =ROUND(I13+(I13*$G$5),2) -> 15.33 | H13: =ROUND(G13*F13,2) -> 1889.12 | I13: 11.63 | J13: =H13/$H$133 -> 0.0039965113
A14: 1.2 | B14: 20305 | C14: DER-ES | D14: Placa de obra nas dimensões de 2.0 m, padrão DER | E14: m² | F14: ='MEMÓRIA DE CALC.'!H10 -> 6 | G14: =ROUND(I14+(I14*$G$5),2) -> 443.38 | H14: =ROUND(G14*F14,2) -> 2660.28 | I14: 336.35 | J14: =H14/$H$133 -> 0.0056279321
A15: 1.3 | B15: 20702 | C15: DER-ES | D15: Barracão para almoxarifado área de 10.90m2, de chapa de compensado de 12mm e pontalete 8x8cm, piso cimentado e cobertura de telhas de fibrocimento de 6mm, incl. ponto de luz, conf. projeto (1 utilização) | E15: m² | F15: ='MEMÓRIA DE CALC.'!H13 -> 10.9 | G15: =ROUND(I15+(I15*$G$5),2) -> 845.64 | H15: =ROUND(G15*F15,2) -> 9217.48 | I15: 641.5 | J15: =H15/$H$133 -> 0.019499959
A16: 1.4 | B16: 20703 | C16: DER-ES | D16: Barracão para depósito de cimento área de 10.90m2, de chapa de compensado 12mm e pontaletes 8x8cm, piso cimentado e cobertura de telhas de fibrocimento de 6mm, inclusive ponto de luz, conf. projeto (1 vez) | E16: m³ | F16: ='MEMÓRIA DE CALC.'!H16 -> 10.9 | G16: =ROUND(I16+(I16*$G$5),2) -> 739.85 | H16: =ROUND(G16*F16,2) -> 8064.37 | I16: 561.25 | J16: =H16/$H$133 -> 0.017060507
A17: 1.6 | B17: 20350 | C17: DER-ES | D17: Tapume Telha Metálica Ondulada 0,50mm Branca h=2,20m, incl. montagem estr. mad. 8"x8", c/adesivo "IOPES" 60x60cm a cada 10m, incl. faixas pint. esmalte sint. cores azul c/ h=30cm e rosa c/ h=10cm | E17: m | F17: ='MEMÓRIA DE CALC.'!F20 -> 50 | G17: =ROUND(I17+(I17*$G$5),2) -> 258.75 | H17: =ROUND(G17*F17,2) -> 12937.5 | I17: 196.29 | J17: =H17/$H$133 -> 0.027369815
A18: SubTotal (1.0): | H18: =SUM(H13:H17) -> 34768.75
A19: 2.0 | D19: MOVIMENTO DE TERRA | J19: =H19/$H$133 -> 0
A20: 2.1 | B20: 30101 | C20: DER-ES | D20: Escavação manual em material de 1a. categoria, até 1.50 m de profundidade | E20: m³ | F20: =ROUND('MEMÓRIA DE CALC.'!J45,2) -> 20.62 | G20: =ROUND(I20+(I20*$G$5),2) -> 72.32 | H20: =ROUND(F20*G20,2) -> 1491.24 | I20: 54.86 | J20: =H20/$H$133 -> 0.0031547797
A21: 2.2 | B21: 30201 | C21: DER-ES | D21: Reaterro apiloado de cavas de fundação, em camadas de 20 cm | E21: m³ | F21: ='MEMÓRIA DE CALC.'!H48 -> 14.30565 | G21: =ROUND(I21+(I21*$G$5),2) -> 77.88 | H21: =ROUND(F21*G21,2) -> 1114.12 | I21: 59.08 | J21: =H21/$H$133 -> 0.0023569668
A22: SubTotal (2.0): | H22: =SUM(H20:H21) -> 2605.36
A23: 3.0 | D23: INFRA-ESTRUTURA | J23: =H23/$H$133 -> 0
A24: 3.1 | B24: 40231 | C24: DER-ES | D24: Fornecimento, preparo e aplicação de concreto magro com consumo mínimo de cimento de 250 kg/m3 (brita 1 e 2) - (5% de perdas já incluído no custo) | E24: m³ | F24: =ROUND('MEMÓRIA DE CALC.'!J73,2) -> 1.19 | G24: =ROUND(I24+(I24*$G$5),2) -> 857.04 | H24: =ROUND(G24*F24,2) -> 1019.88 | I24: 650.15 | J24: =H24/$H$133 -> 0.0021575982
A25: 3.2 | B25: 40243 | C25: DER-ES | D25: Fornecimento, dobragem e colocação em fôrma, de armadura CA-50 A média, diâmetro de 6.3 a 10.0 mm | E25: kg | F25: ='MEMÓRIA DE CALC.'!I105 -> 476.74603 | G25: =ROUND(I25+(I25*$G$5),2) -> 14.78 | H25: =ROUND(G25*F25,2) -> 7046.31 | I25: 11.21 | J25: =H25/$H$133 -> 0.01490676
A26: 3.3 | B26: 40246 | C26: DER-ES | D26: Fornecimento, dobragem e colocação em fôrma, de armadura CA-60 B fina, diâmetro de 4.0 a 7.0mm | E26: kg | F26: ='MEMÓRIA DE CALC.'!K133 -> 77.14476 | G26: =ROUND(I26+(I26*$G$5),2) -> 15.49 | H26: =ROUND(G26*F26,2) -> 1194.97 | I26: 11.75 | J26: =H26/$H$133 -> 0.0025280083
A27: 3.4 | B27: 40238 | C27: DER-ES | D27: Fôrma de chapa compensada resinada 12mm, levando-se em conta a utilização 3 vezes (incluido o material, corte, montagem, escoramento e desfôrma) | E27: m² | F27: =ROUND('MEMÓRIA DE CALC.'!J159,2) -> 66.58 | G27: =ROUND(I27+(I27*$G$5),2) -> 113.99 | H27: =ROUND(G27*F27,2) -> 7589.45 | I27: 86.47 | J27: =H27/$H$133 -> 0.016055795
A28: 3.5 | B28: 40237 | C28: DER-ES | D28: Fornecimento, preparo e aplicação de concreto Fck = 25 MPa (com brita 1 e 2) - (5% de perdas já incluído no custo) | E28: m³ | F28: =ROUND('MEMÓRIA DE CALC.'!J186,2) -> 6.32 | G28: =ROUND(I28+(I28*$G$5),2) -> 945.35 | H28: =ROUND(G28*F28,2) -> 5974.61 | I28: 717.14 | J28: =H28/$H$133 -> 0.012639534
A29: SubTotal (3.0): | H29: =SUM(H24:H28) -> 22825.22
A30: 4.0 | D30: SUPER-ESTRUTURA | J30: =H30/$H$133 -> 0
A31: 4.1 | B31: 101792 | C31: SINAPI | D31: Escoramento de fôrmas de laje em madeira não aparelhada, pé-direito simples, incluso travamento, 4 utilizações. Af_09/2020 | E31: m³ | F31: ='MEMÓRIA DE CALC.'!H190 -> 15.18 | G31: =ROUND(I31+(I31*$G$5),2) -> 22.52 | H31: =ROUND(G31*F31,2) -> 341.85 | I31: 17.08 | J31: =H31/$H$133 -> 0.00072319778
A32: 4.2 | B32: 40601 | C32: DER-ES | D32: Laje pré-fabricada treliçada para forro simples revestido, vão até 3.5m, capeamento 2cm, esp. 10cm, Fck = 150Kg/cm2 | E32: m² | F32: ='MEMÓRIA DE CALC.'!F193 -> 5.06 | G32: =ROUND(I32+(I32*$G$5),2) -> 158.89 | H32: =ROUND(G32*F32,2) -> 803.98 | I32: 120.53 | J32: =H32/$H$133 -> 0.0017008529
A33: 4.3 | B33: 40243 | C33: DER-ES | D33: Fornecimento, dobragem e colocação em fôrma, de armadura CA-50 A média, diâmetro de 6.3 a 10.0 mm | E33: kg | F33: ='MEMÓRIA DE CALC.'!I218 -> 485.25693 | G33: =ROUND(I33+(I33*$G$5),2) -> 14.78 | H33: =ROUND(G33*F33,2) -> 7172.1 | I33: 11.21 | J33: =H33/$H$133 -> 0.015172873
A34: 4.4 | B34: 40246 | C34: DER-ES | D34: Fornecimento, dobragem e colocação em fôrma, de armadura CA-60 B fina, diâmetro de 4.0 a 7.0mm | E34: kg | F34: ='MEMÓRIA DE CALC.'!K244 -> 99.918896 | G34: =ROUND(I34+(I34*$G$5),2) -> 15.49 | H34: =ROUND(G34*F34,2) -> 1547.74 | I34: 11.75 | J34: =H34/$H$133 -> 0.0032743078
A35: 4.5 | B35: 40238 | C35: DER-ES | D35: Fôrma em chapa de madeira compensada plastificada 12mm para estrutura em geral, 5 reaproveitamentos, reforçada com sarrafos de madeira 2.5x10cm (incl material, corte, montagem, escoras em eucalipto e desforma) | E35: m² | F35: ='MEMÓRIA DE CALC.'!K266 -> 92.142 | G35: =ROUND(I35+(I35*$G$5),2) -> 137.02 | H35: =ROUND(G35*F35,2) -> 12625.3 | I35: 103.94 | J35: =H35/$H$133 -> 0.026709343
A36: 4.6 | B36: 40237 | C36: DER-ES | D36: Fornecimento e aplicação de concreto USINADO Fck=25 MPa - considerando BOMBEAMENTO (5% de perdas já incluído no custo) (6% de taxa p/concr.bombeavel) | E36: m³ | F36: ='MEMÓRIA DE CALC.'!J289 -> 5.77115 | G36: =ROUND(I36+(I36*$G$5),2) -> 820.74 | H36: =ROUND(G36*F36,2) -> 4736.61 | I36: 622.61 | J36: =H36/$H$133 -> 0.010020494
A37: SubTotal (4.0): | H37: =SUM(H31:H36) -> 27227.58
A38: 5.0 | D38: VERGA/ALVENARIA | J38: =H38/$H$133 -> 0
A39: 5.1 | B39: 50608 | C39: DER-ES | D39: Alvenaria de blocos cerâmicos 10 furos 10x20x20cm, assentados c/argamassa de cimento, cal hidratada CH1 e areia traço 1:0,5:8, juntas 12mm e espessura das paredes, s/revestimento, 20cm (bloco comprado fábrica,posto obra) | E39: m² | F39: =ROUND('MEMÓRIA DE CALC.'!J348,2) -> 233.16 | G39: =ROUND(I39+(I39*$G$5),2) -> 150 | H39: =ROUND(G39*F39,2) -> 34974 | I39: 113.79 | J39: =H39/$H$133 -> 0.07398894
A40: 5.2 | B40: 50301 | C40: DER-ES | D40: Verga/contraverga reta de concreto armado 10 x 5 cm, Fck = 15 MPa, inclusive forma, armação e desforma | E40: m | F40: ='MEMÓRIA DE CALC.'!J366 -> 56.4 | G40: =ROUND(I40+(I40*$G$5),2) -> 12.97 | H40: =ROUND(G40*F40,2) -> 731.51 | I40: 9.84 | J40: =H40/$H$133 -> 0.0015475396
A41: SubTotal (5.0): | H41: =SUM(H39:H40) -> 35705.51
A42: 6.0 | D42: ESQUADRIAS DE MADEIRAS | J42: =H42/$H$133 -> 0
...

Sheet BDI
A1: DETALHAMENTO DO BDI
A3: PROPONENTE: | B3: MUNICÍPIO DE VILA PAVÃO - CNPJ:36.350.346/0001-67
A4: OBRA: | B4: AMPLIAÇÃO DA ESCOLA LUIZA DE SOUZA BARROS DE TODOS OS SANTOS, VILA PAVÃO, ES
A6: 1. Regime de Contribuição Previdenciária
B8: Sem Desoneração
A10: 2. Tipo de Intervenção
B12: Edificações
A14: 3. Incidências sobre o custo
B16: Administração Central - A | C16: 0.0406 | D16: %
B17: Administração Local - B | C17: 0.0819 | D17: %
B18: Riscos, Seguros e Garantias Contratuais - E | C18: 0.01 | D18: %
B19: Despesas e Encargos Financeiros - D | C19: 0.0061 | D19: %
B21: Lucro - F | C21: 0.08 | D21: %
A23: 4 – Incidências sobre o preço de venda
B25: Despesas Tributárias - C | C25: 0.0665 | D25: %
B27: Percentual da base de cálculo para o ISS: | C27: 100 | D27: %
B28: Alíquota do ISS (sobre a base de cálculo): | C28: 3 | D28: %
B29: Alíquota Efetivado do ISS | C29: =C28*C27/100 -> 3 | D29: %
B31: COFINS | C31: 3 | D31: %
B32: PIS | C32: 0.65 | D32: %
B33: INSS | C33: =IF(B8="Com Desoneração",4.5,0) -> 0 | D33: %
A35: 5 – Demonstrativo de cálculo do BDI
C37: =(((1+C16+C17+C18)*(1+C19)*(1+C21))/(1-C25))-1 -> 0.31822272
A40: Declaro para os devidos fins que o regime de Contribuição Previdenciária adotado para
A41: =CONCATENATE("elaboração do orçamento foi ",B8,", e que esta é a alternativa mais adequada para ") -> elaboração do orçamento foi Sem Desoneração, e que esta é a alternativa mais adequada para
A42: a Administração Pública.
B46: Graziani Sarde
B47: Eng. Civil CREA-ES 11.150/D

Sheet MEMÓRIA DE CALC.
A1: PREFEITURA MUNICIPAL DE VILA PAVÃO
A2: OBRA: AMPLIAÇÃO DA ESCOLA LUIZA DE SOUZA BARROS DE TODOS OS SANTOS, VILA PAVÃO, ES
A3: MEMORIAL DE CÁLCULO
A4: 1.0 | B4: SERVIÇOES PRELIMINARES
A5: 1.1 | B5: Locação de obra com gabarito de madeira | F5: Área (m²)
B6: Área de Construção | F6: 123.23
D7: Área Total (m²): | F7: =SUM(F6:F6) -> 123.23
A9: 1.2 | B9: Placa da obra | F9: Comprimento | G9: Largura | H9: Área (m²)
F10: 3 | G10: 2 | H10: =F10*G10 -> 6
A12: 1.3 | B12: Barracão para almoxarifado | F12: Comprimento | G12: Largura | H12: Área (m²)
F13: 3.5 | G13: =H13/F13 -> 3.1142857 | H13: 10.9
A15: 1.4 | B15: Barracão para depósito de cimento | F15: Comprimento | G15: Largura | H15: Área (m²)
F16: 3.5 | G16: =H16/F16 -> 3.1142857 | H16: 10.9
A18: 1.5 | B18: Tapume | F18: Comprimento
B19: Frente | F19: 50
E20: Total(m): | F20: =SUM(F19:F19) -> 50
A22: 2.0 | B22: MOVIMENTO DE TERRA
A23: 2.1 | B23: Escavação manual | F23: Comprimento | G23: Largura | H23: Altura | I23: Quantidade de Sapatas | J23: Volume (m³)
B24: Sapatas (Ver Projeto Estrutural)
B25: Escavação da Sapata (S1=S2=S3=S4=S5=S6=S7=S8=S9=S10=S11=S12=S13=S14=S15=S16=S17) | F25: 0.8 | G25: 0.8 | H25: 1.3 | I25: 17 | J25: =F25*G25*H25*I25 -> 14.144
I26: SubTotal (m³): | J26: =SUM(J25:J25) -> 14.144
B28: Escavação das Cintas (Projeto Estrutural) | F28: Comprimento | G28: Largura | H28: Altura | I28: Quantidade de cintas | J28: Volume (m³)
B29: Escavação da Cinta 01 | F29: 14.75 | G29: 0.25 | H29: 0.3 | I29: 1 | J29: =F29*G29*H29 -> 1.10625
B30: Escavação da Cinta 02 | F30: 2.3 | G30: 0.25 | H30: 0.3 | I30: 1 | J30: =F30*G30*H30 -> 0.1725
B31: Escavação da Cinta 03 | F31: 5.1 | G31: 0.25 | H31: 0.3 | I31: 1 | J31: =F31*G31*H31 -> 0.3825
B32: Escavação da Cinta 04 | F32: 1.21 | G32: 0.25 | H32: 0.3 | I32: 1 | J32: =F32*G32*H32 -> 0.09075
B33: Escavação da Cinta 05 | F33: 9.15 | G33: 0.25 | H33: 0.3 | I33: 1 | J33: =F33*G33*H33 -> 0.68625
B34: Escavação da Cinta 06 | F34: 3.1 | G34: 0.25 | H34: 0.3 | I34: 1 | J34: =F34*G34*H34 -> 0.2325
B35: Escavação da Cinta 07 | F35: 13.82 | G35: 0.25 | H35: 0.3 | I35: 1 | J35: =F35*G35*H35 -> 1.0365
B36: Escavação da Cinta 08 | F36: 4.65 | G36: 0.25 | H36: 0.3 | I36: 1 | J36: =F36*G36*H36 -> 0.34875
B37: Escavação da Cinta 09 | F37: 4.25 | G37: 0.25 | H37: 0.3 | I37: 1 | J37: =F37*G37*H37 -> 0.31875
B38: Escavação da Cinta 10 | F38: 4.25 | G38: 0.25 | H38: 0.3 | I38: 1 | J38: =F38*G38*H38 -> 0.31875
B39: Escavação da Cinta 11 | F39: 4.65 | G39: 0.25 | H39: 0.3 | I39: 1 | J39: =F39*G39*H39 -> 0.34875
B40: Escavação da Cinta 12 | F40: 8.75 | G40: 0.25 | H40: 0.3 | I40: 1 | J40: =F40*G40*H40 -> 0.65625
... B43: Escavação da Cinta 15 | F43: 2.75 | G43: 0.25 | H43: 0.3 | I43: 1 | J43: =F43*G43*H43 -> 0.20625
I44: SubTotal (m³): | J44: =SUM(J29:J43) -> 6.477
H45: Total Escavação (m³): | J45: =J44+J26 -> 20.621
A47: 2.2 | B47: Reaterro apiloado | F47: Total Escavação | G47: Volume de Concreto | H47: Reaterro (m³)
B48: Sapatas + Cintas + Pilaretes | F48: =J45 -> 20.621 | G48: =J186 -> 6.31535 | H48: =F48-G48 -> 14.30565
A50: 3.0 | B50: INFRA-ESTRUTURA
...

Sheet CRONOGRAMA
A1: PREFEITURA MUNICIPAL DE VILA PAVÃO
A2: OBRA: AMPLIAÇÃO DA ESCOLA LUIZA DE SOUZA BARROS DE TODOS OS SANTOS, VILA PAVÃO, ES
A3: ITEM | B3: SERVIÇO | C3: VALORES DO ITEM | E3: MÊS 01 | F3: MÊS 02 | G3: MÊS 03 | H3: MÊS 04 | I3: MÊS 05 | J3: MÊS 06 | K3: MÊS 07 | L3: Total
C4: R$ | D4: %
A5: 1 | B5: ='PLANILHA ORÇ.'!D12 -> SERVIÇOES PRELIMINARES | C5: ='PLANILHA ORÇ.'!H18 -> 34768.75 | D5: =C5/C41 -> 0.073554725 | E5: =$C5*E6 -> 34768.75 | F5: =$C5*F6 -> 0 | G5: =$C5*G6 -> 0 | H5: =$C5*H6 -> 0 | I5: =$C5*I6 -> 0 | J5: =$C5*J6 -> 0 | K5: =$C5*K6 -> 0 | L5: =SUM(E5:K5) -> 34768.75 | M5: =C5-(SUM(E5:L5)) -> -34768.75
E6: 1 | F6: 0 | G6: 0 | H6: 0 | I6: 0 | J6: 0 | K6: 0 | M6: =SUM(E6:L6) -> 1
A7: 2 | B7: ='PLANILHA ORÇ.'!D19 -> MOVIMENTO DE TERRA | C7: ='PLANILHA ORÇ.'!H22 -> 2605.36 | D7: =C7/C41 -> 0.0055117466 | E7: =$C7*E8 -> 2605.36 | F7: =$C7*F8 -> 0 | G7: =$C7*G8 -> 0 | H7: =$C7*H8 -> 0 | I7: =$C7*I8 -> 0 | J7: =$C7*J8 -> 0 | K7: =$C7*K8 -> 0 | L7: =SUM(E7:K7) -> 2605.36 | M7: =C7-(SUM(E7:L7)) -> -2605.36
E8: 1 | F8: 0 | G8: 0 | H8: 0 | I8: 0 | J8: 0 | K8: 0 | M8: =SUM(E8:L8) -> 1
A9: 3 | B9: ='PLANILHA ORÇ.'!D23 -> INFRA-ESTRUTURA | C9: ='PLANILHA ORÇ.'!H29 -> 22825.22 | D9: =C9/C41 -> 0.048287695 | E9: =$C9*E10 -> 2282.522 | F9: =$C9*F10 -> 20542.698 | G9: =$C9*G10 -> 0 | H9: =$C9*H10 -> 0 | I9: =$C9*I10 -> 0 | J9: =$C9*J10 -> 0 | K9: =$C9*K10 -> 0 | L9: =SUM(E9:K9) -> 22825.22 | M9: =C9-(SUM(E9:L9)) -> -22825.22
E10: 0.1 | F10: 0.9 | G10: 0 | H10: 0 | I10: 0 | J10: 0 | K10: 0 | M10: =SUM(E10:L10) -> 1
A11: 4 | B11: ='PLANILHA ORÇ.'!D30 -> SUPER-ESTRUTURA | C11: ='PLANILHA ORÇ.'!H37 -> 27227.58 | D11: =C11/C41 -> 0.057601069 | E11: =$C11*E12 -> 0 | F11: =$C11*F12 -> 13613.79 | G11: =$C11*G12 -> 13613.79 | H11: =$C11*H12 -> 0 | I11: =$C11*I12 -> 0 | J11: =$C11*J12 -> 0 | K11: =$C11*K12 -> 0 | L11: =SUM(E11:K11) -> 27227.58 | M11: =C11-(SUM(E11:L11)) -> -27227.58
E12: 0 | F12: 0.5 | G12: 0.5 | H12: 0 | I12: 0 | J12: 0 | K12: 0 | M12: =SUM(E12:L12) -> 1
A13: 5 | B13: VERGA/ALVENARIA | C13: ='PLANILHA ORÇ.'!H41 -> 35705.51 | D13: =C13/C41 -> 0.07553648 | E13: =$C13*E14 -> 0 | F13: =$C13*F14 -> 0 | G13: =$C13*G14 -> 17852.755 | H13: =$C13*H14 -> 17852.755 | I13: =$C13*I14 -> 0 | J13: =$C13*J14 -> 0 | K13: =$C13*K14 -> 0 | L13: =SUM(E13:K13) -> 35705.51 | M13: =C13-(SUM(E13:L13)) -> -35705.51
E14: 0 | F14: 0 | G14: 0.5 | H14: 0.5 | I14: 0 | J14: 0 | K14: 0 | M14: =SUM(E14:L14) -> 1
A15: 6 | B15: ESQUADRIAS DE MADEIRAS | C15: ='PLANILHA ORÇ.'!H45 -> 9814 | D15: =C15/C41 -> 0.020761922 | E15: =$C15*E16 -> 0 | F15: =$C15*F16 -> 0 | G15: =$C15*G16 -> 0 | H15: =$C15*H16 -> 4907 | I15: =$C15*I16 -> 4907 | J15: =$C15*J16 -> 0 | K15: =$C15*K16 -> 0 | L15: =SUM(E15:K15) -> 9814 | M15: =C15-(SUM(E15:L15)) -> -9814
E16: 0 | F16: 0 | G16: 0 | H16: 0.5 | I16: 0.5 | J16: 0 | K16: 0 | M16: =SUM(E16:L16) -> 1
A17: 7 | B17: ESQUADRIAS DE METAL E VIDRO | C17: ='PLANILHA ORÇ.'!H51 -> 19535.14 | D17: =C17/C41 -> 0.041327395 | E17: =$C17*E18 -> 0 | F17: =$C17*F18 -> 0 | G17: =$C17*G18 -> 0 | H17: =$C17*H18 -> 9767.57 | I17: =$C17*I18 -> 9767.57 | J17: =$C17*J18 -> 0 | K17: =$C17*K18 -> 0 | L17: =SUM(E17:K17) -> 19535.14 | M17: =C17-(SUM(E17:L17)) -> -19535.14
E18: 0 | F18: 0 | G18: 0 | H18: 0.5 | I18: 0.5 | J18: 0 | K18: 0 | M18: =SUM(E18:L18) -> 1
A19: 8 | B19: VIDROS/ESPELHOS | C19: ='PLANILHA ORÇ.'!H55 -> 5444.45 | D19: =C19/C41 -> 0.011517959 | E19: =$C19*E20 -> 0 | F19: =$C19*F20 -> 0 | G19: =$C19*G20 -> 0 | H19: =$C19*H20 -> 0 | I19: =$C19*I20 -> 5444.45 | J19: =$C19*J20 -> 0 | K19: =$C19*K20 -> 0 | L19: =SUM(E19:K19) -> 5444.45 | M19: =C19-(SUM(E19:L19)) -> -5444.45
E20: 0 | F20: 0 | G20: 0 | H20: 0 | I20: 1 | J20: 0 | K20: 0 | M20: =SUM(E20:L20) -> 1
A21: 9 | B21: COBERTURA | C21: ='PLANILHA ORÇ.'!H59 -> 126583.45 | D21: =C21/C41 -> 0.26779251 | E21: =$C21*E22 -> 0 | F21: =$C21*F22 -> 0 | G21: =$C21*G22 -> 63291.725 | H21: =$C21*H22 -> 63291.725 | I21: =$C21*I22 -> 0 | J21: =$C21*J22 -> 0 | K21: =$C21*K22 -> 0 | L21: =SUM(E21:K21) -> 126583.45 | M21: =C21-(SUM(E21:L21)) -> -126583.45
E22: 0 | F22: 0 | G22: 0.5 | H22: 0.5 | I22: 0 | J22: 0 | K22: 0 | M22: =SUM(E22:L22) -> 1
A23: 10 | B23: REVESTIMENTO DE TETO | C23: ='PLANILHA ORÇ.'!H62 -> 5094.6 | D23: =C23/C41 -> 0.010777836 | E23: =$C23*E24 -> 0 | F23: =$C23*F24 -> 0 | G23: =$C23*G24 -> 0 | H23: =$C23*H24 -> 2547.3 | I23: =$C23*I24 -> 2547.3 | J23: 0 | K23: 0 | L23: =SUM(E23:K23) -> 5094.6 | M23: =C23-(SUM(E23:L23)) -> -5094.6
E24: 0 | F24: 0 | G24: 0 | H24: 0.5 | I24: 0.5 | J24: 0 | K24: 0 | M24: =SUM(E24:L24) -> 1
A25: 11 | B25: REVESTIMENTO DE PAREDES | C25: ='PLANILHA ORÇ.'!H69 -> 49208.86 | D25: =C25/C41 -> 0.10410337 | E25: =$C25*E26 -> 0 | F25: =$C25*F26 -> 0 | G25: =$C25*G26 -> 0 | H25: =$C25*H26 -> 0 | I25: =$C25*I26 -> 24604.43 | J25: =$C25*J26 -> 24604.43 | K25: =$C25*K26 -> 0 | L25: =SUM(E25:K25) -> 49208.86 | M25: =C25-(SUM(E25:L25)) -> -49208.86
E26: 0 | F26: 0 | G26: 0 | H26: 0 | I26: 0.5 | J26: 0.5 | K26: 0 | M26: =SUM(E26:L26) -> 1
A27: 12 | B27: PISOS | C27: ='PLANILHA ORÇ.'!H78 -> 51846.5 | D27: =C27/C41 -> 0.10968341 | E27: =$C27*E28 -> 0 | F27: =$C27*F28 -> 0 | G27: =$C27*G28 -> 0 | H27: =$C27*H28 -> 0 | I27: =$C27*I28 -> 25923.25 | J27: =$C27*J28 -> 25923.25 | K27: =$C27*K28 -> 0 | L27: =SUM(E27:K27) -> 51846.5 | M27: =C27-(SUM(E27:L27)) -> -51846.5
E28: 0 | F28: 0 | G28: 0 | H28: 0 | I28: 0.5 | J28: 0.5 | K28: 0 | M28: =SUM(E28:L28) -> 1
A29: 13 | B29: PONTOS HIDRO-SANITÁRIOS | C29: ='PLANILHA ORÇ.'!H92 -> 8105.06 | D29: =C29/C41 -> 0.017146589 | E29: =$C29*E30 -> 0 | F29: =$C29*F30 -> 2431.518 | G29: =$C29*G30 -> 2431.518 | H29: =$C29*H30 -> 3242.024 | I29: =$C29*I30 -> 0 | J29: =$C29*J30 -> 0 | K29: =$C29*K30 -> 0 | L29: =SUM(E29:K29) -> 8105.06 | M29: =C29-(SUM(E29:L29)) -> -8105.06
E30: 0 | F30: 0.3 | G30: 0.3 | H30: 0.4 | I30: 0 | J30: 0 | K30: 0 | M30: =SUM(E30:L30) -> 1
A31: 14 | B31: APARELHOS SANITARIOS. | C31: ='PLANILHA ORÇ.'!H105 -> 25387.94 | D31: =C31/C41 -> 0.053709235 | E31: =$C31*E32 -> 0 | F31: =$C31*F32 -> 0 | G31: =$C31*G32 -> 0 | H31: =$C31*H32 -> 0 | I31: =$C31*I32 -> 12693.97 | J31: =$C31*J32 -> 12693.97 | K31: =$C31*K32 -> 0 | L31: =SUM(E31:K31) -> 25387.94 | M31: =C31-(SUM(E31:L31)) -> -25387.94
E32: 0 | F32: 0 | G32: 0 | H32: 0 | I32: 0.5 | J32: 0.5 | K32: 0 | M32: =SUM(E32:L32) -> 1
A33: 15 | B33: PONTOS ELETRICOS | C33: ='PLANILHA ORÇ.'!H116 -> 14831.45 | D33: =C33/C41 -> 0.031376544 | E33: =$C33*E34 -> 0 | F33: =$C33*F34 -> 4449.435 | G33: =$C33*G34 -> 4449.435 | H33: =$C33*H34 -> 5932.58 | I33: =$C33*I34 -> 0 | J33: =$C33*J34 -> 0 | K33: =$C33*K34 -> 0 | L33: =SUM(E33:K33) -> 14831.45 | M33: =C33-(SUM(E33:L33)) -> -14831.45
E34: 0 | F34: 0.3 | G34: 0.3 | H34: 0.4 | I34: 0 | J34: 0 | K34: 0 | M34: =SUM(E34:L34) -> 1
A35: 16 | B35: APARELHOS ELETRICOS | C35: ='PLANILHA ORÇ.'!H123 -> 7213.04 | D35: =C35/C41 -> 0.015259484 | E35: =$C35*E36 -> 0 | F35: =$C35*F36 -> 0 | G35: =$C35*G36 -> 0 | H35: =$C35*H36 -> 0 | I35: =$C35*I36 -> 3606.52 | J35: =$C35*J36 -> 3606.52 | K35: =$C35*K36 -> 0 | L35: =SUM(E35:K35) -> 7213.04 | M35: =C35-(SUM(E35:L35)) -> -7213.04
E36: 0 | F36: 0 | G36: 0 | H36: 0 | I36: 0.5 | J36: 0.5 | K36: 0 | M36: =SUM(E36:L36) -> 1
A37: 17 | B37: PINTURA e EMASSAMENTO | C37: ='PLANILHA ORÇ.'!H129 -> 24575.44 | D37: =C37/C41 -> 0.051990357 | E37: =$C37*E38 -> 0 | F37: =$C37*F38 -> 0 | G37: =$C37*G38 -> 0 | H37: =$C37*H38 -> 0 | I37: =$C37*I38 -> 4915.088 | J37: =$C37*J38 -> 12287.72 | K37: =$C37*K38 -> 7372.632 | L37: =SUM(E37:K37) -> 24575.44 | M37: =C37-(SUM(E37:L37)) -> -24575.44
E38: 0 | F38: 0 | G38: 0 | H38: 0 | I38: 0.2 | J38: 0.5 | K38: 0.3 | M38: =SUM(E38:L38) -> 1
A39: 18 | B39: DIVERSOS | C39: ='PLANILHA ORÇ.'!H132 -> 1919.92 | D39: =C39/C41 -> 0.00406167 | E39: =$C39*E40 -> 0 | F39: =$C39*F40 -> 0 | G39: =$C39*G40 -> 0 | H39: =$C39*H40 -> 0 | I39: =$C39*I40 -> 0 | J39: =$C39*J40 -> 0 | K39: =$C39*K40 -> 1919.92 | L39: =SUM(E39:K39) -> 1919.92 | M39: =C39-(SUM(E39:L39)) -> -1919.92
E40: 0 | F40: 0 | G40: 0 | H40: 0 | I40: 0 | J40: 0 | K40: 1 | M40: =SUM(E40:L40) -> 1
...

Sheet COMP. 01
A1: COMPOSIÇÃO 01
A2: Serviço: PURIFICADOR DE COLUNA C/ ADAPTADOR P/ CADEIRANTE DUPLO | F2: Unidade: | G2: Data:
A3: OBRA: AMPLIAÇÃO DA ESCOLA LUIZA DE SOUZA BARROS DE TODOS OS SANTOS, VILA PAVÃO, ES | F3: UNID | G3: 45180
A4: Referência: MERCADO
A5: Especificação
A6: Especificação | B6: Unidade | C6: Quantidade | D6: Pr. Unit. | E6: TOTAL | F6: Referência | G6: Código
A7: 1 - MATERIAL
A8: PURIFICADOR DE COLUNA C/ ADAPTADOR P/ CADEIRANTE DUPLO | B8: und | C8: 1 | D8: =C22 -> 2072.6667 | E8: =C22 -> 2072.6667 | F8: MERCADO
A11: SubTotal: | E11: =E8 -> 2072.6667
A12: 2 - Leis Sociais
A14: 3 - BDI Adicionais sobre custo direto: eventuais, administração central, impostos, transportes e lucros | D14: 0.1557 | E14: =E11*D14 -> 322.7142
A16: COTAÇÃO DE PREÇO DE MERCADO
A17: Fornecedor | C17: Valor
A18: ALEMPEQ | C18: 1999
A19: POLI | C19: 2100
A20: LM COMERCIAL | C20: 2119
A22: Preço MÉDIO | C22: =(C18+C19+C20)/3 -> 2072.6667
A25: 4 - PREÇO FINAL | E25: =E11+E14 -> 2395.3809
D31: GRAZIANI SARDE
D32: Engenheiro Civil - CREA-ES 011.150/D
