Workbook
Name \s: #REF!
Name \s: #REF!
Name \s: #REF!
Name \s: #REF!
Name \s: #REF!
Name \s: #REF!
Name \t: #REF!
Name \t: #REF!
Name \t: #REF!
Name \t: #REF!
Name _\s: #REF!
Name _\t: #REF!
Name ____\t: #REF!
Name ______\s: #REF!
Name ______________FOG50: #REF!
Name ______________FOG50: #REF!
Name ______________FOG50: #REF!
Name ______________FOG50: #REF!
Name ______________FOG50: #REF!
Name ______________FOG50: #REF!
Name ______________PVC100: #REF!
Name ______________PVC100: #REF!
Name ______________PVC100: #REF!
Name ______________PVC100: #REF!
Name ______________PVC100: #REF!
Name ______________PVC150: #REF!
Name ______________PVC150: #REF!
Name ______________PVC150: #REF!
Name ______________PVC150: #REF!
Name ______________PVC150: #REF!
Name ______________PVC50: #REF!
Name ______________PVC50: #REF!
Name ______________PVC75: #REF!
Name ______________PVC75: #REF!
Name _____________FOG50: #REF!
Name _____________FOG50: #REF!
Name _____________PVC100: #REF!
Name _____________PVC100: #REF!
Name _____________PVC150: #REF!
Name _____________PVC150: #REF!
Name _____________PVC50: #REF!
Name _____________PVC50: #REF!
Name _____________PVC75: #REF!
Name _____________PVC75: #REF!
Name ____________FOG50: #REF!
Name ____________FOG50: #REF!
Name ____________PVC100: #REF!
Name ____________PVC100: #REF!
Name ____________PVC150: #REF!
Name ____________PVC150: #REF!
Name ____________PVC50: #REF!
Name ____________PVC50: #REF!
Name ____________PVC75: #REF!
Name ____________PVC75: #REF!
Name ___________FOG50: "#ref!"
Name ___________PVC100: "#ref!"
Name ___________PVC150: "#ref!"
Name ___________PVC50: "#ref!"
Name ___________PVC75: "#ref!"
Name ___________VBF1: "#ref!"

Sheet COMPOSIÇÃO BDI
A1: PREFEITURA MUNICIPAL DE VILA PAVÃO
B2: DETALHAMENTO DO BDI
A3: PROPONENTE: | B3: PREFEITURA MUNICIPAL DE VILA PAVÃO
A4: OBRA: | B4: EMEF ESTHER DA COSTA SANTOS
B5: Data: 25/01/2023
A7: 1. Regime de Contribuição Previdenciária
B9: Sem Desoneração
A11: 2. Tipo de Intervenção
B13: Edificações
A15: 3. Incidências sobre o custo
B17: Administração Central - AC | C17: 0.0326 | D17: %
B18: Riscos, Seguros e Garantias Contratuais - R+S+G | C18: 0.015 | D18: %
B19: Addministração Local - AL | C19: 0.0763 | D19: %
B20: Despesas e Encargos Financeiros - DF | C20: 0.0061 | D20: %
B22: Lucro - L | C22: 0.07 | D22: %
A24: 4 – Incidências sobre o preço de venda
B26: Despesas Tributárias - I | C26: =C27+C28+C29+C30 -> 0.0765 | D26: %
B27: ISS | C27: 0.04 | D27: %
B28: COFINS | C28: 0.03 | D28: %
B29: PIS | C29: 0.0065 | D29: %
B30: INSS | C30: 0 | D30: %
A32: 5 – Demonstrativo de cálculo do BDI
A34: BDI = [(1+(AC+S+R+G+DF+L+B+AL))/(1-I)-1]x100 | C34: 0.2993
B41: CARLOS RAPHAEL MONTEIRO DE LEMOS
B42: Engenheiro Civil- CREA-ES 011840/D
B43: ES-011840/D

Sheet COMPOSIÇÃO BDI DIFERENCIADO
A1: PREFEITURA MUNICIPAL DE VILA PAVÃO
B2: DETALHAMENTO DO BDI DIFERENCIADO
A3: PROPONENTE: | B3: PREFEITURA MUNICIPAL DE VILA PAVÃO
A4: OBRA: | B4: EMEF ESTHER DA COSTA SANTOS
B5: Data: 25/01/2023
A7: 1. Regime de Contribuição Previdenciária
B9: Sem Desoneração
A11: 2. Tipo de Intervenção
B13: Edificações
A15: 3. Incidências sobre o custo
B17: Administração Central - AC | C17: 0.04 | D17: %
B18: Riscos, Seguros e Garantias Contratuais - R+S+G | C18: 0.0133 | D18: %
B19: Addministração Local - AL | C19: 0 | D19: %
B20: Despesas e Encargos Financeiros - DF | C20: 0.0085 | D20: %
B22: Lucro - L | C22: 0.05 | D22: %
A24: 4 – Incidências sobre o preço de venda
B26: Despesas Tributárias - I | C26: =C27+C28+C29+C30 -> 0.0365 | D26: %
B27: ISS | C27: 0 | D27: %
B28: COFINS | C28: 0.03 | D28: %
B29: PIS | C29: 0.0065 | D29: %
B30: INSS | C30: 0 | D30: %
A32: 5 – Demonstrativo de cálculo do BDI
A34: BDI = [(1+(AC+S+R+G+DF+L+B+AL))/(1-I)-1]x100 | C34: 0.1557
B41: CARLOS RAPHAEL MONTEIRO DE LEMOS
B42: Engenheiro Civil- CREA-ES 011840/D
B43: ES-011840/D

Sheet PLANILHA RESUMO
A1: PREFEITURA MUNICIPAL DE VILA PAVÃO
A2: OBRA: EMEF ESTHER DA COSTA SANTOS | B2: DATA BASE: SINAPI OUTUBRO/2022 - DER-EDI OUTUBRO/2022 - DER-ROD JAN/2022 - SEINFRA PINI TCPO PINI OUTUBRO/2022 BDI: 29,93 % BDI DIFERENCIADO: 15,57 % L.S. NÃO-DESONERADAS: 157,27% | C2: CONTRATADA: ML ENGENHARIA E PROJETOS | D2: RESPONSÁVEL TÉCNICO: CARLOS RAPHAEL MONTEIRO DE LEMOS
A3: ITEM | B3: SERVIÇO | C3: TOTAL | D3: PESO
A6: 1 | B6: =VLOOKUP(A6,ORÇAMENTO!A:I,4,0) -> LICITAÇÃO
A8: 3 | B8: =VLOOKUP(A8,ORÇAMENTO!A:I,4,0) -> SERVIÇOS PRELIMINARES | C8: =ORÇAMENTO!I6 -> 139102.53 | D8: =C8/$C$44 -> 0.01271429
A10: 4 | B10: =VLOOKUP(A10,ORÇAMENTO!A:I,4,0) -> MOVIMENTAÇÃO DE TERRA | C10: =ORÇAMENTO!I14 -> 190961.05 | D10: =C10/$C$44 -> 0.017454278
A12: 5 | B12: =VLOOKUP(A12,ORÇAMENTO!A:I,4,0) -> ESTRUTURAL | C12: =ORÇAMENTO!I18 -> 4258983.3 | D12: =C12/$C$44 -> 0.38928084
A14: 6 | B14: =VLOOKUP(A14,ORÇAMENTO!A:I,4,0) -> PAREDES E PAINÉIS | C14: =ORÇAMENTO!I34 -> 435707.89 | D14: =C14/$C$44 -> 0.0398247
A16: 7 | B16: =VLOOKUP(A16,ORÇAMENTO!A:I,4,0) -> ESQUADRIAS DE MADEIRA | C16: =ORÇAMENTO!I38 -> 185660.27 | D16: =C16/$C$44 -> 0.016969775
A18: 8 | B18: =VLOOKUP(A18,ORÇAMENTO!A:I,4,0) -> ESQUADRIAS METÁLICAS | C18: =ORÇAMENTO!I50 -> 473058.19 | D18: =C18/$C$44 -> 0.043238604
A20: 9 | B20: =VLOOKUP(A20,ORÇAMENTO!A:I,4,0) -> VIDROS E ESPELHOS | C20: =ORÇAMENTO!I61 -> 149487.31 | D20: =C20/$C$44 -> 0.013663483
A22: 10 | B22: =VLOOKUP(A22,ORÇAMENTO!A:I,4,0) -> IMPERMEABILIZAÇÕES | C22: =ORÇAMENTO!I64 -> 295884.85 | D22: =C22/$C$44 -> 0.027044554
A24: 11 | B24: =VLOOKUP(A24,ORÇAMENTO!A:I,4,0) -> TETOS E FORROS | C24: =ORÇAMENTO!I68 -> 111504.99 | D24: =C24/$C$44 -> 0.010191812
A26: 12 | B26: =VLOOKUP(A26,ORÇAMENTO!A:I,4,0) -> REVESTIMENTOS | C26: =ORÇAMENTO!I70 -> 758176.37 | D26: =C26/$C$44 -> 0.06929906
A28: 13 | B28: =VLOOKUP(A28,ORÇAMENTO!A:I,4,0) -> PISOS INTERNOS E EXTERNOS | C28: =ORÇAMENTO!I78 -> 398694.7 | D28: =C28/$C$44 -> 0.03644161
A30: 14 | B30: =VLOOKUP(A30,ORÇAMENTO!A:I,4,0) -> INSTALAÇÃO HIDROSSANITÁRIAS | C30: =ORÇAMENTO!I90 -> 381263.74 | D30: =C30/$C$44 -> 0.03484838
A32: 15 | B32: =VLOOKUP(A32,ORÇAMENTO!A:I,4,0) -> INSTALAÇÕES ELÉTRICAS | C32: =ORÇAMENTO!I108 -> 706323.11 | D32: =C32/$C$44 -> 0.064559552
A34: 16 | B34: =VLOOKUP(A34,ORÇAMENTO!A:I,4,0) -> OUTRAS INSTALAÇÕES | C34: =ORÇAMENTO!I148 -> 1010060.1 | D34: =C34/$C$44 -> 0.09232181
A36: 17 | B36: =VLOOKUP(A36,ORÇAMENTO!A:I,4,0) -> APARELHOS HIDROSSANITÁRIOS | C36: =ORÇAMENTO!I181 -> 491958.38 | D36: =C36/$C$44 -> 0.044966124
A38: 18 | B38: =VLOOKUP(A38,ORÇAMENTO!A:I,4,0) -> APARELHOS ELÉTRICOS | C38: =ORÇAMENTO!I217 -> 196058.81 | D38: =C38/$C$44 -> 0.017920225
A40: 19 | B40: =VLOOKUP(A40,ORÇAMENTO!A:I,4,0) -> PINTURA | C40: =ORÇAMENTO!I229 -> 180400.8 | D40: =C40/$C$44 -> 0.016489047
A42: 20 | B42: =VLOOKUP(A42,ORÇAMENTO!A:I,4,0) -> SERVIÇOS COMPLEMENTARES EXTERNOS | C42: =ORÇAMENTO!I233 -> 577358.12 | D42: =C42/$C$44 -> 0.052771856
A44: VALOR GLOBAL DA EDIFICAÇÃO | C44: =SUM(C7:C43) -> 10940644 | D44: =SUM(D7:D43) -> 1
B50: CARLOS RAPHAEL MONTEIRO DE LEMOS
B51: Engenheiro Civil- CREA-ES 011840/D
B52: ES-011840/D

Sheet CRONOGRAMA
A1: PREFEITURA MUNICIPAL DE VILA PAVÃO
A2: OBRA: EMEF ESTHER DA COSTA SANTOS | C2: DATA BASE: SINAPI OUTUBRO/2022 - DER-EDI OUTUBRO/2022 - DER-ROD JAN/2022 - SEINFRA PINI TCPO PINI OUTUBRO/2022 BDI: 29,93 % BDI DIFERENCIADO: 15,57 % L.S. NÃO-DESONERADAS: 157,27% | G2: CONTRATADA: ML ENGENHARIA E PROJETOS | K2: RESPONSÁVEL TÉCNICO: CARLOS RAPHAEL MONTEIRO DE LEMOS
A3: ITEM | B3: SERVIÇO | C3: VALORES DO ITEM | E3: MÊS 01 | F3: MÊS 02 | G3: MÊS 03 | H3: MÊS 04 | I3: MÊS 05 | J3: MÊS 06 | K3: MÊS 07 | L3: MÊS 08 | M3: MÊS 09 | N3: MÊS 10 | O3: MÊS 11 | P3: MÊS 12
C4: R$ | D4: %
A5: 1 | B5: ='PLANILHA RESUMO'!B6 -> LICITAÇÃO | C5: ='PLANILHA RESUMO'!C6 -> 0 | D5: ='PLANILHA RESUMO'!D6 -> 0 | E5: =$C5*E6 -> 0 | F5: =$C5*F6 -> 0 | G5: =$C5*G6 -> 0 | H5: =$C5*H6 -> 0 | I5: =$C5*I6 -> 0 | J5: =$C5*J6 -> 0 | K5: =$C5*K6 -> 0 | L5: =$C5*L6 -> 0 | ... P5: =$C5*P6 -> 0 | Q5: =C5-(SUM(E5:P5)) -> 0
E6: 0 | F6: 0 | G6: 0 | H6: 0 | I6: 0 | J6: 0 | K6: 0 | L6: 0 | M6: 0 | N6: 0 | O6: 0 | P6: 0 | Q6: =SUM(E6:P6) -> 0
A7: 3 | B7: ='PLANILHA RESUMO'!B8 -> SERVIÇOS PRELIMINARES | C7: ='PLANILHA RESUMO'!C8 -> 139102.53 | D7: ='PLANILHA RESUMO'!D8 -> 0.01271429 | E7: =$C7*E8 -> 139102.53 | F7: =$C7*F8 -> 0 | G7: =$C7*G8 -> 0 | H7: =$C7*H8 -> 0 | I7: =$C7*I8 -> 0 | J7: =$C7*J8 -> 0 | K7: =$C7*K8 -> 0 | L7: =$C7*L8 -> 0 | ... P7: =$C7*P8 -> 0 | Q7: =C7-(SUM(E7:P7)) -> 0
E8: 1 | F8: 0 | G8: 0 | H8: 0 | I8: 0 | J8: 0 | K8: 0 | L8: 0 | M8: 0 | N8: 0 | O8: 0 | P8: 0 | Q8: =SUM(E8:P8) -> 1
A9: 4 | B9: ='PLANILHA RESUMO'!B10 -> MOVIMENTAÇÃO DE TERRA | C9: ='PLANILHA RESUMO'!C10 -> 190961.05 | D9: ='PLANILHA RESUMO'!D10 -> 0.017454278 | E9: =$C9*E10 -> 190961.05 | F9: =$C9*F10 -> 0 | G9: =$C9*G10 -> 0 | H9: =$C9*H10 -> 0 | I9: =$C9*I10 -> 0 | J9: =$C9*J10 -> 0 | K9: =$C9*K10 -> 0 | L9: =$C9*L10 -> 0 | ... P9: =$C9*P10 -> 0 | Q9: =C9-(SUM(E9:P9)) -> 0
E10: 1 | F10: 0 | G10: 0 | H10: 0 | I10: 0 | J10: 0 | K10: 0 | L10: 0 | M10: 0 | N10: 0 | O10: 0 | P10: 0 | Q10: =SUM(E10:P10) -> 1
A11: 5 | B11: ='PLANILHA RESUMO'!B12 -> ESTRUTURAL | C11: ='PLANILHA RESUMO'!C12 -> 4258983.3 | D11: ='PLANILHA RESUMO'!D12 -> 0.38928084 | E11: =$C11*E12 -> 0 | F11: =$C11*F12 -> 1064745.8 | G11: =$C11*G12 -> 1064745.8 | H11: =$C11*H12 -> 1064745.8 | I11: =$C11*I12 -> 1064745.8 | J11: =$C11*J12 -> 0 | K11: =$C11*K12 -> 0 | L11: =$C11*L12 -> 0 | ... P11: =$C11*P12 -> 0 | Q11: =C11-(SUM(E11:P11)) -> 0
E12: 0 | F12: 0.25 | G12: 0.25 | H12: 0.25 | I12: 0.25 | J12: 0 | K12: 0 | L12: 0 | M12: 0 | N12: 0 | O12: 0 | P12: 0 | Q12: =SUM(E12:P12) -> 1
A13: =A11+1 -> 6 | B13: ='PLANILHA RESUMO'!B14 -> PAREDES E PAINÉIS | C13: ='PLANILHA RESUMO'!C14 -> 435707.89 | D13: ='PLANILHA RESUMO'!D14 -> 0.0398247 | E13: =$C13*E14 -> 0 | F13: =$C13*F14 -> 0 | G13: =$C13*G14 -> 0 | H13: =$C13*H14 -> 108926.97 | I13: =$C13*I14 -> 108926.97 | J13: =$C13*J14 -> 108926.97 | K13: =$C13*K14 -> 108926.97 | L13: =$C13*L14 -> 0 | ... P13: =$C13*P14 -> 0 | Q13: =C13-(SUM(E13:P13)) -> 0
E14: 0 | F14: 0 | G14: 0 | H14: 0.25 | I14: 0.25 | J14: 0.25 | K14: 0.25 | L14: 0 | M14: 0 | N14: 0 | O14: 0 | P14: 0 | Q14: =SUM(E14:P14) -> 1
A15: 7 | B15: ='PLANILHA RESUMO'!B16 -> ESQUADRIAS DE MADEIRA | C15: ='PLANILHA RESUMO'!C16 -> 185660.27 | D15: ='PLANILHA RESUMO'!D16 -> 0.016969775 | E15: =$C15*E16 -> 0 | F15: =$C15*F16 -> 0 | G15: =$C15*G16 -> 0 | H15: =$C15*H16 -> 0 | I15: =$C15*I16 -> 0 | J15: =$C15*J16 -> 46415.069 | K15: =$C15*K16 -> 46415.069 | L15: =$C15*L16 -> 46415.069 | ... P15: =$C15*P16 -> 0 | Q15: =C15-(SUM(E15:P15)) -> 0
E16: 0 | F16: 0 | G16: 0 | H16: 0 | I16: 0 | J16: 0.25 | K16: 0.25 | L16: 0.25 | M16: 0.25 | N16: 0 | O16: 0 | P16: 0 | Q16: =SUM(E16:P16) -> 1
A17: 8 | B17: ='PLANILHA RESUMO'!B18 -> ESQUADRIAS METÁLICAS | C17: ='PLANILHA RESUMO'!C18 -> 473058.19 | D17: ='PLANILHA RESUMO'!D18 -> 0.043238604 | E17: =$C17*E18 -> 0 | F17: =$C17*F18 -> 0 | G17: =$C17*G18 -> 0 | H17: =$C17*H18 -> 0 | I17: =$C17*I18 -> 0 | J17: =$C17*J18 -> 236529.1 | K17: =$C17*K18 -> 236529.1 | L17: =$C17*L18 -> 0 | ... P17: =$C17*P18 -> 0 | Q17: =C17-(SUM(E17:P17)) -> 0
E18: 0 | F18: 0 | G18: 0 | H18: 0 | I18: 0 | J18: 0.5 | K18: 0.5 | L18: 0 | M18: 0 | N18: 0 | O18: 0 | P18: 0 | Q18: =SUM(E18:P18) -> 1
A19: 9 | B19: ='PLANILHA RESUMO'!B20 -> VIDROS E ESPELHOS | C19: ='PLANILHA RESUMO'!C20 -> 149487.31 | D19: ='PLANILHA RESUMO'!D20 -> 0.013663483 | E19: =$C19*E20 -> 0 | F19: =$C19*F20 -> 0 | G19: =$C19*G20 -> 0 | H19: =$C19*H20 -> 0 | I19: =$C19*I20 -> 0 | J19: =$C19*J20 -> 0 | K19: =$C19*K20 -> 0 | L19: =$C19*L20 -> 0 | ... P19: =$C19*P20 -> 0 | Q19: =C19-(SUM(E19:P19)) -> 0
E20: 0 | F20: 0 | G20: 0 | H20: 0 | I20: 0 | J20: 0 | K20: 0 | L20: 0 | M20: 0 | N20: 1 | O20: 0 | P20: 0 | Q20: =SUM(E20:P20) -> 1
A21: 10 | B21: ='PLANILHA RESUMO'!B22 -> IMPERMEABILIZAÇÕES | C21: ='PLANILHA RESUMO'!C22 -> 295884.85 | D21: ='PLANILHA RESUMO'!D22 -> 0.027044554 | E21: =$C21*E22 -> 0 | F21: =$C21*F22 -> 0 | G21: =$C21*G22 -> 0 | H21: =$C21*H22 -> 73971.211 | I21: =$C21*I22 -> 73971.211 | J21: =$C21*J22 -> 73971.211 | K21: =$C21*K22 -> 73971.211 | L21: =$C21*L22 -> 0 | ... P21: =$C21*P22 -> 0 | Q21: =C21-(SUM(E21:P21)) -> 0
E22: 0 | F22: 0 | G22: 0 | H22: 0.25 | I22: 0.25 | J22: 0.25 | K22: 0.25 | L22: 0 | M22: 0 | N22: 0 | O22: 0 | P22: 0 | Q22: =SUM(E22:P22) -> 1
A23: 11 | B23: ='PLANILHA RESUMO'!B24 -> TETOS E FORROS | C23: ='PLANILHA RESUMO'!C24 -> 111504.99 | D23: ='PLANILHA RESUMO'!D24 -> 0.010191812 | E23: =$C23*E24 -> 0 | F23: =$C23*F24 -> 0 | G23: =$C23*G24 -> 0 | H23: =$C23*H24 -> 0 | I23: =$C23*I24 -> 0 | J23: =$C23*J24 -> 0 | K23: =$C23*K24 -> 37164.613 | L23: =$C23*L24 -> 37164.613 | ... P23: =$C23*P24 -> 0 | Q23: =C23-(SUM(E23:P23)) -> 0
E24: 0 | F24: 0 | G24: 0 | H24: 0 | I24: 0 | J24: 0 | K24: 0.3333 | L24: 0.3333 | M24: 0.3334 | N24: 0 | O24: 0 | P24: 0 | Q24: =SUM(E24:P24) -> 1
A25: 12 | B25: ='PLANILHA RESUMO'!B26 -> REVESTIMENTOS | C25: ='PLANILHA RESUMO'!C26 -> 758176.37 | D25: ='PLANILHA RESUMO'!D26 -> 0.06929906 | E25: =$C25*E26 -> 0 | F25: =$C25*F26 -> 0 | G25: =$C25*G26 -> 0 | H25: =$C25*H26 -> 0 | I25: =$C25*I26 -> 0 | J25: =$C25*J26 -> 0 | K25: =$C25*K26 -> 189544.09 | L25: =$C25*L26 -> 189544.09 | ... P25: =$C25*P26 -> 0 | Q25: =C25-(SUM(E25:P25)) -> 0
E26: 0 | F26: 0 | G26: 0 | H26: 0 | I26: 0 | J26: 0 | K26: 0.25 | L26: 0.25 | M26: 0.25 | N26: 0.25 | O26: 0 | P26: 0 | Q26: =SUM(E26:P26) -> 1
A27: 13 | B27: ='PLANILHA RESUMO'!B28 -> PISOS INTERNOS E EXTERNOS | C27: ='PLANILHA RESUMO'!C28 -> 398694.7 | D27: ='PLANILHA RESUMO'!D28 -> 0.03644161 | E27: =$C27*E28 -> 0 | F27: =$C27*F28 -> 0 | G27: =$C27*G28 -> 0 | H27: =$C27*H28 -> 0 | I27: =$C27*I28 -> 0 | J27: =$C27*J28 -> 0 | K27: =$C27*K28 -> 99673.675 | L27: =$C27*L28 -> 99673.675 | ... P27: =$C27*P28 -> 0 | Q27: =C27-(SUM(E27:P27)) -> 0
E28: 0 | F28: 0 | G28: 0 | H28: 0 | I28: 0 | J28: 0 | K28: 0.25 | L28: 0.25 | M28: 0.25 | N28: 0.25 | O28: 0 | P28: 0 | Q28: =SUM(E28:P28) -> 1
A29: 14 | B29: ='PLANILHA RESUMO'!B30 -> INSTALAÇÃO HIDROSSANITÁRIAS | C29: ='PLANILHA RESUMO'!C30 -> 381263.74 | D29: ='PLANILHA RESUMO'!D30 -> 0.03484838 | E29: =$C29*E30 -> 0 | F29: =$C29*F30 -> 0 | G29: =$C29*G30 -> 76252.748 | H29: =$C29*H30 -> 76252.748 | I29: =$C29*I30 -> 76252.748 | J29: =$C29*J30 -> 76252.748 | K29: =$C29*K30 -> 76252.748 | L29: =$C29*L30 -> 0 | ... P29: =$C29*P30 -> 0 | Q29: =C29-(SUM(E29:P29)) -> 0
E30: 0 | F30: 0 | G30: 0.2 | H30: 0.2 | I30: 0.2 | J30: 0.2 | K30: 0.2 | L30: 0 | M30: 0 | N30: 0 | O30: 0 | P30: 0 | Q30: =SUM(E30:P30) -> 1
A31: 15 | B31: ='PLANILHA RESUMO'!B32 -> INSTALAÇÕES ELÉTRICAS | C31: ='PLANILHA RESUMO'!C32 -> 706323.11 | D31: ='PLANILHA RESUMO'!D32 -> 0.064559552 | E31: =$C31*E32 -> 0 | F31: =$C31*F32 -> 0 | G31: =$C31*G32 -> 141264.62 | H31: =$C31*H32 -> 141264.62 | I31: =$C31*I32 -> 141264.62 | J31: =$C31*J32 -> 141264.62 | K31: =$C31*K32 -> 141264.62 | L31: =$C31*L32 -> 0 | ... P31: =$C31*P32 -> 0 | Q31: =C31-(SUM(E31:P31)) -> 0
E32: 0 | F32: 0 | G32: 0.2 | H32: 0.2 | I32: 0.2 | J32: 0.2 | K32: 0.2 | L32: 0 | M32: 0 | N32: 0 | O32: 0 | P32: 0 | Q32: =SUM(E32:P32) -> 1
A33: 16 | B33: ='PLANILHA RESUMO'!B34 -> OUTRAS INSTALAÇÕES | C33: ='PLANILHA RESUMO'!C34 -> 1010060.1 | D33: ='PLANILHA RESUMO'!D34 -> 0.09232181 | E33: =$C33*E34 -> 0 | F33: =$C33*F34 -> 0 | G33: =$C33*G34 -> 0 | H33: =$C33*H34 -> 0 | I33: =$C33*I34 -> 0 | J33: =$C33*J34 -> 0 | K33: =$C33*K34 -> 252515.03 | L33: =$C33*L34 -> 252515.03 | ... P33: =$C33*P34 -> 0 | Q33: =C33-(SUM(E33:P33)) -> 0
E34: 0 | F34: 0 | G34: 0 | H34: 0 | I34: 0 | J34: 0 | K34: 0.25 | L34: 0.25 | M34: 0.25 | N34: 0.25 | O34: 0 | P34: 0 | Q34: =SUM(E34:P34) -> 1
A35: 17 | B35: ='PLANILHA RESUMO'!B36 -> APARELHOS HIDROSSANITÁRIOS | C35: ='PLANILHA RESUMO'!C36 -> 491958.38 | D35: ='PLANILHA RESUMO'!D36 -> 0.044966124 | E35: =$C35*E36 -> 0 | F35: =$C35*F36 -> 0 | G35: =$C35*G36 -> 0 | H35: =$C35*H36 -> 0 | I35: =$C35*I36 -> 0 | J35: =$C35*J36 -> 0 | K35: =$C35*K36 -> 0 | L35: =$C35*L36 -> 0 | ... P35: =$C35*P36 -> 164018.92 | Q35: =C35-(SUM(E35:P35)) -> 0
E36: 0 | F36: 0 | G36: 0 | H36: 0 | I36: 0 | J36: 0 | K36: 0 | L36: 0 | M36: 0 | N36: 0.3333 | O36: 0.3333 | P36: 0.3334 | Q36: =SUM(E36:P36) -> 1
A37: 18 | B37: ='PLANILHA RESUMO'!B38 -> APARELHOS ELÉTRICOS | C37: ='PLANILHA RESUMO'!C38 -> 196058.81 | D37: ='PLANILHA RESUMO'!D38 -> 0.017920225 | E37: =$C37*E38 -> 0 | F37: =$C37*F38 -> 0 | G37: =$C37*G38 -> 0 | H37: =$C37*H38 -> 0 | I37: =$C37*I38 -> 0 | J37: =$C37*J38 -> 0 | K37: =$C37*K38 -> 0 | L37: =$C37*L38 -> 0 | ... P37: =$C37*P38 -> 65366.008 | Q37: =C37-(SUM(E37:P37)) -> 0
E38: 0 | F38: 0 | G38: 0 | H38: 0 | I38: 0 | J38: 0 | K38: 0 | L38: 0 | M38: 0 | N38: 0.3333 | O38: 0.3333 | P38: 0.3334 | Q38: =SUM(E38:P38) -> 1
A39: 19 | B39: ='PLANILHA RESUMO'!B40 -> PINTURA | C39: ='PLANILHA RESUMO'!C40 -> 180400.8 | D39: ='PLANILHA RESUMO'!D40 -> 0.016489047 | E39: =$C39*E40 -> 0 | F39: =$C39*F40 -> 0 | G39: =$C39*G40 -> 0 | H39: =$C39*H40 -> 0 | I39: =$C39*I40 -> 0 | J39: =$C39*J40 -> 0 | K39: =$C39*K40 -> 0 | L39: =$C39*L40 -> 0 | ... P39: =$C39*P40 -> 60145.625 | Q39: =C39-(SUM(E39:P39)) -> 0
E40: 0 | F40: 0 | G40: 0 | H40: 0 | I40: 0 | J40: 0 | K40: 0 | L40: 0 | M40: 0 | N40: 0.3333 | O40: 0.3333 | P40: 0.3334 | Q40: =SUM(E40:P40) -> 1
...

Sheet ORÇAMENTO
A1: PREFEITURA MUNICIPAL DE VILA PAVÃO
A2: OBRA: EMEF ESTHER DA COSTA SANTOS | D2: DATA BASE: SINAPI OUTUBRO/2022 - DER-EDI OUTUBRO/2022 - DER-ROD JAN/2022 - SEINFRA PINI TCPO PINI OUTUBRO/2022 BDI: 29,93 % BDI DIFERENCIADO: 15,57 % L.S. NÃO-DESONERADAS: 157,27% | E2: CONTRATADA: ML ENGENHARIA E PROJETOS | H2: RESPONSÁVEL TÉCNICO: CARLOS RAPHAEL MONTEIRO DE LEMOS
A3: ITEM | B3: ÓRGÃO | C3: CÓDIGO | D3: DESCRIÇÃO SERVIÇO | E3: UNID | F3: QUANT. | H3: PREÇOS R$
G4: UNIT. S/ BDI | H4: UNIT. C/ BDI | I4: TOTAL
A5: 1 | D5: LICITAÇÃO | K5: =UPPER(D5) -> LICITAÇÃO
A6: 3 | D6: SERVIÇOS PRELIMINARES | I6: =SUM(I7:I13) -> 139102.53 | K6: =UPPER(D6) -> SERVIÇOS PRELIMINARES
A7: 3.1 | B7: LABOR | C7: 020305 | D7: PLACA DE OBRA NAS DIMENSÕES DE 2.0 X 4.0 M, PADRÃO DER | E7: M2 | F7: ='MEMORIA DE CÁLCULO'!J5 -> 8 | G7: 242.13 | H7: =G7*J7 -> 314.59951 | I7: =ROUND(F7*H7,2) -> 2516.8 | J7: 1.2993 | K7: =UPPER(D7) -> PLACA DE OBRA NAS DIMENSÕES DE 2.0 X 4.0 M, PADRÃO DER
A8: 3.2 | B8: LABOR | C8: 20701 | D8: BARRACÃO PARA ESCRITÓRIO COM SANITÁRIO ÁREA DE 14.50 M2, DE CHAPA DE COMPENS. 12MM E PONTALETE 8X8CM, PISO CIMENTADO E COBERTURA DE TELHA DE FIBROC. 6MM, INCL. PONTO DE LUZ E CX. DE INSPEÇÃO, CONF. PROJETO (1 UTILIZAÇÃO) | E8: M2 | F8: ='MEMORIA DE CÁLCULO'!J6 -> 8 | G8: 836.37 | H8: =G8*J8 -> 1086.6955 | I8: =ROUND(F8*H8,2) -> 8693.56 | J8: 1.2993 | K8: =UPPER(D8) -> BARRACÃO PARA ESCRITÓRIO COM SANITÁRIO ÁREA DE 14.50 M2, DE CHAPA DE COMPENS. 12MM E PONTALETE 8X8CM, PISO CIMENTADO E COBERTURA DE TELHA DE FIBROC. 6MM, INCL. PONTO DE LUZ E CX. DE INSPEÇÃO, CONF. PROJETO (1 UTILIZAÇÃO)
A9: 3.3 | B9: LABOR | C9: 20702 | D9: BARRACÃO PARA ALMOXARIFADO ÁREA DE 10.90M2, DE CHAPA DE COMPENSADO DE 12MM E PONTALETE 8X8CM, PISO CIMENTADO E COBERTURA DE TELHAS DE FIBROCIMENTO DE 6MM, INCL. PONTO DE LUZ, CONF. PROJETO (1 UTILIZAÇÃO) | E9: M2 | F9: ='MEMORIA DE CÁLCULO'!J7 -> 8 | G9: 616.62 | H9: =G9*J9 -> 801.17437 | I9: =ROUND(F9*H9,2) -> 6409.39 | J9: 1.2993 | K9: =UPPER(D9) -> BARRACÃO PARA ALMOXARIFADO ÁREA DE 10.90M2, DE CHAPA DE COMPENSADO DE 12MM E PONTALETE 8X8CM, PISO CIMENTADO E COBERTURA DE TELHAS DE FIBROCIMENTO DE 6MM, INCL. PONTO DE LUZ, CONF. PROJETO (1 UTILIZAÇÃO)
A10: 3.4 | B10: LABOR | C10: 20713 | D10: REDE DE LUZ, INCL. PADRÃO ENTRADA DE ENERGIA TRIFÁS., CABO DE LIGAÇÃO ATÉ BARRACÕES, QUADRO DE DISTRIB., DISJ. E CHAVE DE FORÇA (QUANDO NECESSÁRIO), CONS. 20M ENTRE PADRÃO ENTRADA E QDG, CONF. PROJETO (1 UTILIZAÇÃO | E10: M | F10: ='MEMORIA DE CÁLCULO'!J8 -> 20 | G10: 494.19 | H10: =G10*J10 -> 642.10107 | I10: =ROUND(F10*H10,2) -> 12842.02 | J10: 1.2993 | K10: =UPPER(D10) -> REDE DE LUZ, INCL. PADRÃO ENTRADA DE ENERGIA TRIFÁS., CABO DE LIGAÇÃO ATÉ BARRACÕES, QUADRO DE DISTRIB., DISJ. E CHAVE DE FORÇA (QUANDO NECESSÁRIO), CONS. 20M ENTRE PADRÃO ENTRADA E QDG, CONF. PROJETO (1 UTILIZAÇÃO
A11: 3.5 | B11: LABOR | C11: 140201 | D11: PADRÃO DE ENTRADA D' ÁGUA COM CAVALETE DE PVC PARA HIDRÔMETRO COM DIÂMETRO DE 3/4" - PADRÃO 1C DA CESAN. INSTALADO EM VÃO DE MURO PROTEGIDO COM GRADEAMENTO. INCLUSIVE BASE DE CONCRETO MAGRO, TUBULAÇÃO, CONEXÕES E REGISTRO. CONFERIR DETALHE. | E11: UNIDADE | F11: ='MEMORIA DE CÁLCULO'!J9 -> 1 | G11: 416.49 | H11: =G11*J11 -> 541.14546 | I11: =ROUND(F11*H11,2) -> 541.15 | J11: 1.2993 | K11: =UPPER(D11) -> PADRÃO DE ENTRADA D' ÁGUA COM CAVALETE DE PVC PARA HIDRÔMETRO COM DIÂMETRO DE 3/4" - PADRÃO 1C DA CESAN. INSTALADO EM VÃO DE MURO PROTEGIDO COM GRADEAMENTO. INCLUSIVE BASE DE CONCRETO MAGRO, TUBULAÇÃO, CONEXÕES E REGISTRO. CONFERIR DETALHE.
A12: 3.6 | B12: LABOR | C12: 20350 | D12: TAPUME TELHA METÁLICA ONDULADA EM AÇO GALVALUME 0,50MM BRANCA H=2,20M, INCL. MONTAGEM ESTR. MAD. 8"X8", C/ADESIVO "DER-ES" 60X60CM A CADA 10M, INCL. FAIXAS PINT. ESMALTE SINT. CORES AZUL C/ H=30CM E ROSA C/ H=10CM (REAPROVEITAMENTO 2X) | E12: M | F12: ='MEMORIA DE CÁLCULO'!J10 -> 321.35 | G12: 205.45 | H12: =G12*J12 -> 266.94118 | I12: =ROUND(F12*H12,2) -> 85781.55 | J12: 1.2993 | K12: =UPPER(D12) -> TAPUME TELHA METÁLICA ONDULADA EM AÇO GALVALUME 0,50MM BRANCA H=2,20M, INCL. MONTAGEM ESTR. MAD. 8"X8", C/ADESIVO "DER-ES" 60X60CM A CADA 10M, INCL. FAIXAS PINT. ESMALTE SINT. CORES AZUL C/ H=30CM E ROSA C/ H=10CM (REAPROVEITAMENTO 2X)
A13: 3.7 | B13: SINAPI | C13: 99059 | D13: 'LOCACAO CONVENCIONAL DE OBRA, UTILIZANDO GABARITO DE TÁBUAS CORRIDAS PONTALETADAS A CADA 2,00M - 2 UTILIZAÇÕES. AF_10/2018 | E13: M | F13: ='MEMORIA DE CÁLCULO'!J16 -> 274.7 | G13: 62.53 | H13: =G13*J13 -> 81.245229 | I13: =ROUND(F13*H13,2) -> 22318.06 | J13: 1.2993 | K13: =UPPER(D13) -> 'LOCACAO CONVENCIONAL DE OBRA, UTILIZANDO GABARITO DE TÁBUAS CORRIDAS PONTALETADAS A CADA 2,00M - 2 UTILIZAÇÕES. AF_10/2018
A14: 4 | D14: MOVIMENTAÇÃO DE TERRA | I14: =SUM(I15:I17) -> 190961.05 | K14: =UPPER(D14) -> MOVIMENTAÇÃO DE TERRA
A15: 4.1 | B15: SINAPI | C15: 96385 | D15: EXECUÇÃO E COMPACTAÇÃO DE ATERRO COM SOLO PREDOMINANTEMENTE ARGILOSO EXCLUSIVE SOLO, ESCAVAÇÃO, CARGA E TRANSPORTE. AF_11/2019 | E15: M3 | F15: ='MEMORIA DE CÁLCULO'!J19 -> 6027.5 | G15: 10.96 | H15: =G15*J15 -> 14.240328 | I15: =ROUND(F15*H15,2) -> 85833.58 | J15: 1.2993 | K15: =UPPER(D15) -> EXECUÇÃO E COMPACTAÇÃO DE ATERRO COM SOLO PREDOMINANTEMENTE ARGILOSO EXCLUSIVE SOLO, ESCAVAÇÃO, CARGA E TRANSPORTE. AF_11/2019
A16: 4.2 | B16: LABOR | C16: 30103 | D16: ESCAVAÇÃO MECÂNICA EM MATERIAL DE 1A. CATEGORIA | E16: m³ | F16: ='MEMORIA DE CÁLCULO'!J21 -> 2236.5475 | G16: 12.93 | H16: =G16*J16 -> 16.799949 | I16: =ROUND(F16*H16,2) -> 37573.88 | J16: 1.2993 | K16: =UPPER(D16) -> ESCAVAÇÃO MECÂNICA EM MATERIAL DE 1A. CATEGORIA
A17: 4.3 | B17: SINAPI | C17: 93382 | D17: REATERRO MANUAL DE VALAS COM COMPACTAÇÃO MECANIZADA. AF_04/2016 | E17: M3 | F17: ='MEMORIA DE CÁLCULO'!J29 -> 1623.2375 | G17: 32.03 | H17: =G17*J17 -> 41.616579 | I17: =ROUND(F17*H17,2) -> 67553.59 | J17: 1.2993 | K17: =UPPER(D17) -> REATERRO MANUAL DE VALAS COM COMPACTAÇÃO MECANIZADA. AF_04/2016
A18: 5 | D18: ESTRUTURAL | I18: =I19+I27 -> 4258983.3 | K18: =UPPER(D18) -> ESTRUTURAL
A19: 5.1 | D19: FUNDAÇÕES | I19: =SUM(I20:I26) -> 2065866.5 | K19: =UPPER(D19) -> FUNDAÇÕES
A20: 5.1.1 | B20: LABOR | C20: 40231 | D20: FORNECIMENTO, PREPARO E APLICAÇÃO DE CONCRETO MAGRO COM CONSUMO MÍNIMO DE CIMENTO DE 250 KG/M3 (BRITA 1 E 2) - (5% DE PERDAS JÁ INCLUÍDO NO CUSTO) | E20: M3 | F20: ='MEMORIA DE CÁLCULO'!J36 -> 176.71 | G20: 677.48 | H20: =G20*J20 -> 880.24976 | I20: =ROUND(F20*H20,2) -> 155548.94 | J20: 1.2993 | K20: =UPPER(D20) -> FORNECIMENTO, PREPARO E APLICAÇÃO DE CONCRETO MAGRO COM CONSUMO MÍNIMO DE CIMENTO DE 250 KG/M3 (BRITA 1 E 2) - (5% DE PERDAS JÁ INCLUÍDO NO CUSTO)
A21: 5.1.2 | B21: LABOR | C21: 40253 | D21: FORNECIMENTO E APLICAÇÃO DE CONCRETO USINADO FCK=30 MPA - CONSIDERANDO LANÇAMENTO MANUAL PARA INFRA-ESTRUTURA (5% DE PERDAS JÁ INCLUÍDO NO CUSTO) | E21: M3 | F21: ='MEMORIA DE CÁLCULO'!J45 -> 570.95 | G21: 708.4 | H21: =G21*J21 -> 920.42412 | I21: =ROUND(F21*H21,2) -> 525516.15 | J21: 1.2993 | K21: =UPPER(D21) -> FORNECIMENTO E APLICAÇÃO DE CONCRETO USINADO FCK=30 MPA - CONSIDERANDO LANÇAMENTO MANUAL PARA INFRA-ESTRUTURA (5% DE PERDAS JÁ INCLUÍDO NO CUSTO)
A22: 5.1.3 | B22: LABOR | C22: 40206 | D22: FÔRMA DE TÁBUA DE MADEIRA DE 2.5 X 30.0 CM PARA FUNDAÇÕES, LEVANDO-SE EM CONTA A UTILIZAÇÃO 5 VEZES (INCLUIDO O MATERIAL, CORTE, MONTAGEM, ESCORAMENTO E DESFORMA) | E22: M2 | F22: ='MEMORIA DE CÁLCULO'!J54 -> 2642.77 | G22: 78.05 | H22: =G22*J22 -> 101.41036 | I22: =ROUND(F22*H22,2) -> 268004.27 | J22: 1.2993 | K22: =UPPER(D22) -> FÔRMA DE TÁBUA DE MADEIRA DE 2.5 X 30.0 CM PARA FUNDAÇÕES, LEVANDO-SE EM CONTA A UTILIZAÇÃO 5 VEZES (INCLUIDO O MATERIAL, CORTE, MONTAGEM, ESCORAMENTO E DESFORMA)
A23: 5.1.4 | B23: LABOR | C23: 040246 | D23: FORNECIMENTO, DOBRAGEM E COLOCAÇÃO EM FÔRMA, DE ARMADURA CA-60 B FINA, DIÂMETRO DE 4.0 A 7.0MM | E23: KG | F23: ='MEMORIA DE CÁLCULO'!J63 -> 9454 | G23: 11.95 | H23: =G23*J23 -> 15.526635 | I23: =ROUND(F23*H23,2) -> 146788.81 | J23: 1.2993 | K23: =UPPER(D23) -> FORNECIMENTO, DOBRAGEM E COLOCAÇÃO EM FÔRMA, DE ARMADURA CA-60 B FINA, DIÂMETRO DE 4.0 A 7.0MM
A24: 5.1.5 | B24: LABOR | C24: 040243 | D24: FORNECIMENTO, DOBRAGEM E COLOCAÇÃO EM FÔRMA, DE ARMADURA CA-50 A MÉDIA, DIÂMETRO DE 6.3 A 10.0 MM | E24: KG | F24: ='MEMORIA DE CÁLCULO'!J67 -> 8429 | G24: 11.65 | H24: =G24*J24 -> 15.136845 | I24: =ROUND(F24*H24,2) -> 127588.47 | J24: 1.2993 | K24: =UPPER(D24) -> FORNECIMENTO, DOBRAGEM E COLOCAÇÃO EM FÔRMA, DE ARMADURA CA-50 A MÉDIA, DIÂMETRO DE 6.3 A 10.0 MM
A25: 5.1.6 | B25: LABOR | C25: 040245 | D25: FORNECIMENTO, DOBRAGEM E COLOCAÇÃO EM FÔRMA, DE ARMADURA CA-50 A GROSSA, DIÂMETRO DE 12.5 A 25.0MM | E25: KG | F25: ='MEMORIA DE CÁLCULO'!J72 -> 17660 | G25: 12.08 | H25: =G25*J25 -> 15.695544 | I25: =ROUND(F25*H25,2) -> 277183.31 | J25: 1.2993 | K25: =UPPER(D25) -> FORNECIMENTO, DOBRAGEM E COLOCAÇÃO EM FÔRMA, DE ARMADURA CA-50 A GROSSA, DIÂMETRO DE 12.5 A 25.0MM
A26: 5.1.7 | B26: 3R 33 33 37 00 00 00 00 15 PINI | C26: COMPOSIÇÃO 01 | D26: GABIÃO COM TELA DE ARAME GALVANIZADO, FIO 2,7MM, MALHA HEXAGONAL 8 X 10CM, TIPO CAIXA | E26: M | F26: ='MEMORIA DE CÁLCULO'!J78 -> 113.92 | G26: ='COMPOSIÇÃO DE CUSTO'!F12 -> 3818.7462 | H26: =G26*J26 -> 4961.6969 | I26: =ROUND(F26*H26,2) -> 565236.52 | J26: 1.2993 | K26: =UPPER(D26) -> GABIÃO COM TELA DE ARAME GALVANIZADO, FIO 2,7MM, MALHA HEXAGONAL 8 X 10CM, TIPO CAIXA
A27: 5.2 | D27: SUPER-ESTRUTURA | I27: =SUM(I28:I33) -> 2193116.8 | K27: =UPPER(D27) -> SUPER-ESTRUTURA
A28: 5.2.1 | B28: LABOR | C28: 40331 | D28: FORNECIMENTO E APLICAÇÃO DE CONCRETO USINADO FCK=30 MPA - CONSIDERANDO BOMBEAMENTO (5% DE PERDAS JÁ INCLUÍDO NO CUSTO) (6% DE TAXA P/ CONCR. BOMBEAVEL) | E28: M3 | F28: ='MEMORIA DE CÁLCULO'!J81 -> 504.7 | G28: 669.7 | H28: =G28*J28 -> 870.14121 | I28: =ROUND(F28*H28,2) -> 439160.27 | J28: 1.2993 | K28: =UPPER(D28) -> FORNECIMENTO E APLICAÇÃO DE CONCRETO USINADO FCK=30 MPA - CONSIDERANDO BOMBEAMENTO (5% DE PERDAS JÁ INCLUÍDO NO CUSTO) (6% DE TAXA P/ CONCR. BOMBEAVEL)
A29: 5.2.2 | B29: LABOR | C29: 40337 | D29: FÔRMA EM CHAPA DE MADEIRA COMPENSADA PLASTIFICADA 12MM PARA ESTRUTURA EM GERAL, 5 REAPROVEITAMENTOS, REFORÇADA COM SARRAFOS DE MADEIRA 2.5X10CM (INCL MATERIAL, CORTE, MONTAGEM, ESCORAS EM EUCALIPTO E DESFORMA) | E29: M2 | F29: ='MEMORIA DE CÁLCULO'!J85 -> 2785.6 | G29: 98.69 | H29: =G29*J29 -> 128.22792 | I29: =ROUND(F29*H29,2) -> 357191.69 | J29: 1.2993 | K29: =UPPER(D29) -> FÔRMA EM CHAPA DE MADEIRA COMPENSADA PLASTIFICADA 12MM PARA ESTRUTURA EM GERAL, 5 REAPROVEITAMENTOS, REFORÇADA COM SARRAFOS DE MADEIRA 2.5X10CM (INCL MATERIAL, CORTE, MONTAGEM, ESCORAS EM EUCALIPTO E DESFORMA)
A30: 5.2.3 | B30: LABOR | C30: 40333 | D30: FORNECIMENTO, DOBRAGEM E COLOCAÇÃO EM FÔRMA, DE ARMADURA CA-60 B FINA, DIÂMETRO DE 4.0 A 7.0MM | E30: KG | F30: ='MEMORIA DE CÁLCULO'!J89 -> 1023 | G30: 11.95 | H30: =G30*J30 -> 15.526635 | I30: =ROUND(F30*H30,2) -> 15883.75 | J30: 1.2993 | K30: =UPPER(D30) -> FORNECIMENTO, DOBRAGEM E COLOCAÇÃO EM FÔRMA, DE ARMADURA CA-60 B FINA, DIÂMETRO DE 4.0 A 7.0MM
A31: 5.2.4 | B31: LABOR | C31: 040328 | D31: FORNECIMENTO, DOBRAGEM E COLOCAÇÃO EM FÔRMA, DE ARMADURA CA-50 A MÉDIA, DIÂMETRO DE 6.3 A 10.0 MM | E31: KG | F31: ='MEMORIA DE CÁLCULO'!J91 -> 28397 | G31: 11.65 | H31: =G31*J31 -> 15.136845 | I31: =ROUND(F31*H31,2) -> 429840.99 | J31: 1.2993 | K31: =UPPER(D31) -> FORNECIMENTO, DOBRAGEM E COLOCAÇÃO EM FÔRMA, DE ARMADURA CA-50 A MÉDIA, DIÂMETRO DE 6.3 A 10.0 MM
A32: 5.2.5 | B32: LABOR | C32: 040332 | D32: FORNECIMENTO, DOBRAGEM E COLOCAÇÃO EM FÔRMA, DE ARMADURA CA-50 A GROSSA, DIÂMETRO DE 12.5 A 25.0MM | E32: KG | F32: ='MEMORIA DE CÁLCULO'!J94 -> 32498 | G32: 12.08 | H32: =G32*J32 -> 15.695544 | I32: =ROUND(F32*H32,2) -> 510073.79 | J32: 1.2993 | K32: =UPPER(D32) -> FORNECIMENTO, DOBRAGEM E COLOCAÇÃO EM FÔRMA, DE ARMADURA CA-50 A GROSSA, DIÂMETRO DE 12.5 A 25.0MM
A33: 5.2.6 | B33: ADAPTADO SEDOP ED-050771 | C33: COMPOSIÇÃO 02 | D33: LAJE PRÉ-MOLDADA, A REVESTIR, INCLUSIVE CAPEAMENTO E = 4 CM, SC = 200 KG/M2, L = 8,00 M | E33: M2 | F33: ='MEMORIA DE CÁLCULO'!J97 -> 2653.85 | G33: ='COMPOSIÇÃO DE CUSTO'!F20 -> 127.885 | H33: =G33*J33 -> 166.16098 | I33: =ROUND(F33*H33,2) -> 440966.32 | J33: 1.2993 | K33: =UPPER(D33) -> LAJE PRÉ-MOLDADA, A REVESTIR, INCLUSIVE CAPEAMENTO E = 4 CM, SC = 200 KG/M2, L = 8,00 M
A34: 6 | D34: PAREDES E PAINÉIS | I34: =SUM(I35:I37) -> 435707.89 | K34: =UPPER(D34) -> PAREDES E PAINÉIS
A35: 6.1 | B35: LABOR | C35: 50602 | D35: ALVENARIA DE BLOCOS DE CONCRETO 14X19X39CM, C/ RESIST. MÍNIMO A COMPRES. 2.5 MPA, ASSENT. C/ ARG. DE CIMENTO, CAL HIDRATADA CH1 E AREIA NO TRAÇO 1:0.5:8 ESP. DAS JUNTAS 10MM E ESP. DAS PAREDES, S/ REV. 14CM | E35: M2 | F35: ='MEMORIA DE CÁLCULO'!J107 -> 3345.22 | G35: 81.28 | H35: =G35*J35 -> 105.6071 | I35: =H35*F35 -> 353279 | J35: 1.2993 | K35: =UPPER(D35) -> ALVENARIA DE BLOCOS DE CONCRETO 14X19X39CM, C/ RESIST. MÍNIMO A COMPRES. 2.5 MPA, ASSENT. C/ ARG. DE CIMENTO, CAL HIDRATADA CH1 E AREIA NO TRAÇO 1:0.5:8 ESP. DAS JUNTAS 10MM E ESP. DAS PAREDES, S/ REV. 14CM
A36: 6.2 | B36: LABOR | C36: 50206 | D36: DIVISÓRIA DE GRANITO CINZA ANDORINHA COM 3 CM DE ESPESSURA, FIXADA COM CANTONEIRA DE FERRO CROMADO | E36: M2 | F36: ='MEMORIA DE CÁLCULO'!J293 -> 118.386 | G36: 454.6 | H36: =G36*J36 -> 590.66178 | I36: =H36*F36 -> 69926.085 | J36: 1.2993 | K36: =UPPER(D36) -> DIVISÓRIA DE GRANITO CINZA ANDORINHA COM 3 CM DE ESPESSURA, FIXADA COM CANTONEIRA DE FERRO CROMADO
A37: 6.3 | B37: LABOR | C37: 50112 | D37: COBOGÓ DE CONCRETO 40 X 40 X 10 CM, TIPO RETO, ASSENTADOS COM ARGAMASSA DE CIMENTO E AREIA NO TRAÇO 1:3, ESPESSURA DAS JUNTAS 15 MM | E37: M2 | F37: ='MEMORIA DE CÁLCULO'!J306 -> 55.44 | G37: 173.57 | H37: =G37*J37 -> 225.5195 | I37: =H37*F37 -> 12502.801 | J37: 1.2993 | K37: =UPPER(D37) -> COBOGÓ DE CONCRETO 40 X 40 X 10 CM, TIPO RETO, ASSENTADOS COM ARGAMASSA DE CIMENTO E AREIA NO TRAÇO 1:3, ESPESSURA DAS JUNTAS 15 MM
A38: 7 | D38: ESQUADRIAS DE MADEIRA | I38: =SUM(I39:I49) -> 185660.27 | K38: =UPPER(D38) -> ESQUADRIAS DE MADEIRA
A39: 7.1 | B39: LABOR | C39: 62505 | D39: PORTA MADEIRA DE LEI TIPO ANGELIM PEDRA OU EQUIV.,ESP. 30 A 35 MM, SARRAFEADA COM ENCHIMENTO, C/ FRISO P/ VERNIZ, PADRÃO SEDU, COM VISOR, INCLUSIVE ALIZARES, DOBRADIÇAS E FECHADURA TIPO EXT. EM LATÃO CROMADO LAFONTE OU EQUIV., EXCL. MARCO, DIMENSÕES: 1.60 X 2.10 M (DUAS FOLHAS) | E39: UNIDADE | F39: ='MEMORIA DE CÁLCULO'!J312 -> 2 | G39: 3609.22 | H39: =G39*J39 -> 4689.4595 | I39: =H39*F39 -> 9378.9191 | J39: 1.2993 | K39: =UPPER(D39) -> PORTA MADEIRA DE LEI TIPO ANGELIM PEDRA OU EQUIV.,ESP. 30 A 35 MM, SARRAFEADA COM ENCHIMENTO, C/ FRISO P/ VERNIZ, PADRÃO SEDU, COM VISOR, INCLUSIVE ALIZARES, DOBRADIÇAS E FECHADURA TIPO EXT. EM LATÃO CROMADO LAFONTE OU EQUIV., EXCL. MARCO, DIMENSÕES: 1.60 X 2.10 M (DUAS FOLHAS)
A40: 7.2 | B40: ADAPTADO 170561 LABOR | C40: COMPOSIÇÃO 13 | D40: MARCO DE MADEIRA DE LEI DE 1ª (PEROBA, IPÊ, ANGELIM PEDRA OU EQUIVALENTE) COM 15X3 CM DE BATENTE, NAS DIMENSÕES DE 1.60 X 2.10 M | E40: UNIDADE | F40: ='MEMORIA DE CÁLCULO'!J314 -> 2 | G40: ='COMPOSIÇÃO DE CUSTO'!F148 -> 407.00317 | H40: =G40*J40 -> 528.81922 | I40: =H40*F40 -> 1057.6384 | J40: 1.2993 | K40: =UPPER(D40) -> MARCO DE MADEIRA DE LEI DE 1ª (PEROBA, IPÊ, ANGELIM PEDRA OU EQUIVALENTE) COM 15X3 CM DE BATENTE, NAS DIMENSÕES DE 1.60 X 2.10 M
...

Sheet MEMORIA DE CÁLCULO
A1: MEMÓRIA DE CÁLCULO - PREFEITURA MUNICIPAL DE VILA PAVÃO
A2: ITEM | B2: DATA BASE: SINAPI OUTUBRO/2022 - DER-EDI OUTUBRO/2022 - DER-ROD JAN/2022 - SEINFRA PINI TCPO PINI OUTUBRO/2022 BDI: 29,93 % BDI DIFERENCIADO: 15,57 % L.S. NÃO-DESONERADAS: 157,27% | C2: UNIDADE | D2: LARGURA (m) | E2: COMP./ PERÍMETRO (m) | F2: ÁREA (m²) | G2: VOLUME (m³) | H2: PESO (kg) | I2: ALTURA (m) | J2: TOTAL | K2: UNIDADE
A3: 1 | B3: LICITAÇÃO
A4: 2 | B4: INSTALAÇÃO DO CANTEIRO DE OBRA
A5: 2.1 | B5: PLACA DE OBRA NAS DIMENSÕES 2.0X4.0M, PADRÃO IOPES | F5: 8 | J5: =F5 -> 8 | K5: M2
A6: 2.2 | B6: BARRACÃO PARA ESCRITÓRIO COM SANITÁRIO ÁREA DE 14.50 M2, DE CHAPA DE COMPENS. 12MM E PONTALETE 8X8CM, PISO CIMENTADO E COBERTURA DE TELHA DE FIBROC. 6MM, INCL. PONTO DE LUZ E CX. DE INSPEÇÃO, CONF. PROJETO (1 UTILIZAÇÃO) | F6: 8 | J6: =F6 -> 8 | K6: M2
A7: 2.3 | B7: BARRACÃO PARA ALMOXARIFADO ÁREA DE 10.90M2, DE CHAPA DE COMPENSADO DE 12MM E PONTALETE 8X8CM, PISO CIMENTADO E COBERTURA DE TELHAS DE FIBROCIMENTO DE 6MM, INCL. PONTO DE LUZ, CONF. PROJETO (1 UTILIZAÇÃO) | F7: 8 | J7: =F7 -> 8 | K7: M2
A8: 2.4 | B8: REDE DE LUZ, INCL. PADRÃO ENTRADA DE ENERGIA TRIFÁS., CABO DE LIGAÇÃO ATÉ BARRACÕES, QUADRO DE DISTRIB., DISJ. E CHAVE DE FORÇA (QUANDO NECESSÁRIO), CONS. 20M ENTRE PADRÃO ENTRADA E QDG, CONF. PROJETO (1 UTILIZAÇÃO | E8: 20 | J8: =E8 -> 20 | K8: M
A9: 2.5 | B9: PADRÃO DE ENTRADA D' ÁGUA COM CAVALETE DE PVC PARA HIDRÔMETRO COM DIÂMETRO DE 3/4" - PADRÃO 1C DA CESAN. INSTALADO EM VÃO DE MURO PROTEGIDO COM GRADEAMENTO. INCLUSIVE BASE DE CONCRETO MAGRO, TUBULAÇÃO, CONEXÕES E REGISTRO. CONFERIR DETALHE. POR QUE SAO ITENS QUE TEM QUE TER NO CANTEIRO | C9: 1 | J9: =C9 -> 1 | K9: UNIDADE
A10: 2.6 | B10: TAPUME TELHA METÁLICA ONDULADA 0,50MM BRANCA H=2,20M, INCL. MONTAGEM ESTR. MAD. 8"X8", C/ADESIVO "IOPES" 60X60CM A CADA 10M, INCL. FAIXAS PINT. ESMALTE SINT. CORES AZUL C/ H=30CM E ROSA C/ H=10CM | J10: =SUM(E12:E15) -> 321.35 | K10: M
B11: PERÍMETRO DO TERRENO A 1M DO MURO Á CONSTRUIR:
B12: VISTA FRONTAL: L=101.9M | E12: 101.9
B13: VISTA POSTERIOR: L=114.55M | E13: 114.55
B14: VISTA LATERAL ESQUERDA: L=50M | E14: 50
B15: VISTA LATERAL DIREITA: L=54.9M | E15: 54.9
A16: 3.7 | B16: LOCACAO CONVENCIONAL DE OBRA, UTILIZANDO GABARITO DE TÁBUAS CORRIDAS PONTALETADAS A CADA 2,00M - 2 UTILIZAÇÕES. AF_10/2018 | J16: =E17 -> 274.7 | K16: M
B17: PERÍMETRO DA EDIFICAÇÃO = 274.70M | E17: 274.7
A18: 4 | B18: MOVIMENTAÇÃO DE TERRA
A19: 4.1 | B19: EXECUÇÃO E COMPACTAÇÃO DE ATERRO COM SOLO PREDOMINANTEMENTE ARGILOSO EXCLUSIVE SOLO, ESCAVAÇÃO, CARGA E TRANSPORTE. AF_11/2019 | J19: =G20 -> 6027.5 | K19: M3
B20: VOLUME DE SOLO PARA COMPACTAÇÃO DE TODO O TERRENO (INCLUSIVE ÁREA DE TODOS OS AMBIENTES)= A=4822M² X HMÉDIO=1.25M | G20: 6027.5
A21: 4.2 | B21: 'ESCAVAÇÃO MECÂNICA EM MATERIAL DE 2A. CATEGORIA | J21: =SUM(G22:G28) -> 2236.5475 | K21: M3
B22: BASE PARA CASTELO D'AGUA - PRANCHA 0844-B-001-EST-R00 - ESCAVAÇÃO = ÁREA DE BASE + 50CM DE CADA LADO X ALTURA | G22: 6.63
B23: MURO DE ARRIMO POR GABIÃO - PRANCHA 0844-A-001-EST-R02 - ESCAVAÇÃO = ÁREA DE BASE + 50CM DE CADA LADO X ALTURA | G23: 192.5
B24: RESERVATÓRIO ENTERRADO - PRANCHA 0844-C-001-EST-R00 - ESCAVAÇÃO = ÁREA DE BASE + 50CM DE CADA LADO X ALTURA | G24: 169.26
B25: EDIFICAÇÃO PRINCIPAL - PRANCHA 0844-006-EST-R02 - ESCAVAÇÃO = ÁREA DE BASE SAPATAS + 50CM DE CADA LADO X ALTURA | G25: 1626.32
B26: EDIFICAÇÃO PRINCIPAL - PRANCHA 0844-006-EST-R02 - ESCAVAÇÃO = ÁREA DE BASE CINTAS + 50CM DE CADA LADO X ALTURA | G26: 90.76
B27: MURO DE ARRIMO 02 | E27: 19.3 | F27: 1.505 | G27: =F27*E27 -> 29.0465
B28: MURO DE ARRIMO 03 | E28: 44.7 | F28: 2.73 | G28: =F28*E28 -> 122.031
A29: 4.3 | B29: REATERRO APILOADO DE CAVAS DE FUNDAÇÃO, EM CAMADAS DE 20 CM | J29: =SUM(G30:G33) -> 1623.2375 | K29: M3
B30: RESERVATÓRIO ENTERRADO - PRANCHA 0844-C-001-EST-R00 | G30: =169.26-146.22 -> 23.04
B31: EDIFICAÇÃO PRINCIPAL - PRANCHA 0844-006-EST-R02 - SAPATAS E PILARETES | G31: =G25-G48-G51 -> 1504.62
B32: MURO DE ARRIMO 02 | G32: =G27-G52 -> 17.3465
B33: MURO DE ARRIMO 03 | G33: =G28-G53 -> 78.231
A34: 5 | B34: FUNDAÇÕES
A35: 5.1 | B35: FUNDAÇÕES
A36: 5.1.1 | B36: FORNECIMENTO, PREPARO E APLICAÇÃO DE CONCRETO MAGRO COM CONSUMO MÍNIMO DE CIMENTO DE 250 KG/M3 (BRITA 1 E 2) - (5% DE PERDAS JÁ INCLUÍDO NO CUSTO) | J36: =SUM(G37:G44) -> 176.71 | K36: M3
B37: BASE PARA CASTELO D'AGUA - PRANCHA 0844-B-001-EST-R00 CONFORME QUADRO DE QUANTITATIVOS | G37: 0.9
B38: MURO DE ARRIMO POR GABIÃO - PRANCHA 0844-A-001-EST-R02 = 110.76M X 3.00M X 0.05M | G38: 16.62
B39: RESERVATÓRIO ENTERRADO - PRANCHA 0844-C-001-EST-R00 = 12.84MX4.38MX0.05M | G39: 2.82
B40: EDIFICAÇÃO PRINCIPAL - PRANCHA 0844-003-EST-R02 E 0844-004-EST-R02 - SAPATAS ÁREA DE BASE 226.21M² X ESPESSURA DE 5CM | G40: 11.31
...

Sheet COMPOSIÇÃO DE CUSTO
A1: PLANILHA DE COMPOSIÇÃO DE CUSTOS UNITÁRIOS
A2: PREFEITURA MUNICIPAL DE VILA PAVÃO
A3: Data: OUTUBRO/2022
A5: COMPOSIÇÃO 01 | B5: GABIÃO COM TELA DE ARAME GALVANIZADO, FIO 2,7MM, MALHA HEXAGONAL 8 X 10CM, TIPO CAIXA | E5: Unidade: | F5: M
A6: 3R 33 33 37 00 00 00 00 15 PINI
A7: Insumos | C7: Unidade | D7: Consumo | E7: Custo Unitário | F7: Custo Total
A8: 2C 02 05 04 00 03 PINI | B8: GABIÃO TIPO CAIXA TELA DE AÇO REVESTIDA COM GALFAN Ø 2,7 MM 1 X 1 M | C8: m³ | D8: 6.5 | E8: 383.25 | F8: =D8*E8 -> 2491.125
A9: 00004730 SINAPI | B9: PEDRA DE MAO OU PEDRA RACHAO PARA ARRIMO/FUNDACAO (POSTO PEDREIRA/FORNECEDOR, SEM FRETE) | C9: m³ | D9: 7.8 | E9: 115.5 | F9: =D9*E9 -> 900.9
A10: 3R 50 50 46 14 00 00 22 01 PINI | B10: RETROESCAVADEIRA SOBRE PNEUS 75 HP - 56 KW, CAÇAMBA DIANTEIRA, 0,76 M³, RETRO, 0,22 M³, PROFUNDIDADE DE ESCAVAÇÃO DE 4,3 M | C10: h produ | D10: 1.29 | E10: 141.28 | F10: =D10*E10 -> 182.2512
A11: LABOR 010146 | B11: SERVENTE (AUXILIAR DE OBRAS - SINDUSCON)(LABOR) | C11: H | D11: 17.4 | E11: 14.05 | F11: =D11*E11 -> 244.47
A12: Custo total | F12: =SUM(F8:F11) -> 3818.7462
A14: COMPOSIÇÃO 02 | B14: LAJE PRÉ-MOLDADA, A REVESTIR, INCLUSIVE CAPEAMENTO E = 4 CM, SC = 200 KG/M2, L = 8,00 M | C14: LIGAÇÃO PROVISÓRIA DE LUZ E FORÇA-PADRÃO PROVISÓRIO | D14: LIGAÇÃO PROVISÓRIA DE LUZ E FORÇA-PADRÃO PROVISÓRIO | E14: Unidade: | F14: M2
A15: ADAPTADO SEDOP ED-050771 | B15: LIGAÇÃO PROVISÓRIA DE LUZ E FORÇA-PADRÃO PROVISÓRIO | C15: LIGAÇÃO PROVISÓRIA DE LUZ E FORÇA-PADRÃO PROVISÓRIO | D15: LIGAÇÃO PROVISÓRIA DE LUZ E FORÇA-PADRÃO PROVISÓRIO
A16: Insumos | C16: Unidade | D16: Consumo | E16: Custo Unitário | F16: Custo Total
A17: D00352 SEDOP | B17: LAJE PRÉ-MOLDADA, AREVESTIR SC = 200 KG/M2, L = 8,0 M | C17: M2 | D17: 1.05 | E17: 106 | F17: =D17*E17 -> 111.3
A18: LABOR 010139 | B18: PEDREIRO - (OFICIAL - SINDUSCON) (LABOR) | C18: H | D18: 0.5 | E18: 19.12 | F18: =D18*E18 -> 9.56
A19: LABOR 010146 | B19: SERVENTE (AUXILIAR DE OBRAS - SINDUSCON)(LABOR) | C19: H | D19: 0.5 | E19: 14.05 | F19: =D19*E19 -> 7.025
A20: Custo total | F20: =SUM(F17:F19) -> 127.885
A22: COMPOSIÇÃO 03 | B22: FORNECIMENTO E INSTALAÇÃO DE PORTA CORTA-FOGO PARA SAÍDA DE EMERGÊNCIA DIM.: 160X210X5CM, CONFORME ABNT NBR 11742P, CLASSE P-90, INCL. MARCO, 3 PARES DE DOBRADIÇAAS C/MOLA, BARRA ANTI-PANICO, PINTURA ESMALTE SINTETICO COR VERMELHA | E22: Unidade: | F22: UNIDADE
A23: ADAPTADO LABOR 160665
A24: Insumos | C24: Unidade | D24: Consumo | E24: Custo Unitário | F24: Custo Total
A25: LABOR 038001 | B25: AGUARRAZ MINERAL (LABOR) | C25: L | D25: =0.126*1.6 -> 0.2016 | E25: 14.17 | F25: =D25*E25 -> 2.856672
A26: LABOR 020503 | B26: AREIA LAVADA MEDIA (LABOR) | C26: M3 | D26: =0.006426*1.6 -> 0.0102816 | E26: 90 | F26: =D26*E26 -> 0.925344
A27: LABOR 020508 | B27: CIMENTO PORTLAND CP III - 40 (LABOR) | C27: KG | D27: =2.122281*1.6 -> 3.3956496 | E27: 0.46 | F27: =D27*E27 -> 1.5619988
A28: LABOR 037502 | B28: ESMALTE SINTETICO (LABOR) | C28: L | D28: =1.134*1.6 -> 1.8144 | E28: 31.57 | F28: =D28*E28 -> 57.280608
A29: LABOR 038012 | B29: LIXA P/ FERRO Nº 100 K-246 225X275MM - NORTON OU EQUIVALENTE (LABOR) | C29: UNIDADE | D29: =1.575*1.6 -> 2.52 | E29: 3.13 | F29: =D29*E29 -> 7.8876
A30: LABOR 150706 | B30: PORTA CORTA FOGO COM BARRA ANTIPANICO 1.00 X 2.10 (LABOR) | C30: UNIDADE | D30: =1*1.6 -> 1.6 | E30: 2146.48 | F30: =D30*E30 -> 3434.368
A31: LABOR 038028 | B31: ZARCAO (LABOR) | C31: L | D31: =0.693*1.6 -> 1.1088 | E31: 21.76 | F31: =D31*E31 -> 24.127488
A32: LABOR 010101 | B32: AJUDANTE (AJUDANTE PRATICO - SINDUSCON)(LABOR) | C32: H | D32: =1.26*1.6 -> 2.016 | E32: 16.13 | F32: =D32*E32 -> 32.51808
A33: LABOR 010139 | B33: PEDREIRO - (OFICIAL - SINDUSCON) (LABOR) | C33: H | D33: =3.835752*1.6 -> 6.1372032 | E33: 19.12 | F33: =D33*E33 -> 117.34333
A34: LABOR 010140 | B34: PINTOR -(OFICIAL - SINDUSCON) (LABOR) | C34: H | D34: =2.52*1.6 -> 4.032 | E34: 19.12 | F34: =D34*E34 -> 77.09184
A35: LABOR 010146 | B35: SERVENTE (AUXILIAR DE OBRAS - SINDUSCON)(LABOR) | C35: H | D35: =4.631873*1.6 -> 7.4109968 | E35: 14.05 | F35: =D35*E35 -> 104.12451
A36: Custo total | F36: =SUM(F25:F35) -> 3860.0855
A38: COMPOSIÇÃO 04 | B38: FORNECIMENTO E INSTALAÇÃO DE PORTA CORTA-FOGO PARA SAÍDA DE EMERGÊNCIA DIM.: 80X210X5CM, CONFORME ABNT NBR 11742P, CLASSE P-90, INCL. MARCO, 3 PARES DE DOBRADIÇAAS C/MOLA, BARRA ANTI-PANICO, PINTURA ESMALTE SINTETICO COR VERMELHA | E38: Unidade: | F38: UNIDADE
A39: ADAPTADO LABOR 160665
A40: Insumos | C40: Unidade | D40: Consumo | E40: Custo Unitário | F40: Custo Total
A41: LABOR 038001 | B41: AGUARRAZ MINERAL (LABOR) | C41: L | D41: =0.126*0.8 -> 0.1008 | E41: 14.17 | F41: =D41*E41 -> 1.428336
A42: LABOR 020503 | B42: AREIA LAVADA MEDIA (LABOR) | C42: M3 | D42: =0.006426*0.8 -> 0.0051408 | E42: 90 | F42: =D42*E42 -> 0.462672
A43: LABOR 020508 | B43: CIMENTO PORTLAND CP III - 40 (LABOR) | C43: KG | D43: =2.122281*0.8 -> 1.6978248 | E43: 0.46 | F43: =D43*E43 -> 0.78099941
A44: LABOR 037502 | B44: ESMALTE SINTETICO (LABOR) | C44: L | D44: =1.134*0.8 -> 0.9072 | E44: 31.57 | F44: =D44*E44 -> 28.640304
...

Sheet CURVA ABC
A1: CURVA ABC - PREFEITURA MUNICIPAL DE VILA PAVÃO
A2: DATA BASE: SINAPI OUTUBRO/2022 - DER-EDI OUTUBRO/2022 - DER-ROD JAN/2022 - SEINFRA PINI TCPO PINI OUTUBRO/2022 BDI: 29,93 % BDI DIFERENCIADO: 15,57 % L.S. NÃO-DESONERADAS: 157,27%
A3: DESCRIÇÃO SERVIÇO | B3: VALOR UNITARIO | C3: PESO | D3: PESO ACUMULADO | E3: CURVA ABC
A5: =ORÇAMENTO!D26 -> GABIÃO COM TELA DE ARAME GALVANIZADO, FIO 2,7MM, MALHA HEXAGONAL 8 X 10CM, TIPO CAIXA | B5: =ORÇAMENTO!I26 -> 565236.52 | C5: =B5/'PLANILHA RESUMO'!$C$44 -> 0.051663914 | D5: =C5 -> 0.051663914 | E5: A
A6: =ORÇAMENTO!D21 -> FORNECIMENTO E APLICAÇÃO DE CONCRETO USINADO FCK=30 MPA - CONSIDERANDO LANÇAMENTO MANUAL PARA INFRA-ESTRUTURA (5% DE PERDAS JÁ INCLUÍDO NO CUSTO) | B6: =ORÇAMENTO!I21 -> 525516.15 | C6: =B6/'PLANILHA RESUMO'!$C$44 -> 0.048033381 | D6: =C6+D5 -> 0.099697296 | E6: A
A7: =ORÇAMENTO!D32 -> FORNECIMENTO, DOBRAGEM E COLOCAÇÃO EM FÔRMA, DE ARMADURA CA-50 A GROSSA, DIÂMETRO DE 12.5 A 25.0MM | B7: =ORÇAMENTO!I32 -> 510073.79 | C7: =B7/'PLANILHA RESUMO'!$C$44 -> 0.046621914 | D7: =C7+D6 -> 0.14631921 | E7: A
A8: =ORÇAMENTO!D33 -> LAJE PRÉ-MOLDADA, A REVESTIR, INCLUSIVE CAPEAMENTO E = 4 CM, SC = 200 KG/M2, L = 8,00 M | B8: =ORÇAMENTO!I33 -> 440966.32 | C8: =B8/'PLANILHA RESUMO'!$C$44 -> 0.040305333 | D8: =C8+D7 -> 0.18662454 | E8: A
A9: =ORÇAMENTO!D28 -> FORNECIMENTO E APLICAÇÃO DE CONCRETO USINADO FCK=30 MPA - CONSIDERANDO BOMBEAMENTO (5% DE PERDAS JÁ INCLUÍDO NO CUSTO) (6% DE TAXA P/ CONCR. BOMBEAVEL) | B9: =ORÇAMENTO!I28 -> 439160.27 | C9: =B9/'PLANILHA RESUMO'!$C$44 -> 0.040140256 | D9: =C9+D8 -> 0.2267648 | E9: A
A10: =ORÇAMENTO!D31 -> FORNECIMENTO, DOBRAGEM E COLOCAÇÃO EM FÔRMA, DE ARMADURA CA-50 A MÉDIA, DIÂMETRO DE 6.3 A 10.0 MM | B10: =ORÇAMENTO!I31 -> 429840.99 | C10: =B10/'PLANILHA RESUMO'!$C$44 -> 0.039288452 | D10: =C10+D9 -> 0.26605325 | E10: A
A11: =ORÇAMENTO!D29 -> FÔRMA EM CHAPA DE MADEIRA COMPENSADA PLASTIFICADA 12MM PARA ESTRUTURA EM GERAL, 5 REAPROVEITAMENTOS, REFORÇADA COM SARRAFOS DE MADEIRA 2.5X10CM (INCL MATERIAL, CORTE, MONTAGEM, ESCORAS EM EUCALIPTO E DESFORMA) | B11: =ORÇAMENTO!I29 -> 357191.69 | C11: =B11/'PLANILHA RESUMO'!$C$44 -> 0.03264814 | D11: =C11+D10 -> 0.29870139 | E11: A
A12: =ORÇAMENTO!D35 -> ALVENARIA DE BLOCOS DE CONCRETO 14X19X39CM, C/ RESIST. MÍNIMO A COMPRES. 2.5 MPA, ASSENT. C/ ARG. DE CIMENTO, CAL HIDRATADA CH1 E AREIA NO TRAÇO 1:0.5:8 ESP. DAS JUNTAS 10MM E ESP. DAS PAREDES, S/ REV. 14CM | B12: =ORÇAMENTO!I35 -> 353279 | C12: =B12/'PLANILHA RESUMO'!$C$44 -> 0.032290511 | D12: =C12+D11 -> 0.3309919 | E12: A
A13: =ORÇAMENTO!D73 -> CERÂMICA 10 X 10 CM, REF CAMBURI BRANCO ELIANE, CECRISA OU PORTOBELLO, EMPREGANDO ARGAMASSA COLANTE, INCLUSIVE REJUNTAMENTO JUNTA PLUS CINZA CLARO ESP. 3 MM | B13: =ORÇAMENTO!I73 -> 305924.65 | C13: =B13/'PLANILHA RESUMO'!$C$44 -> 0.027962215 | D13: =C13+D12 -> 0.35895412 | E13: A
A14: =ORÇAMENTO!D25 -> FORNECIMENTO, DOBRAGEM E COLOCAÇÃO EM FÔRMA, DE ARMADURA CA-50 A GROSSA, DIÂMETRO DE 12.5 A 25.0MM | B14: =ORÇAMENTO!I25 -> 277183.31 | C14: =B14/'PLANILHA RESUMO'!$C$44 -> 0.02533519 | D14: =C14+D13 -> 0.38428931 | E14: A
A15: =ORÇAMENTO!D22 -> FÔRMA DE TÁBUA DE MADEIRA DE 2.5 X 30.0 CM PARA FUNDAÇÕES, LEVANDO-SE EM CONTA A UTILIZAÇÃO 5 VEZES (INCLUIDO O MATERIAL, CORTE, MONTAGEM, ESCORAMENTO E DESFORMA) | B15: =ORÇAMENTO!I22 -> 268004.27 | C15: =B15/'PLANILHA RESUMO'!$C$44 -> 0.024496205 | D15: =C15+D14 -> 0.40878551 | E15: A
A16: =ORÇAMENTO!D65 -> ÍNDICE DE IMPERM.C/ MANTA ASFÁLTICA ATENDENDO NBR 9952, ASFALTO POLIMERIZADO ESP.3MM, REFORÇ.C/ FILME INT. POLIETILENO, REGUL. BASE C/ ARG.1:4 ESP.MÍN.15MM, PROTEÇÃO MEC. ARG.1:4 ESP.20MM E JUNTAS DILAT. | B16: =ORÇAMENTO!I65 -> 216816.97 | C16: =B16/'PLANILHA RESUMO'!$C$44 -> 0.019817568 | D16: =C16+D15 -> 0.42860308 | E16: A
A17: =ORÇAMENTO!D79 -> PISO CERÂMICO ESMALTADO, PEI 5, ACABAMENTO SEMIBRILHO, DIM. 45X45CM, REF. DE COR CARGO PLUS WHITE ELIANE/EQUIV. ASSENTADO COM ARGAMASSA DE CIMENTO COLANTE, INCLUSIVE REJUNTAMENTO | B17: =ORÇAMENTO!I79 -> 203516.55 | C17: =B17/'PLANILHA RESUMO'!$C$44 -> 0.01860188 | D17: =C17+D16 -> 0.44720496 | E17: A
A18: =ORÇAMENTO!D243 -> MURO DE ALVENARIA DE BLOCOS CERÂMICOS 10X20X20CM, C/ PILARES A CADA 2 M, ESP. 10CM E H=2.5M, REVESTIDO COM CHAPISCO, REBOCO E PINTURA ACRÍLICA A 2 DEMÃOS, INCL. PILARES, CINTAS E SAPATAS, EMPREGANDO ARG. CIMENTO CAL E AREIA | B18: =ORÇAMENTO!I243 -> 201271.11 | C18: =B18/'PLANILHA RESUMO'!$C$44 -> 0.018396641 | D18: =C18+D17 -> 0.4656016 | E18: A
A19: =ORÇAMENTO!D170 -> TELHAMENTO COM TELHA ONDULADA DE FIBROCIMENTO E = 6 MM, COM RECOBRIMENTO LATERAL DE 1/4 DE ONDA PARA TELHADO COM INCLINAÇÃO MAIOR QUE 10°, COM ATÉ 2 ÁGUAS, INCLUSO IÇAMENTO. AF_07/2019 | B19: =ORÇAMENTO!I170 -> 189325.49 | C19: =B19/'PLANILHA RESUMO'!$C$44 -> 0.017304784 | D19: =C19+D18 -> 0.48290639 | E19: A
A20: =ORÇAMENTO!D178 -> CADEIRA PARA AUDITÓRIO | B20: =ORÇAMENTO!I178 -> 186132.02 | C20: =B20/'PLANILHA RESUMO'!$C$44 -> 0.017012893 | D20: =C20+D19 -> 0.49991928 | E20: A
A21: =ORÇAMENTO!D230 -> PINTURA COM TINTA ACRÍLICA, MARCAS DE REFERÊNCIA SUVINIL, CORAL E METALATEX, INCLUSIVE SELADOR ACRÍLICO, EM PAREDES E FORROS, A DUAS DEMÃOS | B21: =ORÇAMENTO!I230 -> 168390 | C21: =B21/'PLANILHA RESUMO'!$C$44 -> 0.015391232 | D21: =C21+D20 -> 0.51531051 | E21: A
A22: =ORÇAMENTO!D218 -> LUMINARIA EMBUTIR COMPL., CORPO CH. AÇO PINTADA BRANCA, REFLETOR, ALETAS PARABÓLICAS ALUM.ALTA PUREZA E REFLETÂNCIA INCLUSIVE 2 LÂMPADAS LED T8 18W TEMP. DE COR 5000K C/ 1,20M - REF. CE232AL-N - AMES, 6025 - LUMAVI -LDEF 2X32W - LUMILUZ OU EQUIVALENTE | B22: =ORÇAMENTO!I218 -> 162831.97 | C22: =B22/'PLANILHA RESUMO'!$C$44 -> 0.014883215 | D22: =C22+D21 -> 0.53019373 | E22: B
A23: =ORÇAMENTO!D163 -> CONDUTOR DE COBRE NÚ, SEÇÃO DE 35MM2, INCLUSIVE SUPORTES ISOLADORES E ACESSÓRIOS DE FIXAÇÃO, CONFORME PROJETO | B23: =ORÇAMENTO!I163 -> 155995.43 | C23: =B23/'PLANILHA RESUMO'!$C$44 -> 0.01425834 | D23: =C23+D22 -> 0.54445207 | E23: B
A24: =ORÇAMENTO!D20 -> FORNECIMENTO, PREPARO E APLICAÇÃO DE CONCRETO MAGRO COM CONSUMO MÍNIMO DE CIMENTO DE 250 KG/M3 (BRITA 1 E 2) - (5% DE PERDAS JÁ INCLUÍDO NO CUSTO) | B24: =ORÇAMENTO!I20 -> 155548.94 | C24: =B24/'PLANILHA RESUMO'!$C$44 -> 0.01421753 | D24: =C24+D23 -> 0.5586696 | E24: B
A25: =ORÇAMENTO!D52 -> JANELA DE CORRER PARA VIDRO EM ALUMÍNIO ANODIZADO COR NATURAL, LINHA 25, COMPLETA, INCL. PUXADOR COM TRANCA, ALIZAR, CAIXILHO E CONTRAMARCO, EXCLUSIVE VIDRO | B25: =ORÇAMENTO!I52 -> 150221.59 | C25: =B25/'PLANILHA RESUMO'!$C$44 -> 0.013730598 | D25: =C25+D24 -> 0.57240019 | E25: B
A26: =ORÇAMENTO!D23 -> FORNECIMENTO, DOBRAGEM E COLOCAÇÃO EM FÔRMA, DE ARMADURA CA-60 B FINA, DIÂMETRO DE 4.0 A 7.0MM | B26: =ORÇAMENTO!I23 -> 146788.81 | C26: =B26/'PLANILHA RESUMO'!$C$44 -> 0.013416834 | D26: =C26+D25 -> 0.58581703 | E26: B
A27: =ORÇAMENTO!D76 -> EMBOÇO DE ARGAMASSA DE CIMENTO, CAL HIDRATADA CH1 E AREIA MÉDIA OU GROSSA LAVADA NO TRAÇO 1:0.5:6, ESPESSURA 20 MM | B27: =ORÇAMENTO!I76 -> 129476.68 | C27: =B27/'PLANILHA RESUMO'!$C$44 -> 0.011834466 | D27: =C27+D26 -> 0.59765149 | E27: B
A28: =ORÇAMENTO!D24 -> FORNECIMENTO, DOBRAGEM E COLOCAÇÃO EM FÔRMA, DE ARMADURA CA-50 A MÉDIA, DIÂMETRO DE 6.3 A 10.0 MM | B28: =ORÇAMENTO!I24 -> 127588.47 | C28: =B28/'PLANILHA RESUMO'!$C$44 -> 0.011661879 | D28: =C28+D27 -> 0.60931337 | E28: B
A29: =ORÇAMENTO!D147 -> SUBESTAÇÃO EXT. AÉREA TRIFÁS. 225KVA, COMPLETA, C/ QUADROS DE MEDIÇÃO, TRANSF. A ÓLEO, CHAVE GERAL TRIP., POSTE E ACESSÓRIOS, CONF. NOR-TEC-01 DA ESCELSA, INCL. MURETA REV. C/ ARG. CIMENTO, CAL HIDRAT. CH1 E AREIA TRAÇO 1:0.5:6 | B29: =ORÇAMENTO!I147 -> 118067.53 | C29: =B29/'PLANILHA RESUMO'!$C$44 -> 0.010791643 | D29: =C29+D28 -> 0.62010502 | E29: B
A30: =ORÇAMENTO!D60 -> BRISE METÁLICO SM-84 COR PRATA OU SIMILAR, COM ESTRUTURA E MONTAGEM | B30: =ORÇAMENTO!I60 -> 112761.88 | C30: =B30/'PLANILHA RESUMO'!$C$44 -> 0.010306694 | D30: =C30+D29 -> 0.63041171 | E30: B
A31: =ORÇAMENTO!D69 -> FORRO EM PLACAS DE GESSO, PARA AMBIENTES COMERCIAIS. AF_05/2017_P | B31: =ORÇAMENTO!I69 -> 111504.99 | C31: =B31/'PLANILHA RESUMO'!$C$44 -> 0.010191812 | D31: =C31+D30 -> 0.64060352 | E31: B
A32: =ORÇAMENTO!D62 -> VIDRO PLANO TRANSPARENTE LISO, COM 4 MM DE ESPESSURA | B32: =ORÇAMENTO!I62 -> 110726.04 | C32: =B32/'PLANILHA RESUMO'!$C$44 -> 0.010120614 | D32: =C32+D31 -> 0.65072414 | E32: B
A33: =ORÇAMENTO!D71 -> REBOCO DE ARGAMASSA DE CIMENTO, CAL HIDRATADA CH1 E AREIA MÉDIA OU GROSSA LAVADA NO TRAÇO 1:0.5:6, ESPESSURA 5MM | B33: =ORÇAMENTO!I71 -> 110525.34 | C33: =B33/'PLANILHA RESUMO'!$C$44 -> 0.01010227 | D33: =C33+D32 -> 0.66082641 | E33: B
A34: =ORÇAMENTO!D171 -> TRAMA DE MADEIRA COMPOSTA POR TERÇAS PARA TELHADOS DE ATÉ 2 ÁGUAS PARA TELHA ONDULADA DE FIBROCIMENTO, METÁLICA, PLÁSTICA OU TERMOACÚSTICA, INCLUSO TRANSPORTE VERTICAL. AF_07/2019 | B34: =ORÇAMENTO!I171 -> 108418.52 | C34: =B34/'PLANILHA RESUMO'!$C$44 -> 0.0099097015 | D34: =C34+D33 -> 0.67073611 | E34: B
A35: =ORÇAMENTO!D82 -> PISO CIMENTADO LISO COM 1.5 CM DE ESPESSURA, DE ARGAMASSA DE CIMENTO E AREIA NO TRAÇO 1:3 E JUNTAS PLÁSTICAS EM QUADROS DE 1 M | B35: =ORÇAMENTO!I82 -> 102103.85 | C35: =B35/'PLANILHA RESUMO'!$C$44 -> 0.0093325259 | D35: =C35+D34 -> 0.68006863 | E35: B
A36: =ORÇAMENTO!D182 -> RESERVATÓRIO TIPO TUBULAR | B36: =ORÇAMENTO!I182 -> 99854.25 | C36: =B36/'PLANILHA RESUMO'!$C$44 -> 0.0091269075 | D36: =C36+D35 -> 0.68919554 | E36: B
A37: =ORÇAMENTO!D133 -> FIO DE COBRE TERMOPLÁSTICO, COM ISOLAMENTO PARA 750V, SEÇÃO DE 2.5 MM2 | B37: =ORÇAMENTO!I133 -> 93861.303 | C37: =B37/'PLANILHA RESUMO'!$C$44 -> 0.0085791384 | D37: =C37+D36 -> 0.69777468 | E37: B
A38: =ORÇAMENTO!D235 -> CALHA DE CONCRETO E ALVENARIA, REVESTIDA INTERNAMENTE, COM GRELHA DE FERRO, SEÇÃO 0,20M X 0,15M | B38: =ORÇAMENTO!I235 -> 89022.61 | C38: =B38/'PLANILHA RESUMO'!$C$44 -> 0.0081368707 | D38: =C38+D37 -> 0.70591155 | E38: B
A39: =ORÇAMENTO!D15 -> EXECUÇÃO E COMPACTAÇÃO DE ATERRO COM SOLO PREDOMINANTEMENTE ARGILOSO EXCLUSIVE SOLO, ESCAVAÇÃO, CARGA E TRANSPORTE. AF_11/2019 | B39: =ORÇAMENTO!I15 -> 85833.58 | C39: =B39/'PLANILHA RESUMO'!$C$44 -> 0.0078453861 | D39: =C39+D38 -> 0.71375694 | E39: B
A40: =ORÇAMENTO!D12 -> TAPUME TELHA METÁLICA ONDULADA EM AÇO GALVALUME 0,50MM BRANCA H=2,20M, INCL. MONTAGEM ESTR. MAD. 8"X8", C/ADESIVO "DER-ES" 60X60CM A CADA 10M, INCL. FAIXAS PINT. ESMALTE SINT. CORES AZUL C/ H=30CM E ROSA C/ H=10CM (REAPROVEITAMENTO 2X) | B40: =ORÇAMENTO!I12 -> 85781.55 | C40: =B40/'PLANILHA RESUMO'!$C$44 -> 0.0078406304 | D40: =C40+D39 -> 0.72159757 | E40: B
A41: =ORÇAMENTO!D74 -> REVESTIMENTO CERÂMICO PARA PAREDES INTERNAS COM PLACAS TIPO ESMALTADA EXTRA DE DIMENSÕES 33X45 CM APLICADAS EM AMBIENTES DE ÁREA MAIOR QUE 5 M² NA ALTURA INTEIRA DAS PAREDES. AF_06/2014 | B41: =ORÇAMENTO!I74 -> 79988.576 | C41: =B41/'PLANILHA RESUMO'!$C$44 -> 0.0073111393 | D41: =C41+D40 -> 0.72890871 | E41: B
...

Sheet TABELA RESUMO DE COTAÇÕES
A1: TABELA RESUMO DE COTAÇÕES
N2: 0.15 | O2: limite percentual
N4: média1 | O4: média2 | P4: média3 | Q4: média4 | R4: média2 | S4: p1-média1 | T4: p2-média1 | U4: p3-média1 | V4: p1-média2 | W4: p1-média3 | X4: p2-média4
A5: ITEM | B5: DESCRIÇÃO | C5: UNIDADE | D5: QUANTIDADE | L5: PREÇO MÉDIO - VALOR UNIT. (R$) | N5: p1,p2,p3 | O5: p1,p2 | P5: p1,p3 | Q5: p2,p3 | R5: p1,p2
E6: COTAÇÃO 01 | F6: DADOS | G6: COTAÇÃO 02 | H6: DADOS | I6: COTAÇÃO 03 | J6: DADOS | K6: DATA PREÇO 03
A7: C.1 | B7: CADEIRA PARA AUDITÓRIO | C7: UNIDADE | D7: 1 | E7: 1501.99 | F7: NOVO MUNDO - 962)8562-7000 - CNPJ: 01.534.080/0001-28 | G7: 1501.99 | H7: LEROY MERLIM - 4007-1380 - CNPJ: 01.438.784/0001-05 | I7: 1498.39 | J7: MADEIRA MADEIRA - 0800 080 0099 - CNPJ: 10.490.181/0001-35 | K7: 44896 | L7: =(I7+G7+E7)/3 -> 1500.79
A8: C.2 | B8: RESERVATÓRIO 10.000L | C8: UNIDADE | D8: 1 | E8: 5379 | F8: LEROY MERLIM - 4007-1380 - CNPJ: 01.438.784/0001-05 | G8: 5442.19 | H8: AMERICANAS S.A. CNPJ: 00776574000156 | I8: 5129.05 | J8: MADEIRA MADEIRA - 0800 080 0099 - CNPJ: 10.490.181/0001-35 | K8: 44896 | L8: =(I8+G8+E8)/3 -> 5316.7467
A9: C.3 | B9: FECHADURA ELÉTRICA DUPLA PRETA | C9: UNIDADE | D9: 1 | E9: 289.9 | F9: LEROY MERLIM - 4007-1380 - CNPJ: 01.438.784/0001-05 | G9: 222.27 | H9: CELLETI - CNPJ: 39.893.680/0001-55 | I9: 225.88 | J9: CARREFOUR - CNPJ: 45.543.915/0001-81 | K9: 44896 | L9: =(I9+G9+E9)/3 -> 246.01667
A10: C.4 | B10: PERGOLADO EM MADEIRA | C10: M2 | D10: 1 | E10: 653.32 | F10: CASAS BAHIA - CNPJ: 59.291.534/0001-67 | G10: 616.36 | H10: SUBMARINO - CNPJ: 00.776.574/0006-60 | I10: 620.66 | J10: MADEIRA MADEIRA - 0800 080 0099 - CNPJ: 10.490.181/0001-35 | K10: 44896 | L10: =(E10+G10+I10)/3 -> 630.11333
A11: C.5 | B11: CUBA EM AÇO INOX D=35CM | C11: M2 | D11: 1 | E11: 259.9 | F11: AMAZON - CNPJ: 15.436.940/0001-03 | G11: 215.91 | H11: PREMIERRE EXCLUSIVE TRAMONTINA - CNPJ: 15.272.816/0001-41 | I11: 620.66 | J11: MADEIRA MADEIRA - 0800 080 0099 - CNPJ: 10.490.181/0001-35 | K11: 44896 | L11: =(E11+G11+I11)/3 -> 365.49
A12: C.6 | B12: RALO SEMI ESFÉRICO TIPO ABACAXI 150MM | C12: UNIDADE | D12: 1 | E12: 52.19 | F12: MADEIRA MADEIRA - 0800 080 0099 - CNPJ: 10.490.181/0001-35 | G12: 63.45 | H12: AMERICANAS S.A. CNPJ: 00776574000156 | I12: 44.99 | J12: CASAS BAHIA - CNPJ: 59.291.534/0001-67 | K12: 44896 | L12: =(E12+G12+I12)/3 -> 53.543333
A13: C.7 | B13: ROLETE DE PAPEL HIGIÊNICO | C13: UNIDADE | D13: 1 | E13: 5.95 | F13: MARCHIO - CNPJ: 2143842100025 | G13: 5.9 | H13: SHOPEE - CNPJ: 35.635.824/0001-1 | I13: 4.9 | J13: MAGAZINE LUIZA - CNPJ: 47960950000121 | K13: 44896 | L13: =(E13+G13+I13)/3 -> 5.5833333
A14: C.8 | B14: 'RESERVATÓRIO TIPO TUBULAR | C14: UNIDADE | D14: 1 | E14: 85519 | F14: AGROCAIXAS - CNPJ: 57.800.757/0001-87 | G14: 91465 | H14: MUNDIAL CAIXAS DAGUA - CNPJ: 03113840/000159 | I14: 82220.6 | J14: NET CAIXAS DAGUA - CNPJ: 11.515.169/0001-09 | K14: 44896 | L14: =(E14+G14+I14)/3 -> 86401.533
A15: C.9 | B15: QUADRO EMB. TRIF DIN 70 CIRC 225A | C15: UNIDADE | D15: 1 | E15: 2520 | F15: LEDS M ATERIAS E LÉTRICOS - CNPJ: 08.287.673/0001-86 | G15: 2679.3 | H15: ARTE LUZ MATERIAL DE CONSTRUCAO LTDA - CNPJ: 30.590.208/0001-79 | K15: 44896 | L15: =(E15+G15+I15)/2 -> 2599.65
A16: C.10 | B16: PRESOSTATO LF5516-03W | C16: UNIDADE | D16: 1 | E16: 250.88 | F16: SHOPEE - CNPJ: 35.635.824/0001-12 | G16: 179.9 | H16: LOJA DO MECÂNICO - CNPJ: 05.478.489/0001-25 | I16: 253.55 | J16: AMERICANAS S.A. CNPJ: 00776574000156 | K16: 44896 | L16: =(E16+G16+I16)/3 -> 228.11
A17: C.11 | B17: MANOMETRO 0-10 BAR 63MM 1/4 NPT | C17: UNIDADE | D17: 1 | E17: 90 | F17: SHOPEE - CNPJ: 35.635.824/0001-12 | G17: 80 | H17: AUTOMOÇÃO 24H - CNPJ: 18.538.712/0001-24 | I17: 76.25 | J17: MADEIRA MADEIRA - 0800 080 0099 - CNPJ: 10.490.181/0001-35 | K17: 44896 | L17: =(E17+G17+I17)/3 -> 82.083333
B20: CARLOS RAPHAEL MONTEIRO DE LEMOS
B21: Engenheiro Civil- CREA-ES 011840/D
B22: ML PROJETOS EIRELI
