Workbook
Name \s: #REF!
Name \s: #REF!
Name \s: #REF!
Name \s: #REF!
Name \s: #REF!
Name \s: #REF!
Name \t: #REF!
Name \t: #REF!
Name \t: #REF!
Name \t: #REF!
Name ____\t: #REF!
Name ______\s: #REF!
Name ______________FOG50: #REF!
Name ______________FOG50: #REF!
Name ______________FOG50: #REF!
Name ______________FOG50: #REF!
Name ______________FOG50: #REF!
Name ______________FOG50: #REF!
Name ______________PVC100: #REF!
Name ______________PVC100: #REF!
Name ______________PVC100: #REF!
Name ______________PVC100: #REF!
Name ______________PVC100: #REF!
Name ______________PVC150: #REF!
Name ______________PVC150: #REF!
Name ______________PVC150: #REF!
Name ______________PVC150: #REF!
Name ______________PVC150: #REF!
Name ______________PVC50: #REF!
Name ______________PVC50: #REF!
Name ______________PVC50: #REF!
Name ______________PVC50: #REF!
Name ______________PVC75: #REF!
Name ______________PVC75: #REF!
Name ______________PVC75: #REF!
Name ______________PVC75: #REF!
Name _____________FOG50: #REF!
Name _____________FOG50: #REF!
Name _____________FOG50: #REF!
Name _____________FOG50: #REF!
Name _____________PVC100: #REF!
Name _____________PVC100: #REF!
Name _____________PVC100: #REF!
Name _____________PVC100: #REF!
Name _____________PVC150: #REF!
Name _____________PVC150: #REF!
Name _____________PVC150: #REF!
Name _____________PVC150: #REF!
Name _____________PVC50: #REF!
Name _____________PVC50: #REF!
Name _____________PVC50: #REF!
Name _____________PVC50: #REF!
Name _____________PVC75: #REF!
Name _____________PVC75: #REF!
Name _____________PVC75: #REF!
Name _____________PVC75: #REF!
Name ____________FOG50: #REF!
Name ____________FOG50: #REF!
Name ____________FOG50: #REF!
Name ____________FOG50: #REF!

Sheet COMPOSIÇÃO BDI
A1: PREFEITURA MUNICIPAL DE VILA PAVÃO
B2: DETALHAMENTO DO BDI
A3: PROPONENTE: | B3: PREFEITURA MUNICIPAL DE VILA PAVÃO
A4: OBRA: | B4: CONSTRUÇÃO DA ESCOLA TAMANDUÁ
B5: Data: 08/07/2022
A7: 1. Regime de Contribuição Previdenciária
B9: Sem Desoneração
A11: 2. Tipo de Intervenção
B13: Edificações
A15: 3. Incidências sobre o custo
B17: Administração Central - AC | C17: 0.04 | D17: %
B18: Riscos, Seguros e Garantias Contratuais - R+S+G | C18: 0.0207 | D18: %
B19: Addministração Local - AL | C19: 0.01 | D19: %
B20: Despesas e Encargos Financeiros - DF | C20: 0.0123 | D20: %
B22: Lucro - L | C22: 0.04 | D22: %
A24: 4 – Incidências sobre o preço de venda
B26: Despesas Tributárias - I | C26: =C27+C28+C29+C30 -> 0.0665 | D26: %
B27: ISS | C27: 0.03 | D27: %
B28: COFINS | C28: 0.03 | D28: %
B29: PIS | C29: 0.0065 | D29: %
B30: INSS | C30: 0 | D30: %
A32: 5 – Demonstrativo de cálculo do BDI
A34: BDI = [(1+(AC+S+R+G+DF+L+B+AL))/(1-I)-1]x100 | C34: =(((1+(C17+C19+C20+C18))*(1+C22))/(1-C26))-1 -> 0.20655597
B41: CARLOS RAPHAEL MONTEIRO DE LEMOS
B42: Engenheiro Civil- CREA-ES 011840/D
B43: ES-011840/D

Sheet PLANILHA RESUMO
A1: PREFEITURA MUNICIPAL DE VILA PAVÃO
A2: OBRA: CONSTRUÇÃO DA ESCOLA TAMANDUÁ | B2: DATA BASE: SINAPI MAIO/2022 E DER-EDI ABRIL/2022 BDI: 20.66 % L.S. NÃO-DESONERADAS: 157,27% | C2: CONTRATADA: ML ENGENHARIA E PROJETOS | D2: RESPONSÁVEL TÉCNICO: CARLOS RAPHAEL MONTEIRO DE LEMOS
A3: ITEM | B3: SERVIÇO | C3: TOTAL | D3: PESO
A6: 1 | B6: =VLOOKUP(A6,ORÇAMENTO!A:I,4,0) -> LICITAÇÃO
A8: 2 | B8: =VLOOKUP(A8,ORÇAMENTO!A:I,4,0) -> SERVIÇOS PRELIMINARES | C8: =CRONOGRAMA!C7 -> 35711.64 | D8: =C8/$C$40 -> 0.077929703
A10: 3 | B10: =VLOOKUP(A10,ORÇAMENTO!A:I,4,0) -> MOVIMENTAÇÃO DE TERRA | C10: =CRONOGRAMA!C9 -> 19702.79 | D10: =C10/$C$40 -> 0.042995297
A12: 4 | B12: =VLOOKUP(A12,ORÇAMENTO!A:I,4,0) -> ESTRUTURAL | C12: =CRONOGRAMA!C11 -> 129098.18 | D12: =C12/$C$40 -> 0.28171719
A14: 5 | B14: =VLOOKUP(A14,ORÇAMENTO!A:I,4,0) -> PAREDES E PAINÉIS | C14: =CRONOGRAMA!C13 -> 12346.075 | D14: =C14/$C$40 -> 0.026941523
A16: 6 | B16: =VLOOKUP(A16,ORÇAMENTO!A:I,4,0) -> ESQUADRIAS DE MADEIRA | C16: =CRONOGRAMA!C15 -> 11795.893 | D16: =C16/$C$40 -> 0.025740919
A18: 7 | B18: =VLOOKUP(A18,ORÇAMENTO!A:I,4,0) -> ESQUADRIAS METÁLICAS | C18: =CRONOGRAMA!C17 -> 16404.871 | D18: =C18/$C$40 -> 0.035798601
A20: 8 | B20: =VLOOKUP(A20,ORÇAMENTO!A:I,4,0) -> VIDROS E ESPELHOS | C20: =CRONOGRAMA!C19 -> 6280.18 | D20: =C20/$C$40 -> 0.013704567
A22: 9 | B22: =VLOOKUP(A22,ORÇAMENTO!A:I,4,0) -> IMPERMEABILIZAÇÕES | C22: =CRONOGRAMA!C21 -> 5691.9453 | D22: =C22/$C$40 -> 0.012420925
A24: 10 | B24: =VLOOKUP(A24,ORÇAMENTO!A:I,4,0) -> TETOS E FORROS | C24: =CRONOGRAMA!C23 -> 9024.16 | D24: =C24/$C$40 -> 0.019692462
A26: 11 | B26: =VLOOKUP(A26,ORÇAMENTO!A:I,4,0) -> REVESTIMENTOS | C26: =CRONOGRAMA!C25 -> 33832.134 | D26: =C26/$C$40 -> 0.073828259
A28: 12 | B28: =VLOOKUP(A28,ORÇAMENTO!A:I,4,0) -> PISOS INTERNOS/EXTERNOS E MUROS | C28: =CRONOGRAMA!C27 -> 69976.522 | D28: =C28/$C$40 -> 0.1527023
A30: 13 | B30: =VLOOKUP(A30,ORÇAMENTO!A:I,4,0) -> INSTALAÇÃO HIDROSSANITÁRIAS | C30: =CRONOGRAMA!C29 -> 36158.55 | D30: =C30/$C$40 -> 0.078904947
... A38: 17 | B38: =VLOOKUP(A38,ORÇAMENTO!A:I,4,0) -> SERVIÇOS COMPLEMENTARES EXTERNOS | C38: =CRONOGRAMA!C37 -> 1882.06 | D38: =C38/$C$40 -> 0.0041070188
A40: VALOR GLOBAL DA EDIFICAÇÃO | C40: =SUM(C5:C39) -> 458254.54 | D40: =SUM(D5:D39) -> 1
B46: CARLOS RAPHAEL MONTEIRO DE LEMOS
B47: Engenheiro Civil- CREA-ES 011840/D
B48: ES-011840/D

Sheet CRONOGRAMA
A1: PREFEITURA MUNICIPAL DE VILA PAVÃO
A2: OBRA: CONSTRUÇÃO DA ESCOLA TAMANDUÁ | C2: DATA BASE: SINAPI MAIO/2022 E DER-EDI ABRIL/2022 BDI: 20.66 % L.S. NÃO-DESONERADAS: 157,27% | G2: CONTRATADA: ML ENGENHARIA E PROJETOS | I2: RESPONSÁVEL TÉCNICO: CARLOS RAPHAEL MONTEIRO DE LEMOS
A3: ITEM | B3: SERVIÇO | C3: VALORES DO ITEM | E3: MÊS 01 | F3: MÊS 02 | G3: MÊS 03 | H3: MÊS 04 | I3: MÊS 05 | J3: MÊS 06
C4: R$ | D4: %
A5: 1 | B5: LICITAÇÃO | K5: =C5-(SUM(E5:J5)) -> 0
K6: =SUM(E6:J6) -> 0
A7: 2 | B7: ='PLANILHA RESUMO'!B8 -> SERVIÇOS PRELIMINARES | C7: =ORÇAMENTO!I6 -> 35711.64 | D7: ='PLANILHA RESUMO'!D6 -> 0 | E7: =$C7*E8 -> 35711.64 | F7: =$C7*F8 -> 0 | G7: =$C7*G8 -> 0 | H7: =$C7*H8 -> 0 | I7: =$C7*I8 -> 0 | J7: =$C7*J8 -> 0 | K7: =C7-(SUM(E7:J7)) -> 0
E8: 1 | F8: 0 | G8: 0 | H8: 0 | I8: 0 | J8: 0 | K8: =SUM(E8:J8) -> 1
A9: 3 | B9: ='PLANILHA RESUMO'!B10 -> MOVIMENTAÇÃO DE TERRA | C9: =ORÇAMENTO!I12 -> 19702.79 | D9: ='PLANILHA RESUMO'!D10 -> 0.042995297 | E9: =$C9*E10 -> 19702.79 | F9: =$C9*F10 -> 0 | G9: =$C9*G10 -> 0 | H9: =$C9*H10 -> 0 | I9: =$C9*I10 -> 0 | J9: =$C9*J10 -> 0 | K9: =C9-(SUM(E9:J9)) -> 0
E10: 1 | F10: 0 | G10: 0 | H10: 0 | I10: 0 | J10: 0 | K10: =SUM(E10:J10) -> 1
A11: 4 | B11: ='PLANILHA RESUMO'!B12 -> ESTRUTURAL | C11: =ORÇAMENTO!I16 -> 129098.18 | D11: ='PLANILHA RESUMO'!D10 -> 0.042995297 | E11: =$C11*E12 -> 129098.18 | F11: =$C11*F12 -> 0 | G11: =$C11*G12 -> 0 | H11: =$C11*H12 -> 0 | I11: =$C11*I12 -> 0 | J11: =$C11*J12 -> 0 | K11: =C11-(SUM(E11:J11)) -> 0
E12: 1 | F12: 0 | G12: 0 | H12: 0 | I12: 0 | J12: 0 | K12: =SUM(E12:J12) -> 1
A13: 5 | B13: ='PLANILHA RESUMO'!B14 -> PAREDES E PAINÉIS | C13: =ORÇAMENTO!I31 -> 12346.075 | D13: ='PLANILHA RESUMO'!D12 -> 0.28171719 | E13: =$C13*E14 -> 0 | F13: =$C13*F14 -> 6173.0375 | G13: =$C13*G14 -> 6173.0375 | H13: =$C13*H14 -> 0 | I13: =$C13*I14 -> 0 | J13: =$C13*J14 -> 0 | K13: =C13-(SUM(E13:J13)) -> 0
E14: 0 | F14: 0.5 | G14: 0.5 | H14: 0 | I14: 0 | J14: 0 | K14: =SUM(E14:J14) -> 1
A15: 6 | B15: ='PLANILHA RESUMO'!B16 -> ESQUADRIAS DE MADEIRA | C15: =ORÇAMENTO!I33 -> 11795.893 | D15: ='PLANILHA RESUMO'!D14 -> 0.026941523 | E15: =$C15*E16 -> 0 | F15: =$C15*F16 -> 0 | G15: =$C15*G16 -> 5897.9465 | H15: =$C15*H16 -> 5897.9465 | I15: =$C15*I16 -> 0 | J15: =$C15*J16 -> 0 | K15: =C15-(SUM(E15:J15)) -> 0
E16: 0 | F16: 0 | G16: 0.5 | H16: 0.5 | I16: 0 | J16: 0 | K16: =SUM(E16:J16) -> 1
A17: 7 | B17: ='PLANILHA RESUMO'!B18 -> ESQUADRIAS METÁLICAS | C17: =ORÇAMENTO!I39 -> 16404.871 | D17: ='PLANILHA RESUMO'!D16 -> 0.025740919 | E17: =$C17*E18 -> 0 | F17: =$C17*F18 -> 0 | G17: =$C17*G18 -> 0 | H17: =$C17*H18 -> 8202.4357 | I17: =$C17*I18 -> 8202.4357 | J17: =$C17*J18 -> 0 | K17: =C17-(SUM(E17:J17)) -> 0
E18: 0 | F18: 0 | G18: 0 | H18: 0.5 | I18: 0.5 | J18: 0 | K18: =SUM(E18:J18) -> 1
A19: 8 | B19: ='PLANILHA RESUMO'!B20 -> VIDROS E ESPELHOS | C19: =ORÇAMENTO!I45 -> 6280.18 | D19: ='PLANILHA RESUMO'!D18 -> 0.035798601 | E19: =$C19*E20 -> 0 | F19: =$C19*F20 -> 0 | G19: =$C19*G20 -> 0 | H19: =$C19*H20 -> 3140.09 | I19: =$C19*I20 -> 3140.09 | J19: =$C19*J20 -> 0 | K19: =C19-(SUM(E19:J19)) -> 0
E20: 0 | F20: 0 | G20: 0 | H20: 0.5 | I20: 0.5 | J20: 0 | K20: =SUM(E20:J20) -> 1
A21: 9 | B21: ='PLANILHA RESUMO'!B22 -> IMPERMEABILIZAÇÕES | C21: =ORÇAMENTO!I48 -> 5691.9453 | D21: ='PLANILHA RESUMO'!D20 -> 0.013704567 | E21: =$C21*E22 -> 0 | F21: =$C21*F22 -> 0 | G21: =$C21*G22 -> 0 | H21: =$C21*H22 -> 0 | I21: =$C21*I22 -> 5691.9453 | J21: =$C21*J22 -> 0 | K21: =C21-(SUM(E21:J21)) -> 0
E22: 0 | F22: 0 | G22: 0 | H22: 0 | I22: 1 | J22: 0 | K22: =SUM(E22:J22) -> 1
A23: 10 | B23: ='PLANILHA RESUMO'!B24 -> TETOS E FORROS | C23: =ORÇAMENTO!I51 -> 9024.16 | D23: ='PLANILHA RESUMO'!D22 -> 0.012420925 | E23: =$C23*E24 -> 0 | F23: =$C23*F24 -> 4512.08 | G23: =$C23*G24 -> 4512.08 | H23: 0 | I23: 0 | J23: 0 | K23: =C23-(SUM(E23:J23)) -> 0
E24: 0 | F24: 0.5 | G24: 0.5 | H24: 0 | I24: 0 | J24: 0 | K24: =SUM(E24:J24) -> 1
A25: 11 | B25: ='PLANILHA RESUMO'!B26 -> REVESTIMENTOS | C25: =ORÇAMENTO!I53 -> 33832.134 | D25: ='PLANILHA RESUMO'!D24 -> 0.019692462 | E25: =$C25*E26 -> 0 | F25: =$C25*F26 -> 0 | G25: =$C25*G26 -> 0 | H25: =$C25*H26 -> 0 | I25: =$C25*I26 -> 33832.134 | J25: =$C25*J26 -> 0 | K25: =C25-(SUM(E25:J25)) -> 0
E26: 0 | F26: 0 | G26: 0 | H26: 0 | I26: 1 | J26: 0 | K26: =SUM(E26:J26) -> 1
A27: 12 | B27: ='PLANILHA RESUMO'!B28 -> PISOS INTERNOS/EXTERNOS E MUROS | C27: =ORÇAMENTO!I60 -> 69976.522 | D27: ='PLANILHA RESUMO'!D26 -> 0.073828259 | E27: =$C27*E28 -> 0 | F27: =$C27*F28 -> 0 | G27: =$C27*G28 -> 0 | H27: =$C27*H28 -> 34988.261 | I27: =$C27*I28 -> 34988.261 | J27: =$C27*J28 -> 0 | K27: =C27-(SUM(E27:J27)) -> 0
E28: 0 | F28: 0 | G28: 0 | H28: 0.5 | I28: 0.5 | J28: 0 | K28: =SUM(E28:J28) -> 1
A29: 13 | B29: ='PLANILHA RESUMO'!B30 -> INSTALAÇÃO HIDROSSANITÁRIAS | C29: =ORÇAMENTO!I70 -> 36158.55 | D29: ='PLANILHA RESUMO'!D28 -> 0.1527023 | E29: =$C29*E30 -> 0 | F29: =$C29*F30 -> 0 | G29: =$C29*G30 -> 0 | H29: =$C29*H30 -> 0 | I29: =$C29*I30 -> 18079.275 | J29: =$C29*J30 -> 18079.275 | K29: =C29-(SUM(E29:J29)) -> 0
E30: 0 | F30: 0 | G30: 0 | H30: 0 | I30: 0.5 | J30: 0.5 | K30: =SUM(E30:J30) -> 1
A31: 14 | B31: ='PLANILHA RESUMO'!B32 -> INSTALAÇÕES ELÉTRICAS | C31: =ORÇAMENTO!I102 -> 21174.456 | D31: ='PLANILHA RESUMO'!D30 -> 0.078904947 | E31: =$C31*E32 -> 0 | F31: =$C31*F32 -> 0 | G31: =$C31*G32 -> 6352.3369 | H31: =$C31*H32 -> 6352.3369 | I31: =$C31*I32 -> 8469.7825 | J31: =$C31*J32 -> 0 | K31: =C31-(SUM(E31:J31)) -> 0
E32: 0 | F32: 0 | G32: 0.3 | H32: 0.3 | I32: 0.4 | J32: 0 | K32: =SUM(E32:J32) -> 1
A33: 15 | B33: ='PLANILHA RESUMO'!B34 -> OUTRAS INSTALAÇÕES | C33: =ORÇAMENTO!I124 -> 40537.783 | D33: ='PLANILHA RESUMO'!D32 -> 0.046206758 | E33: =$C33*E34 -> 0 | F33: =$C33*F34 -> 0 | G33: =$C33*G34 -> 12161.335 | H33: =$C33*H34 -> 12161.335 | I33: =$C33*I34 -> 16215.113 | J33: =$C33*J34 -> 0 | K33: =C33-(SUM(E33:J33)) -> 0
E34: 0 | F34: 0 | G34: 0.3 | H34: 0.3 | I34: 0.4 | J34: 0 | K34: =SUM(E34:J34) -> 1
A35: 16 | B35: ='PLANILHA RESUMO'!B36 -> PINTURA | C35: =ORÇAMENTO!I131 -> 8637.2955 | D35: ='PLANILHA RESUMO'!D34 -> 0.08846128 | E35: =$C35*E36 -> 0 | F35: =$C35*F36 -> 0 | G35: =$C35*G36 -> 0 | H35: =$C35*H36 -> 0 | I35: =$C35*I36 -> 4318.6477 | J35: =$C35*J36 -> 4318.6477 | K35: =C35-(SUM(E35:J35)) -> 0
E36: 0 | F36: 0 | G36: 0 | H36: 0 | I36: 0.5 | J36: 0.5 | K36: =SUM(E36:J36) -> 1
A37: 17 | B37: ='PLANILHA RESUMO'!B38 -> SERVIÇOS COMPLEMENTARES EXTERNOS | C37: =ORÇAMENTO!I135 -> 1882.06 | D37: ='PLANILHA RESUMO'!D36 -> 0.018848249 | E37: =$C37*E38 -> 0 | F37: =$C37*F38 -> 0 | G37: =$C37*G38 -> 0 | H37: =$C37*H38 -> 0 | I37: =$C37*I38 -> 0 | J37: =$C37*J38 -> 1882.06 | K37: =C37-(SUM(E37:J37)) -> 0
E38: 0 | F38: 0 | G38: 0 | H38: 0 | I38: 0 | J38: 1 | K38: =SUM(E38:J38) -> 1
B39: TOTAL COM BDI | C39: =SUM(C5:C38) -> 458254.54 | D39: =SUM(D5:D38) -> 0.96095858 | K39: =SUM(E39:J39) -> 0
A40: VALOR DO SERVIÇO EXECUTADO NO MÊS | D40: R$ | E40: =E37+E35+E33+E31+E29+E27+E25+E23+E21+E19+E17+E15+E13+E11+E7+E9 -> 184512.61 | F40: =F37+F35+F33+F31+F29+F27+F25+F23+F21+F19+F17+F15+F13+F11+F7+F9 -> 10685.118 | G40: =G37+G35+G33+G31+G29+G27+G25+G23+G21+G19+G17+G15+G13+G11+G7+G9 -> 35096.736 | H40: =H37+H35+H33+H31+H29+H27+H25+H23+H21+H19+H17+H15+H13+H11+H7+H9 -> 70742.405 | I40: =I37+I35+I33+I31+I29+I27+I25+I23+I21+I19+I17+I15+I13+I11+I7+I9 -> 132937.68 | J40: =J37+J35+J33+J31+J29+J27+J25+J23+J21+J19+J17+J15+J13+J11+J7+J9 -> 24279.983 | K40: =C39-(SUM(E40:J40)) -> 0
...

Sheet ORÇAMENTO
A1: PREFEITURA MUNICIPAL DE VILA PAVÃO
A2: OBRA: CONSTRUÇÃO DA ESCOLA TAMANDUÁ | D2: DATA BASE: SINAPI MAIO/2022 E DER-EDI ABRIL/2022 BDI: 20.66 % L.S. NÃO-DESONERADAS: 157,27% | E2: CONTRATADA: ML ENGENHARIA E PROJETOS | H2: RESPONSÁVEL TÉCNICO: CARLOS RAPHAEL MONTEIRO DE LEMOS
A3: ITEM | B3: ÓRGÃO | C3: CÓDIGO | D3: DESCRIÇÃO SERVIÇO | E3: UNID | F3: QUANT. | H3: PREÇOS R$
G4: UNIT. S/ BDI | H4: UNIT. C/ BDI | I4: TOTAL
A5: 1 | D5: LICITAÇÃO
A6: 2 | D6: SERVIÇOS PRELIMINARES | I6: =SUM(I7:I11) -> 35711.64
A7: 2.1 | B7: LABOR | C7: 020305 | D7: PLACA DE OBRA NAS DIMENSÕES DE 2.0 X 4.0 M, PADRÃO DER | E7: M2 | F7: ='MEMORIA DE CÁLCULO'!J5 -> 8 | G7: 273.81 | H7: =G7*J7 -> 330.37915 | I7: =ROUND(F7*H7,2) -> 2643.03 | J7: 1.2066
A8: 2.2 | B8: LABOR | C8: 20701 | D8: BARRACÃO PARA ESCRITÓRIO COM SANITÁRIO ÁREA DE 14.50 M2, DE CHAPA DE COMPENS. 12MM E PONTALETE 8X8CM, PISO CIMENTADO E COBERTURA DE TELHA DE FIBROC. 6MM, INCL. PONTO DE LUZ E CX. DE INSPEÇÃO, CONF. PROJETO (1 UTILIZAÇÃO) | E8: M2 | F8: ='MEMORIA DE CÁLCULO'!J6 -> 8 | G8: 857.71 | H8: =G8*J8 -> 1034.9129 | I8: =ROUND(F8*H8,2) -> 8279.3 | J8: 1.2066
A9: 2.3 | B9: LABOR | C9: 20713 | D9: REDE DE LUZ, INCL. PADRÃO ENTRADA DE ENERGIA TRIFÁS., CABO DE LIGAÇÃO ATÉ BARRACÕES, QUADRO DE DISTRIB., DISJ. E CHAVE DE FORÇA (QUANDO NECESSÁRIO), CONS. 20M ENTRE PADRÃO ENTRADA E QDG, CONF. PROJETO (1 UTILIZAÇÃO | E9: M | F9: 5 | G9: 574.69 | H9: =G9*J9 -> 693.42095 | I9: =ROUND(F9*H9,2) -> 3467.1 | J9: 1.2066
A10: 2.4 | B10: LABOR | C10: 20350 | D10: TAPUME TELHA METÁLICA ONDULADA EM AÇO GALVALUME 0,50MM BRANCA H=2,20M, INCL. MONTAGEM ESTR. MAD. 8"X8", C/ADESIVO "DER-ES" 60X60CM A CADA 10M, INCL. FAIXAS PINT. ESMALTE SINT. CORES AZUL C/ H=30CM E ROSA C/ H=10CM (REAPROVEITAMENTO 2X) | E10: M | F10: ='MEMORIA DE CÁLCULO'!J8 -> 76.81 | G10: 208.94 | H10: =G10*J10 -> 252.107 | I10: =ROUND(F10*H10,2) -> 19364.34 | J10: 1.2066
A11: 2.5 | B11: LABOR | C11: 10501 | D11: LOCAÇÃO DE OBRA COM GABARITO DE MADEIRA | E11: M2 | F11: =F136 -> 157.08 | G11: 10.33 | H11: =G11*J11 -> 12.464178 | I11: =ROUND(F11*H11,2) -> 1957.87 | J11: 1.2066
A12: 3 | D12: MOVIMENTAÇÃO DE TERRA | I12: =SUM(I13:I15) -> 19702.79
A13: 3.1 | B13: LABOR | C13: 30103 | D13: ESCAVAÇÃO MECÂNICA EM MATERIAL DE 1A. CATEGORIA | E13: M3 | F13: ='MEMORIA DE CÁLCULO'!J12 -> 172.21767 | G13: 12.4 | H13: =G13*J13 -> 14.96184 | I13: =ROUND(F13*H13,2) -> 2576.69 | J13: 1.2066
A14: 3.2 | B14: LABOR | C14: 30201 | D14: REATERRO APILOADO DE CAVAS DE FUNDAÇÃO, EM CAMADAS DE 20 CM | E14: M3 | F14: ='MEMORIA DE CÁLCULO'!J15 -> 15.867475 | G14: 49.63 | H14: =G14*J14 -> 59.883558 | I14: =ROUND(F14*H14,2) -> 950.2 | J14: 1.2066
A15: 3.3 | B15: LABOR | C15: 30208 | D15: ATERRO MANUAL PARA REGULARIZAÇÃO DO TERRENO EM ARGILA, INCLUSIVE ADENSAMENTO MANUAL E FORNECIMENTO DO MATERIAL (MÁXIMO DE 100M3) | E15: M3 | F15: ='MEMORIA DE CÁLCULO'!J18 -> 111.588 | G15: 120.14 | H15: =G15*J15 -> 144.96092 | I15: =ROUND(F15*H15,2) -> 16175.9 | J15: 1.2066
A16: 4 | D16: ESTRUTURAL | I16: =I17+I25 -> 129098.18
A17: 4.1 | D17: FUNDAÇÕES | I17: =SUM(I18:I24) -> 62993.98
A18: 4.1.1 | B18: LABOR | C18: 40231 | D18: FORNECIMENTO, PREPARO E APLICAÇÃO DE CONCRETO MAGRO COM CONSUMO MÍNIMO DE CIMENTO DE 250 KG/M3 (BRITA 1 E 2) - (5% DE PERDAS JÁ INCLUÍDO NO CUSTO) | E18: M3 | F18: ='MEMORIA DE CÁLCULO'!J23 -> 9.762975 | G18: 574.77 | H18: =G18*J18 -> 693.51748 | I18: =ROUND(F18*H18,2) -> 6770.79 | J18: 1.2066
A19: 4.1.2 | B19: LABOR | C19: 40253 | D19: FORNECIMENTO E APLICAÇÃO DE CONCRETO USINADO FCK=30 MPA - CONSIDERANDO LANÇAMENTO MANUAL PARA INFRA-ESTRUTURA (5% DE PERDAS JÁ INCLUÍDO NO CUSTO) | E19: M3 | F19: ='MEMORIA DE CÁLCULO'!J27 -> 30.63 | G19: 545.77 | H19: =G19*J19 -> 658.52608 | I19: =ROUND(F19*H19,2) -> 20170.65 | J19: 1.2066
A20: 4.1.3 | B20: LABOR | C20: 40206 | D20: FÔRMA DE TÁBUA DE MADEIRA DE 2.5 X 30.0 CM PARA FUNDAÇÕES, LEVANDO-SE EM CONTA A UTILIZAÇÃO 5 VEZES (INCLUIDO O MATERIAL, CORTE, MONTAGEM, ESCORAMENTO E DESFORMA) | E20: M2 | F20: ='MEMORIA DE CÁLCULO'!J32 -> 124.25 | G20: 71.64 | H20: =G20*J20 -> 86.440824 | I20: =ROUND(F20*H20,2) -> 10740.27 | J20: 1.2066
A21: 4.1.4 | B21: LABOR | C21: 040246 | D21: FORNECIMENTO, DOBRAGEM E COLOCAÇÃO EM FÔRMA, DE ARMADURA CA-60 B FINA, DIÂMETRO DE 4.0 A 7.0MM | E21: KG | F21: ='MEMORIA DE CÁLCULO'!J36 -> 67 | G21: 11.98 | H21: =G21*J21 -> 14.455068 | I21: =ROUND(F21*H21,2) -> 968.49 | J21: 1.2066
A22: 4.1.5 | B22: LABOR | C22: 040243 | D22: FORNECIMENTO, DOBRAGEM E COLOCAÇÃO EM FÔRMA, DE ARMADURA CA-50 A MÉDIA, DIÂMETRO DE 6.3 A 10.0 MM | E22: KG | F22: ='MEMORIA DE CÁLCULO'!J38 -> 364 | G22: 11.47 | H22: =G22*J22 -> 13.839702 | I22: =ROUND(F22*H22,2) -> 5037.65 | J22: 1.2066
A23: 4.1.6 | B23: LABOR | C23: 040245 | D23: FORNECIMENTO, DOBRAGEM E COLOCAÇÃO EM FÔRMA, DE ARMADURA CA-50 A GROSSA, DIÂMETRO DE 12.5 A 25.0MM | E23: KG | F23: ='MEMORIA DE CÁLCULO'!J42 -> 653 | G23: 11.73 | H23: =G23*J23 -> 14.153418 | I23: =ROUND(F23*H23,2) -> 9242.18 | J23: 1.2066
A24: 4.1.7 | B24: SINAPI | C24: 97088 | D24: ARMAÇÃO PARA EXECUÇÃO DE RADIER, PISO DE CONCRETO OU LAJE SOBRE SOLO, COM USO DE TELA Q-92. AF_09/2021 | E24: KG | F24: ='MEMORIA DE CÁLCULO'!J45 -> 275 | G24: 30.33 | H24: =G24*J24 -> 36.596178 | I24: =ROUND(F24*H24,2) -> 10063.95 | J24: 1.2066
A25: 4.2 | D25: SUPER-ESTRUTURA | I25: =SUM(I26:I30) -> 66104.2
A26: 4.2.1 | B26: LABOR | C26: 40331 | D26: FORNECIMENTO E APLICAÇÃO DE CONCRETO USINADO FCK=30 MPA - CONSIDERANDO BOMBEAMENTO (5% DE PERDAS JÁ INCLUÍDO NO CUSTO) (6% DE TAXA P/ CONCR. BOMBEAVEL) | E26: M3 | F26: ='MEMORIA DE CÁLCULO'!J48 -> 24.31 | G26: 487.73 | H26: =G26*J26 -> 588.49502 | I26: =ROUND(F26*H26,2) -> 14306.31 | J26: 1.2066
A27: 4.2.2 | B27: LABOR | C27: 40337 | D27: FÔRMA EM CHAPA DE MADEIRA COMPENSADA PLASTIFICADA 12MM PARA ESTRUTURA EM GERAL, 5 REAPROVEITAMENTOS, REFORÇADA COM SARRAFOS DE MADEIRA 2.5X10CM (INCL MATERIAL, CORTE, MONTAGEM, ESCORAS EM EUCALIPTO E DESFORMA) | E27: M2 | F27: ='MEMORIA DE CÁLCULO'!J52 -> 239.76 | G27: 104.01 | H27: =G27*J27 -> 125.49847 | I27: =ROUND(F27*H27,2) -> 30089.51 | J27: 1.2066
A28: 4.2.3 | B28: LABOR | C28: 40333 | D28: FORNECIMENTO, DOBRAGEM E COLOCAÇÃO EM FÔRMA, DE ARMADURA CA-60 B FINA, DIÂMETRO DE 4.0 A 7.0MM | E28: KG | F28: ='MEMORIA DE CÁLCULO'!J56 -> 48 | G28: 11.98 | H28: =G28*J28 -> 14.455068 | I28: =ROUND(F28*H28,2) -> 693.84 | J28: 1.2066
A29: 4.2.4 | B29: LABOR | C29: 040328 | D29: FORNECIMENTO, DOBRAGEM E COLOCAÇÃO EM FÔRMA, DE ARMADURA CA-50 A MÉDIA, DIÂMETRO DE 6.3 A 10.0 MM | E29: KG | F29: ='MEMORIA DE CÁLCULO'!J58 -> 1003 | G29: 11.47 | H29: =G29*J29 -> 13.839702 | I29: =ROUND(F29*H29,2) -> 13881.22 | J29: 1.2066
A30: 4.2.5 | B30: LABOR | C30: 040332 | D30: FORNECIMENTO, DOBRAGEM E COLOCAÇÃO EM FÔRMA, DE ARMADURA CA-50 A GROSSA, DIÂMETRO DE 12.5 A 25.0M | E30: KG | F30: ='MEMORIA DE CÁLCULO'!J61 -> 504 | G30: 11.73 | H30: =G30*J30 -> 14.153418 | I30: =ROUND(F30*H30,2) -> 7133.32 | J30: 1.2066
A31: 5 | D31: PAREDES E PAINÉIS | I31: =SUM(I32:I32) -> 12346.075
A32: 5.1 | B32: LABOR | C32: 50602 | D32: ALVENARIA DE BLOCOS DE CONCRETO 14X19X39CM, C/ RESIST. MÍNIMO A COMPRES. 2.5 MPA, ASSENT. C/ ARG. DE CIMENTO, CAL HIDRATADA CH1 E AREIA NO TRAÇO 1:0.5:8 ESP. DAS JUNTAS 10MM E ESP. DAS PAREDES, S/ REV. 14CM | E32: M2 | F32: ='MEMORIA DE CÁLCULO'!J64 -> 148.5715 | G32: 68.87 | H32: =G32*J32 -> 83.098542 | I32: =H32*F32 -> 12346.075 | J32: 1.2066
A33: 6 | D33: ESQUADRIAS DE MADEIRA | I33: =SUM(I34:I38) -> 11795.893
A34: 6.1 | B34: LABOR | C34: 61303 | D34: PORTA EM MADEIRA DE LEI TIPO ANGELIM PEDRA OU EQUIV.C/ENCHIMENTO EM MADEIRA 1A.QUALIDADE ESP. 30MM P/ PINTURA, INCLUSIVE ALIZARES, DOBRADIÇAS E FECHADURA EXTERNA EM LATÃO CROMADO LAFONTE OU EQUIV., EXCLUSIVE MARCO, NAS DIM.: 0.80 X 2.10 M | E34: UNIDADE | F34: ='MEMORIA DE CÁLCULO'!J77 -> 4 | G34: 959.71 | H34: =G34*J34 -> 1157.9861 | I34: =H34*F34 -> 4631.9443 | J34: 1.2066
A35: 6.2 | B35: LABOR | C35: 60103 | D35: MARCO DE MADEIRA DE LEI DE 1ª (PEROBA, IPÊ, ANGELIM PEDRA OU EQUIVALENTE) COM 15X3 CM DE BATENTE, NAS DIMENSÕES DE 0.80 X 2.10 M | E35: UNIDADE | F35: ='MEMORIA DE CÁLCULO'!J79 -> 4 | G35: 379.79 | H35: =G35*J35 -> 458.25461 | I35: =H35*F35 -> 1833.0185 | J35: 1.2066
A36: 6.3 | B36: LABOR | C36: 61304 | D36: PORTA EM MADEIRA DE LEI TIPO ANGELIM PEDRA OU EQUIV.C/ENCHIMENTO EM MADEIRA 1A.QUALIDADE ESP. 30MM P/ PINTURA, INCLUSIVE ALIZARES, DOBRADIÇAS E FECHADURA EXTERNA EM LATÃO CROMADO LAFONTE OU EQUIV., EXCLUSIVE MARCO, NAS DIM.: 0.90 X 2.10 M | E36: UNIDADE | F36: ='MEMORIA DE CÁLCULO'!J81 -> 3 | G36: 1039.71 | H36: =G36*J36 -> 1254.5141 | I36: =H36*F36 -> 3763.5423 | J36: 1.2066
A37: 6.4 | B37: LABOR | C37: 60108 | D37: MARCO DE MADEIRA DE LEI DE 1ª (PEROBA, IPÊ, ANGELIM PEDRA OU EQUIVALENTE) COM 15 X 3 CM DE BATENTE, NAS DIMENSÕES DE 0.90 X 2.10 M | E37: UNIDADE | F37: ='MEMORIA DE CÁLCULO'!J83 -> 3 | G37: 379.79 | H37: =G37*J37 -> 458.25461 | I37: =H37*F37 -> 1374.7638 | J37: 1.2066
A38: 6.5 | B38: LABOR | C38: 50301 | D38: VERGA/CONTRAVERGA RETA DE CONCRETO ARMADO 10 X 5 CM, FCK = 15 MPA, INCLUSIVE FORMA, ARMAÇÃO E DESFORMA | E38: M | F38: ='MEMORIA DE CÁLCULO'!J85 -> 17.64 | G38: 9.05 | H38: =G38*J38 -> 10.91973 | I38: =H38*F38 -> 192.62404 | J38: 1.2066
A39: 7 | D39: ESQUADRIAS METÁLICAS | I39: =SUM(I40:I44) -> 16404.871
A40: 7.1 | B40: LABOR | C40: 71702 | D40: BÁSCULA PARA VIDRO EM ALUMÍNIO ANODIZADO COR NATURAL, LINHA 25, COMPLETA, COM TRANCA, CAIXILHO, ALIZAR E CONTRAMARCO, EXCLUSIVE VIDRO | E40: M2 | F40: ='MEMORIA DE CÁLCULO'!J89 -> 4.27 | G40: 597.91 | H40: =G40*J40 -> 721.43821 | I40: =H40*F40 -> 3080.5411 | J40: 1.2066
...

Sheet MEMORIA DE CÁLCULO
A1: MEMÓRIA DE CÁLCULO - PREFEITURA MUNICIPAL DE VILA PAVÃO
A2: ITEM | B2: DATA BASE: SINAPI MAIO/2022 E DER-EDI ABRIL/2022 BDI: 20.66 % L.S. NÃO-DESONERADAS: 157,27% | C2: UNIDADE | D2: LARGURA (m) | E2: COMP./ PERÍMETRO (m) | F2: ÁREA (m²) | G2: VOLUME (m³) | H2: PESO (kg) | I2: ALTURA (m) | J2: TOTAL | K2: UNIDADE
A3: 1 | B3: LICITAÇÃO
A4: 2 | B4: INSTALAÇÃO DO CANTEIRO DE OBRA
A5: 2.1 | B5: PLACA DE OBRA NAS DIMENSÕES 2.0X4.0M, PADRÃO IOPES | F5: 8 | J5: =F5 -> 8 | K5: M2
A6: 2.2 | B6: BARRACÃO PARA ESCRITÓRIO COM SANITÁRIO ÁREA DE 14.50 M2, DE CHAPA DE COMPENS. 12MM E PONTALETE 8X8CM, PISO CIMENTADO E COBERTURA DE TELHA DE FIBROC. 6MM, INCL. PONTO DE LUZ E CX. DE INSPEÇÃO, CONF. PROJETO (1 UTILIZAÇÃO) | F6: 8 | J6: =F6 -> 8 | K6: M2
A7: 2.3 | B7: REDE DE LUZ, INCL. PADRÃO ENTRADA DE ENERGIA TRIFÁS., CABO DE LIGAÇÃO ATÉ BARRACÕES, QUADRO DE DISTRIB., DISJ. E CHAVE DE FORÇA (QUANDO NECESSÁRIO), CONS. 20M ENTRE PADRÃO ENTRADA E QDG, CONF. PROJETO (1 UTILIZAÇÃO | E7: 10 | J7: =E7 -> 10 | K7: M
A8: 2.4 | B8: TAPUME TELHA METÁLICA ONDULADA EM AÇO GALVALUME 0,50MM BRANCA H=2,20M, INCL. MONTAGEM ESTR. MAD. 8"X8", C/ADESIVO "DER-ES" 60X60CM A CADA 10M, INCL. FAIXAS PINT. ESMALTE SINT. CORES AZUL C/ H=30CM E ROSA C/ H=10CM (REAPROVEITAMENTO 2X) | E8: 76.81 | J8: =E8 -> 76.81 | K8: M
A9: 2.5 | B9: LOCACAO CONVENCIONAL DE OBRA, UTILIZANDO GABARITO DE TÁBUAS CORRIDAS PONTALETADAS A CADA 2,00M - 2 UTILIZAÇÕES. AF_10/2018 | J9: =E10 -> 157.08 | K9: M2
B10: ÁREA DE LOCAÇÃO = 180M | E10: 157.08
A11: 3
A12: .3.1 | B12: 'ESCAVAÇÃO MECÂNICA EM MATERIAL DE 2A. CATEGORIA | J12: =SUM(G13:G14) -> 172.21767 | K12: M3
B13: SAPATAS + PILARETES - PRANCHA 0890-003-EST-R00 - ESCAVAÇÃO = ÁREA DE BASE + 50CM DE CADA LADO X ALTURA | F13: 53.13 | G13: =I13*F13 -> 111.573 | I13: 2.1
B14: CINTAS - PRANCHA 0890-003-EST-R00 - ESCAVAÇÃO = ÁREA DE BASE + 50CM DE CADA LADO X ALTURA | D14: 1.15 | E14: 81.13 | G14: =I14*E14*D14 -> 60.644675 | I14: 0.65
A15: 3.2 | B15: REATERRO APILOADO DE CAVAS DE FUNDAÇÃO, EM CAMADAS DE 20 CM | J15: =SUM(G16:G17) -> 15.867475 | K15: M3
B16: SAPATAS + PILARETES - PRANCHA 0890-003-EST-R00 - VOLUME DE CONCRETO - ESCAVAÇÃO | G16: =G24+G28+G29 -> 8.129
B17: CINTAS - PRANCHA 0890-003-EST-R00 - VOLUME DE CONCRETO - ESCAVAÇÃO | G17: =G25+G30 -> 7.738475
A18: 3.3 | B18: ATERRO MANUAL PARA REGULARIZAÇÃO DO TERRENO EM ARGILA, INCLUSIVE ADENSAMENTO MANUAL E FORNECIMENTO DO MATERIAL (MÁXIMO DE 100M3) | J18: =G19+G20 -> 111.588 | K18: M3
B19: EDIFICAÇÃO PRINCIPAL | F19: 154.08 | G19: =F19*I19 -> 92.448 | I19: 0.6
B20: PARQUINHO | F20: 31.9 | G20: =F20*I20 -> 19.14 | I20: 0.6
A21: 4
A22: 4.1
A23: 4.1.1 | B23: FORNECIMENTO, PREPARO E APLICAÇÃO DE CONCRETO MAGRO COM CONSUMO MÍNIMO DE CIMENTO DE 250 KG/M3 (BRITA 1 E 2) - (5% DE PERDAS JÁ INCLUÍDO NO CUSTO) | J23: =SUM(G24:G26) -> 9.762975 | K23: M3
B24: SAPATAS - PRANCHA 0890-003-EST-R00 - ÁREA BASE SAPATAS | F24: 19.58 | G24: =F24*I24 -> 0.979 | I24: 0.05
B25: CINTAS - PRANCHA 0890-003-EST-R00 - ESCAVAÇÃO = ÁREA DE BASE CINTAS | D25: 0.15 | E25: 81.13 | F25: =E25*D25 -> 12.1695 | G25: =F25*I25 -> 0.608475 | I25: 0.05
B26: PISO DO TÉRREO - PRANCHA 0890-003-EST-R00 - ÁREA DO PISO | F26: 163.51 | G26: =F26*I26 -> 8.1755 | I26: 0.05
A27: 4.1.2 | B27: FORNECIMENTO E APLICAÇÃO DE CONCRETO USINADO FCK=30 MPA - CONSIDERANDO LANÇAMENTO MANUAL PARA INFRA-ESTRUTURA (5% DE PERDAS JÁ INCLUÍDO NO CUSTO) | J27: =SUM(G28:G31) -> 30.63 | K27: M3
B28: SAPATAS - PRANCHA 0890-003-EST-R00 - QUADRO DE QUANTITATIVO | G28: 5.51
B29: PILARETES - PRANCHA 0890-003-EST-R00 - QUADRO DE QUANTITATIVO | G29: 1.64
B30: CINTAS - PRANCHA 0890-003-EST-R00 - QUADRO DE QUANTITATIVO | G30: 7.13
B31: LAJES - PRANCHA 0890-003-EST-R00 - QUADRO DE QUANTITATIVO | G31: 16.35
A32: 4.1.3 | B32: FÔRMA DE CHAPA COMPENSADA RESINADA 12MM, LEVANDO-SE EM CONTA A UTILIZAÇÃO 3 VEZES (INCLUIDO O MATERIAL, CORTE, MONTAGEM, ESCORAMENTO E DESFÔRMA) | J32: =SUM(F33:F35) -> 124.25 | K32: M2
B33: SAPATAS - PRANCHA 0890-003-EST-R00 - QUADRO DE QUANTITATIVO | F33: 14.72
B34: PILARETES - PRANCHA 0890-003-EST-R00 - QUADRO DE QUANTITATIVO | F34: 27.3
B35: CINTAS - PRANCHA 0890-003-EST-R00 - QUADRO DE QUANTITATIVO | F35: 82.23
A36: 4.1.4 | B36: FORNECIMENTO, DOBRAGEM E COLOCAÇÃO EM FÔRMA, DE ARMADURA CA-60 B FINA, DIÂMETRO DE 4.0 A 7.0MM | J36: =SUM(H37:H37) -> 67 | K36: KG
B37: PILARES - PRANCHA 0890-002-EST-R00 - QUADRO DE AÇO | H37: 67
A38: 4.1.5 | B38: FORNECIMENTO, DOBRAGEM E COLOCAÇÃO EM FÔRMA, DE ARMADURA CA-50 A MÉDIA, DIÂMETRO DE 6.3 A 10.0 MM | J38: =SUM(H39:H41) -> 364 | K38: KG
B39: SAPATAS - PRANCHA 0890-002-EST-R00 - QUADRO DE AÇO | H39: 214
B40: PILARES - PRANCHA 0890-002-EST-R00 - QUADRO DE AÇO | H40: 11
...

Sheet Composição de Custos
A1: PLANILHA DE COMPOSIÇÃO DE CUSTOS UNITÁRIOS
A2: OBRA: CMEI SÃO FRANCISCO DE ASIS - PARQUINHO
A3: DATA: 21/06/2022
A5: COMP.01 | B5: REFLETOR 30W - Fornecimento e Instalação | C5: LIGAÇÃO PROVISÓRIA DE LUZ E FORÇA-PADRÃO PROVISÓRIO | D5: LIGAÇÃO PROVISÓRIA DE LUZ E FORÇA-PADRÃO PROVISÓRIO | E5: Unidade: | F5: UNIDADE
B6: LIGAÇÃO PROVISÓRIA DE LUZ E FORÇA-PADRÃO PROVISÓRIO | C6: LIGAÇÃO PROVISÓRIA DE LUZ E FORÇA-PADRÃO PROVISÓRIO | D6: LIGAÇÃO PROVISÓRIA DE LUZ E FORÇA-PADRÃO PROVISÓRIO
A7: Insumos | C7: Unidade | D7: Consumo | E7: Custo Unitário | F7: Custo Total
A8: MERCADO C.1 | B8: REFLETOR 30W | C8: UN | D8: 1.05 | E8: ='TABELA RESUMO DE COTAÇÕES'!L8 -> 41.31 | F8: =D8*E8 -> 43.3755
A9: LABOR 010146 | B9: SERVENTE (AUXILIAR DE OBRAS - SINDUSCON)(LABOR) | C9: UN | D9: 0.25 | E9: 14.18 | F9: =D9*E9 -> 3.545
A10: LABOR 010115 | B10: ELETRICISTA (OFICIAL - SINDUSCON) (LABOR) | C10: UN | D10: 0.25 | E10: 19.12 | F10: =D10*E10 -> 4.78
A11: Custo total | F11: =SUM(F8:F10) -> 51.7005
A13: COMP.02 | B13: ALAMBRADO SOLDADO 25X1M FIO 2.3MMX12 EM MOURÕES DE CONCRETO, COM TELA DE ARAME GALVANIZADO | C13: LIGAÇÃO PROVISÓRIA DE LUZ E FORÇA-PADRÃO PROVISÓRIO | D13: LIGAÇÃO PROVISÓRIA DE LUZ E FORÇA-PADRÃO PROVISÓRIO | E13: Unidade: | F13: M2
A14: 200128 ADATADO | B14: LIGAÇÃO PROVISÓRIA DE LUZ E FORÇA-PADRÃO PROVISÓRIO | C14: LIGAÇÃO PROVISÓRIA DE LUZ E FORÇA-PADRÃO PROVISÓRIO | D14: LIGAÇÃO PROVISÓRIA DE LUZ E FORÇA-PADRÃO PROVISÓRIO
A15: Insumos | C15: Unidade | D15: Consumo | E15: Custo Unitário | F15: Custo Total
A16: C.2 | B16: ALAMBRADO SOLDADO 25X1M FIO 2.3MMX12 | C16: M2 | D16: 1.93 | E16: ='TABELA RESUMO DE COTAÇÕES'!L9 -> 23.86 | F16: =D16*E16 -> 46.0498
A17: 43130 SINAPI | B17: ARAME GALVANIZADO 12 BWG, D = 2,76 MM (0,048 KG/M) OU 14 BWG, D = 2,11 MM (0,026 KG/M) | C17: KG | D17: 0.0586 | E17: 31.38 | F17: =D17*E17 -> 1.838868
A18: 020503 LABOR | B18: AREIA LAVADA MEDIA (LABOR) | C18: M3 | D18: 0.014923 | E18: 112.86 | F18: =D18*E18 -> 1.6842098
A19: 020517 LABOR | B19: BRITA 1 (LABOR) | C19: M3 | D19: 0.017441 | E19: 130.12 | F19: =D19*E19 -> 2.2694229
A20: 020508 LABOR | B20: CIMENTO PORTLAND CP III - 40 (LABOR) | C20: KG | D20: 8.4315 | E20: 0.49 | F20: =D20*E20 -> 4.131435
A21: SINAPI 88309 | B21: PEDREIRO COM ENCARGOS COMPLEMENTARES | C21: UN | D21: 0.0528 | E21: 14.18 | F21: =D21*E21 -> 0.748704
A22: SINAPI 88316 | B22: SERVENTE COM ENCARGOS COMPLEMENTARES | C22: UN | D22: 0.3432 | E22: 19.12 | F22: =D22*E22 -> 6.561984
A23: Custo total | F23: =SUM(F16:F22) -> 63.284424
A25: COMP.03 | B25: MURETA EM ALVENARIA DE BLOCOS CERÂMICOS 10X20X20CMM, H=0.40CM, INCLUSIVE CHAPISCO | C25: LIGAÇÃO PROVISÓRIA DE LUZ E FORÇA-PADRÃO PROVISÓRIO | D25: LIGAÇÃO PROVISÓRIA DE LUZ E FORÇA-PADRÃO PROVISÓRIO | E25: Unidade: | F25: M2
A26: 98522 ADATADO | B26: LIGAÇÃO PROVISÓRIA DE LUZ E FORÇA-PADRÃO PROVISÓRIO | C26: LIGAÇÃO PROVISÓRIA DE LUZ E FORÇA-PADRÃO PROVISÓRIO | D26: LIGAÇÃO PROVISÓRIA DE LUZ E FORÇA-PADRÃO PROVISÓRIO
A27: Insumos | C27: Unidade | D27: Consumo | E27: Custo Unitário | F27: Custo Total
A28: 4460 SINAPI | B28: SARRAFO NAO APARELHADO *2,5 X 10* CM, EM MACARANDUBA, ANGELIM OU EQUIVALENTE DA REGIAO - BRUTA | C28: M | D28: 0.65 | E28: 11.64 | F28: =D28*E28 -> 7.566
A29: SINAPI 88309 | B29: PEDREIRO COM ENCARGOS COMPLEMENTARES | C29: UN | D29: 0.3 | E29: 14.18 | F29: =D29*E29 -> 4.254
A30: SINAPI 88316 | B30: SERVENTE COM ENCARGOS COMPLEMENTARES | C30: UN | D30: 0.3 | E30: 19.12 | F30: =D30*E30 -> 5.736
A31: SINAPI 94974 | B31: CONCRETO MAGRO PARA LASTRO, TRAÇO 1:4,5:4,5 (EM MASSA SECA DE CIMENTO/ AREIA MÉDIA/ BRITA 1) - PREPARO MANUAL. AF_05/2021 | C31: M3 | D31: 0.0145 | E31: 388.76 | F31: =D31*E31 -> 5.63702
A32: LABOR 200715 | B32: MURETA EM ALVENARIA DE BLOCOS CERÂMICOS 10X20X20CMM, H=0.40CM, INCLUSIVE CHAPISCO | C32: M2 | D32: 0.67 | E32: 163.18 | F32: =D32*E32 -> 109.3306
A33: Custo total | F33: =SUM(F28:F32) -> 132.52362
A35: COMP.04 | B35: MOURAO DE CONCRETO RETO, SECAO QUADRADA, *10 X 10* CM, H= 3,00 | C35: LIGAÇÃO PROVISÓRIA DE LUZ E FORÇA-PADRÃO PROVISÓRIO | D35: LIGAÇÃO PROVISÓRIA DE LUZ E FORÇA-PADRÃO PROVISÓRIO | E35: Unidade: | F35: UNIDADE
A36: SINAPI | B36: LIGAÇÃO PROVISÓRIA DE LUZ E FORÇA-PADRÃO PROVISÓRIO | C36: LIGAÇÃO PROVISÓRIA DE LUZ E FORÇA-PADRÃO PROVISÓRIO | D36: LIGAÇÃO PROVISÓRIA DE LUZ E FORÇA-PADRÃO PROVISÓRIO
A37: Insumos | C37: Unidade | D37: Consumo | E37: Custo Unitário | F37: Custo Total
A38: 00004102 SINAPI | B38: MOURAO DE CONCRETO RETO, SECAO QUADRADA, *10 X 10* CM, H= 3,00 M | C38: UNIDADE | D38: 1 | E38: 76.73 | F38: =D38*E38 -> 76.73
A39: 4460 SINAPI | B39: SARRAFO NAO APARELHADO *2,5 X 10* CM, EM MACARANDUBA, ANGELIM OU EQUIVALENTE DA REGIAO - BRUTA | C39: M | D39: 3 | E39: 11.64 | F39: =D39*E39 -> 34.92
A40: SINAPI 88309 | B40: PEDREIRO COM ENCARGOS COMPLEMENTARES | C40: UN | D40: 0.4 | E40: 14.18 | F40: =D40*E40 -> 5.672
A41: SINAPI 88316 | B41: SERVENTE COM ENCARGOS COMPLEMENTARES | C41: UN | D41: 0.4 | E41: 19.12 | F41: =D41*E41 -> 7.648
A42: Custo total | F42: =SUM(F38:F41) -> 124.97
B49: CARLOS RAPHAEL MONTEIRO DE LEMOS
B50: Engenheiro Civil- CREA-ES 011840/D
...

Sheet CURVA ABC
A1: CURVA ABC - PREFEITURA MUNICIPAL DE VILA PAVÃO
A2: DATA BASE: SINAPI MAIO/2022 E DER-EDI ABRIL/2022 BDI: 20.66 % L.S. NÃO-DESONERADAS: 157,27%
A3: DESCRIÇÃO SERVIÇO | B3: VALOR UNITARIO | C3: PESO | D3: PESO ACUMULADO | E3: CURVA ABC
A5: MURO DE ALVENARIA DE BLOCOS CERÂMICOS 10X20X20CM, C/ PILARES A CADA 2 M, ESP. 10CM E H=2.5M, REVESTIDO COM CHAPISCO, REBOCO E PINTURA ACRÍLICA A 2 DEMÃOS, INCL. PILARES, CINTAS E SAPATAS, EMPREGANDO ARG. CIMENTO CAL E AREIA | B5: =ORÇAMENTO!I64 -> 36032.45 | C5: =B5/'PLANILHA RESUMO'!C40 -> 0.078629773 | D5: =C5 -> 0.078629773 | E5: A
A6: FÔRMA EM CHAPA DE MADEIRA COMPENSADA PLASTIFICADA 12MM PARA ESTRUTURA EM GERAL, 5 REAPROVEITAMENTOS, REFORÇADA COM SARRAFOS DE MADEIRA 2.5X10CM (INCL MATERIAL, CORTE, MONTAGEM, ESCORAS EM EUCALIPTO E DESFORMA) | B6: =ORÇAMENTO!I27 -> 30089.51 | C6: =B6/'PLANILHA RESUMO'!C40 -> 0.065661129 | D6: =D5+C6 -> 0.1442909 | E6: A
A7: TRAMA DE MADEIRA COMPOSTA POR RIPAS, CAIBROS E TERÇAS PARA TELHADOS DE ATÉ 2 ÁGUAS PARA TELHA DE ENCAIXE DE CERÂMICA OU DE CONCRETO, INCLUSO TRANSPORTE VERTICAL. AF_07/2019 | B7: =ORÇAMENTO!I126 -> 21573.577 | C7: =B7/'PLANILHA RESUMO'!C40 -> 0.047077717 | D7: =D6+C7 -> 0.19136862 | E7: A
A8: FORNECIMENTO E APLICAÇÃO DE CONCRETO USINADO FCK=30 MPA - CONSIDERANDO LANÇAMENTO MANUAL PARA INFRA-ESTRUTURA (5% DE PERDAS JÁ INCLUÍDO NO CUSTO) | B8: =ORÇAMENTO!I19 -> 20170.65 | C8: =B8/'PLANILHA RESUMO'!C40 -> 0.044016258 | D8: =D7+C8 -> 0.23538488 | E8: A
A9: TAPUME TELHA METÁLICA ONDULADA EM AÇO GALVALUME 0,50MM BRANCA H=2,20M, INCL. MONTAGEM ESTR. MAD. 8"X8", C/ADESIVO "DER-ES" 60X60CM A CADA 10M, INCL. FAIXAS PINT. ESMALTE SINT. CORES AZUL C/ H=30CM E ROSA C/ H=10CM (REAPROVEITAMENTO 2X) | B9: =ORÇAMENTO!I10 -> 19364.34 | C9: =B9/'PLANILHA RESUMO'!C40 -> 0.042256734 | D9: =D8+C9 -> 0.27764161 | E9: A
A10: ATERRO MANUAL PARA REGULARIZAÇÃO DO TERRENO EM ARGILA, INCLUSIVE ADENSAMENTO MANUAL E FORNECIMENTO DO MATERIAL (MÁXIMO DE 100M3) | B10: =ORÇAMENTO!I15 -> 16175.9 | C10: =B10/'PLANILHA RESUMO'!C40 -> 0.035298941 | D10: =D9+C10 -> 0.31294055 | E10: A
A11: FORNECIMENTO E APLICAÇÃO DE CONCRETO USINADO FCK=30 MPA - CONSIDERANDO BOMBEAMENTO (5% DE PERDAS JÁ INCLUÍDO NO CUSTO) (6% DE TAXA P/ CONCR. BOMBEAVEL) | B11: =ORÇAMENTO!I26 -> 14306.31 | C11: =B11/'PLANILHA RESUMO'!C40 -> 0.031219135 | D11: =D10+C11 -> 0.34415969 | E11: A
A12: FORNECIMENTO, DOBRAGEM E COLOCAÇÃO EM FÔRMA, DE ARMADURA CA-50 A MÉDIA, DIÂMETRO DE 6.3 A 10.0 MM | B12: =ORÇAMENTO!I29 -> 13881.22 | C12: =B12/'PLANILHA RESUMO'!C40 -> 0.030291506 | D12: =D11+C12 -> 0.37445119 | E12: A
A13: CERÂMICA 10 X 10 CM, REF CAMBURI BRANCO ELIANE, CECRISA OU PORTOBELLO, EMPREGANDO ARGAMASSA COLANTE, INCLUSIVE REJUNTAMENTO JUNTA PLUS CINZA CLARO ESP. 3 MM | B13: =ORÇAMENTO!I56 -> 13874.167 | C13: =B13/'PLANILHA RESUMO'!C40 -> 0.030276114 | D13: =D12+C13 -> 0.40472731 | E13: A
A14: PISO CERÂMICO ESMALTADO, PEI 5, ACABAMENTO SEMIBRILHO, DIM. 45X45CM, REF. DE COR CARGO PLUS WHITE ELIANE/EQUIV. ASSENTADO COM ARGAMASSA DE CIMENTO COLANTE, INCLUSIVE REJUNTAMENTO | B14: =ORÇAMENTO!I61 -> 12482.072 | C14: =B14/'PLANILHA RESUMO'!C40 -> 0.027238294 | D14: =D13+C14 -> 0.4319656 | E14: A
A15: ALVENARIA DE BLOCOS DE CONCRETO 14X19X39CM, C/ RESIST. MÍNIMO A COMPRES. 2.5 MPA, ASSENT. C/ ARG. DE CIMENTO, CAL HIDRATADA CH1 E AREIA NO TRAÇO 1:0.5:8 ESP. DAS JUNTAS 10MM E ESP. DAS PAREDES, S/ REV. 14CM | B15: =ORÇAMENTO!I32 -> 12346.075 | C15: =B15/'PLANILHA RESUMO'!C40 -> 0.026941523 | D15: =D14+C15 -> 0.45890712 | E15: A
A16: FÔRMA DE TÁBUA DE MADEIRA DE 2.5 X 30.0 CM PARA FUNDAÇÕES, LEVANDO-SE EM CONTA A UTILIZAÇÃO 5 VEZES (INCLUIDO O MATERIAL, CORTE, MONTAGEM, ESCORAMENTO E DESFORMA) | B16: =ORÇAMENTO!I20 -> 10740.27 | C16: =B16/'PLANILHA RESUMO'!C40 -> 0.023437346 | D16: =D15+C16 -> 0.48234447 | E16: A
A17: ARMAÇÃO PARA EXECUÇÃO DE RADIER, PISO DE CONCRETO OU LAJE SOBRE SOLO, COM USO DE TELA Q-92. AF_09/2021 | B17: =ORÇAMENTO!I24 -> 10063.95 | C17: =B17/'PLANILHA RESUMO'!C40 -> 0.021961485 | D17: =D16+C17 -> 0.50430595 | E17: A
A18: FORNECIMENTO, DOBRAGEM E COLOCAÇÃO EM FÔRMA, DE ARMADURA CA-50 A GROSSA, DIÂMETRO DE 12.5 A 25.0MM | B18: =ORÇAMENTO!I23 -> 9242.18 | C18: =B18/'PLANILHA RESUMO'!C40 -> 0.020168224 | D18: =D17+C18 -> 0.52447418 | E18: B
A19: CORRIMÃO EM TUBO DE FERRO GALVANIZADO DIAM. 2" COM CHUMBADORES A CADA 1.5M | B19: =ORÇAMENTO!I129 -> 9206.3248 | C19: =B19/'PLANILHA RESUMO'!C40 -> 0.020089981 | D19: =D18+C19 -> 0.54456416 | E19: B
A20: FORRO DE GESSO ACABAMENTO TIPO LISO | B20: =ORÇAMENTO!I52 -> 9024.16 | C20: =B20/'PLANILHA RESUMO'!C40 -> 0.019692462 | D20: =D19+C20 -> 0.56425662 | E20: B
A21: TELHAMENTO COM TELHA CERÂMICA CAPA-CANAL, TIPO COLONIAL, COM ATÉ 2 ÁGUAS, INCLUSO TRANSPORTE VERTICAL. AF_07/2019 | B21: =ORÇAMENTO!I127 -> 8559.2614 | C21: =B21/'PLANILHA RESUMO'!C40 -> 0.018677963 | D21: =D20+C21 -> 0.58293458 | E21: B
A22: BARRACÃO PARA ESCRITÓRIO COM SANITÁRIO ÁREA DE 14.50 M2, DE CHAPA DE COMPENS. 12MM E PONTALETE 8X8CM, PISO CIMENTADO E COBERTURA DE TELHA DE FIBROC. 6MM, INCL. PONTO DE LUZ E CX. DE INSPEÇÃO, CONF. PROJETO (1 UTILIZAÇÃO) | B22: =ORÇAMENTO!I8 -> 8279.3 | C22: =B22/'PLANILHA RESUMO'!C40 -> 0.018067033 | D22: =D21+C22 -> 0.60100162 | E22: B
A23: PINTURA COM TINTA ACRÍLICA, MARCAS DE REFERÊNCIA SUVINIL, CORAL E METALATEX, INCLUSIVE SELADOR ACRÍLICO, EM PAREDES E FORROS, A DUAS DEMÃOS | B23: =ORÇAMENTO!I132 -> 8024 | C23: =B23/'PLANILHA RESUMO'!C40 -> 0.017509919 | D23: =D22+C23 -> 0.61851154 | E23: B
A24: FORNECIMENTO, DOBRAGEM E COLOCAÇÃO EM FÔRMA, DE ARMADURA CA-50 A GROSSA, DIÂMETRO DE 12.5 A 25.0M | B24: =ORÇAMENTO!I30 -> 7133.32 | C24: =B24/'PLANILHA RESUMO'!C40 -> 0.015566283 | D24: =D23+C24 -> 0.63407782 | E24: B
A25: FORNECIMENTO, PREPARO E APLICAÇÃO DE CONCRETO MAGRO COM CONSUMO MÍNIMO DE CIMENTO DE 250 KG/M3 (BRITA 1 E 2) - (5% DE PERDAS JÁ INCLUÍDO NO CUSTO) | B25: =ORÇAMENTO!I18 -> 6770.79 | C25: =B25/'PLANILHA RESUMO'!C40 -> 0.014775173 | D25: =D24+C25 -> 0.64885299 | E25: B
A26: BACIA SIFONADA DE LOUÇA BRANCA PARA PORTADORES DE NECESSIDADES ESPECIAIS, VOGUE PLUS CONFORTO - LINHA CONFORTO, MOD P51, INCL. ASSENTO COM ABERTURA FRONTAL, REF.AP52,MARCA DE REF. DECA OU EQUIVALENTE | B26: =ORÇAMENTO!I88 -> 6255.28 | C26: =B26/'PLANILHA RESUMO'!C40 -> 0.01365023 | D26: =D25+C26 -> 0.66250322 | E26: B
A27: ALAMBRADO SOLDADO 25X1M FIO 2.3MMX12 EM MOURÕES DE CONCRETO, COM TELA DE ARAME GALVANIZADO | B27: =ORÇAMENTO!I65 -> 6185.0778 | C27: =B27/'PLANILHA RESUMO'!C40 -> 0.013497036 | D27: =D26+C27 -> 0.67600026 | E27: B
A28: JANELA DE CORRER PARA VIDRO EM ALUMÍNIO ANODIZADO COR NATURAL, LINHA 25, COMPLETA, INCL. PUXADOR COM TRANCA, ALIZAR, CAIXILHO E CONTRAMARCO, EXCLUSIVE VIDRO | B28: =ORÇAMENTO!I41 -> 6111.4749 | C28: =B28/'PLANILHA RESUMO'!C40 -> 0.01333642 | D28: =D27+C28 -> 0.68933668 | E28: B
A29: EMBOÇO DE ARGAMASSA DE CIMENTO, CAL HIDRATADA CH1 E AREIA MÉDIA OU GROSSA LAVADA NO TRAÇO 1:0.5:6, ESPESSURA 20 MM | B29: =ORÇAMENTO!I59 -> 5911.3707 | C29: =B29/'PLANILHA RESUMO'!C40 -> 0.012899754 | D29: =D28+C29 -> 0.70223643 | E29: B
A30: VIDRO PLANO TRANSPARENTE LISO, COM 4 MM DE ESPESSURA | B30: =ORÇAMENTO!I46 -> 5772.5465 | C30: =B30/'PLANILHA RESUMO'!C40 -> 0.012596813 | D30: =D29+C30 -> 0.71483325 | E30: B
A31: EMASSAMENTO DE PAREDES E FORROS, COM DUAS DEMÃOS DE MASSA ACRÍLICA, MARCAS DE REFERÊNCIA SUVINIL, CORAL OU METALATEX | B31: =ORÇAMENTO!I58 -> 5283.0088 | C31: =B31/'PLANILHA RESUMO'!C40 -> 0.011528547 | D31: =D30+C31 -> 0.72636179 | E31: B
A32: FORNECIMENTO, DOBRAGEM E COLOCAÇÃO EM FÔRMA, DE ARMADURA CA-50 A MÉDIA, DIÂMETRO DE 6.3 A 10.0 MM | B32: =ORÇAMENTO!I22 -> 5037.65 | C32: =B32/'PLANILHA RESUMO'!C40 -> 0.010993126 | D32: =D31+C32 -> 0.73735492 | E32: B
A33: IMPERMEABILIZAÇÃO DE FLOREIRA OU VIGA BALDRAME COM ARGAMASSA DE CIMENTO E AREIA, COM ADITIVO IMPERMEABILIZANTE, E = 2 CM. AF_06/2018 | B33: =ORÇAMENTO!I50 -> 4646.7373 | C33: =B33/'PLANILHA RESUMO'!C40 -> 0.010140079 | D33: =D32+C33 -> 0.747495 | E33: B
A34: PORTA EM MADEIRA DE LEI TIPO ANGELIM PEDRA OU EQUIV.C/ENCHIMENTO EM MADEIRA 1A.QUALIDADE ESP. 30MM P/ PINTURA, INCLUSIVE ALIZARES, DOBRADIÇAS E FECHADURA EXTERNA EM LATÃO CROMADO LAFONTE OU EQUIV., EXCLUSIVE MARCO, NAS DIM.: 0.80 X 2.10 M | B34: =ORÇAMENTO!I34 -> 4631.9443 | C34: =B34/'PLANILHA RESUMO'!C40 -> 0.010107798 | D34: =D33+C34 -> 0.7576028 | E34: B
A35: PISO DE CIMENTADO CAMURÇADO EXECUTADO COM ARGAMASSA DE CIMENTO E AREIA NO TRAÇO 1:3, ESP. 3.0CM | B35: =ORÇAMENTO!I68 -> 4505.0474 | C35: =B35/'PLANILHA RESUMO'!C40 -> 0.0098308845 | D35: =D34+C35 -> 0.76743368 | E35: B
A36: FIO OU CABO DE COBRE TERMOPLÁSTICO, COM ISOLAMENTO PARA 750V, SEÇÃO DE 16.0 MM2 | B36: =ORÇAMENTO!I119 -> 4235.4556 | C36: =B36/'PLANILHA RESUMO'!C40 -> 0.009242583 | D36: =D35+C36 -> 0.77667626 | E36: B
A37: EXECUÇÃO DE PASSEIO (CALÇADA) OU PISO DE CONCRETO COM CONCRETO MOLDADO IN LOCO, USINADO, ACABAMENTO CONVENCIONAL, ESPESSURA 6 CM, ARMADO. AF_07/2016 | B37: =ORÇAMENTO!I67 -> 4180.0822 | C37: =B37/'PLANILHA RESUMO'!C40 -> 0.0091217475 | D37: =D36+C37 -> 0.78579801 | E37: B
A38: LUMINARIA SOBREPOR COMPL., CORPO CH. AÇO PINTADA BRANCA, REFLETOR ALETAS PARABÓLICAS ALUM.ALTA PUREZA E REFLETÂNCIA INCLUSIVE 2 LÂMPADAS LED T8 20W TEMP. DE COR 5000K BIVOLT C/ 1,20M - REF. CS232AL-N - AMES, 664 - LUMAVI OU EQUIVALENTE | B38: =ORÇAMENTO!I121 -> 4144.1642 | C38: =B38/'PLANILHA RESUMO'!C40 -> 0.0090433676 | D38: =D37+C38 -> 0.79484138 | E38: B
A39: LAVÁTORIO DE CANTO COLEÇÃO MASTER - REF. L76 MARCA DE REF. DECA OU EQUIVALENTE, INCLUSIVE VÁLVULA, SIFÃO E ENGATES CROMADOS, EXCLUSIVE TORNEIRA,PARA PNE | B39: =ORÇAMENTO!I93 -> 4094.4 | C39: =B39/'PLANILHA RESUMO'!C40 -> 0.0089347724 | D39: =D38+C39 -> 0.80377615 | E39: B
A40: PORTA EM MADEIRA DE LEI TIPO ANGELIM PEDRA OU EQUIV.C/ENCHIMENTO EM MADEIRA 1A.QUALIDADE ESP. 30MM P/ PINTURA, INCLUSIVE ALIZARES, DOBRADIÇAS E FECHADURA EXTERNA EM LATÃO CROMADO LAFONTE OU EQUIV., EXCLUSIVE MARCO, NAS DIM.: 0.90 X 2.10 M | B40: =ORÇAMENTO!I36 -> 3763.5423 | C40: =B40/'PLANILHA RESUMO'!C40 -> 0.0082127769 | D40: =D39+C40 -> 0.81198893 | E40: C
A41: RESERVATÓRIO DE POLIETILENO DE 1500L, INCLUSIVE PEÇA 6X16CM PARA APOIO, EXCLUSIVE FLANGES E TORNEIRA DE BÓIA | B41: =ORÇAMENTO!I85 -> 3715.39 | C41: =B41/'PLANILHA RESUMO'!C40 -> 0.0081076993 | D41: =D40+C41 -> 0.82009663 | E41: C
...

Sheet TABELA RESUMO DE COTAÇÕES
A1: TABELA RESUMO DE COTAÇÕES
N2: 0.15 | O2: limite percentual
N4: média1 | O4: média2 | P4: média3 | Q4: média4 | R4: média2 | S4: p1-média1 | T4: p2-média1 | U4: p3-média1 | V4: p1-média2 | W4: p1-média3 | X4: p2-média4
A6: ITEM | B6: DESCRIÇÃO | C6: UNIDADE | D6: QUANTIDADE | L6: PREÇO MÉDIO - VALOR UNIT. (R$) | N6: p1,p2,p3 | O6: p1,p2 | P6: p1,p3 | Q6: p2,p3 | R6: p1,p2
E7: COTAÇÃO 01 | G7: COTAÇÃO 02 | I7: COTAÇÃO 03 | K7: DATA PREÇO 03
A8: C.1 | B8: Refletor 30w | C8: UNIDADE | D8: 1 | E8: 40.43 | F8: ILUMINIM | G8: 38.99 | H8: AMERICANAS | I8: 44.51 | J8: SUSTENTALED | K8: 44743 | L8: =(I8+G8+E8)/3 -> 41.31
A9: C.2 | B9: ALAMBRADO SOLDADO 25X1M FIO 2.3MMX12 | C9: M2 | D9: 1 | E9: 23.39 | F9: CASA E GARAGEM | G9: 23.89 | H9: FERRAMENTAS KENNEDY | I9: 24.3 | J9: SUPERPRO | K9: 44743 | L9: =(I9+G9+E9)/3 -> 23.86
B11: CARLOS RAPHAEL MONTEIRO DE LEMOS
B12: Engenheiro Civil- CREA-ES 011840/D
B13: ES-011840/D
